BEGIN:VCALENDAR
VERSION:2.0
PRODID:-//hacksw/handcal//NONSGML v1.0//EN
CALSCALE:GREGORIAN
X-WR-CALNAME:METODI E TECNICHE INNOVATIVE PER IL SERVIZIO SOCIALE [FM0621]
DESCRIPTION:METODI E TECNICHE INNOVATIVE PER IL SERVIZIO SOCIALE [FM0621]
REFRESH-INTERVAL;VALUE=DURATION:P1D
X-WR-TIMEZONE:Europe/Rome
BEGIN:VEVENT
DTEND:20251112T171500
UID:69e7dc54943c8
DTSTAMP:20260421T202140
LOCATION:Aula Padoan San Sebastiano
SUMMARY:METODI E TECNICHE INNOVATIVE PER IL SERVIZIO SOCIALE [FM0621] - SINIGAGLIA Marilena\, Lezione
URL;VALUE=URI://www.unive.it/data/insegnamento/579039
DTSTART:20251112T154500
END:VEVENT
BEGIN:VEVENT
DTEND:20251112T190000
UID:69e7dc549446c
DTSTAMP:20260421T202140
LOCATION:Aula Padoan San Sebastiano
SUMMARY:METODI E TECNICHE INNOVATIVE PER IL SERVIZIO SOCIALE [FM0621] - SINIGAGLIA Marilena\, Lezione
URL;VALUE=URI://www.unive.it/data/insegnamento/579039
DTSTART:20251112T173000
END:VEVENT
BEGIN:VEVENT
DTEND:20251113T190000
UID:69e7dc54944bd
DTSTAMP:20260421T202140
LOCATION:Aula 1A Polo didattico San Basilio (Magazzino 5)
SUMMARY:METODI E TECNICHE INNOVATIVE PER IL SERVIZIO SOCIALE [FM0621] - SINIGAGLIA Marilena\, Lezione
URL;VALUE=URI://www.unive.it/data/insegnamento/579039
DTSTART:20251113T173000
END:VEVENT
BEGIN:VEVENT
DTEND:20251119T171500
UID:69e7dc549450b
DTSTAMP:20260421T202140
LOCATION:Aula Padoan San Sebastiano
SUMMARY:METODI E TECNICHE INNOVATIVE PER IL SERVIZIO SOCIALE [FM0621] - SINIGAGLIA Marilena\, Lezione
URL;VALUE=URI://www.unive.it/data/insegnamento/579039
DTSTART:20251119T154500
END:VEVENT
BEGIN:VEVENT
DTEND:20251119T190000
UID:69e7dc5494541
DTSTAMP:20260421T202140
LOCATION:Aula Padoan San Sebastiano
SUMMARY:METODI E TECNICHE INNOVATIVE PER IL SERVIZIO SOCIALE [FM0621] - SINIGAGLIA Marilena\, Lezione
URL;VALUE=URI://www.unive.it/data/insegnamento/579039
DTSTART:20251119T173000
END:VEVENT
BEGIN:VEVENT
DTEND:20251120T190000
UID:69e7dc549458e
DTSTAMP:20260421T202140
LOCATION:Aula 1A Polo didattico San Basilio (Magazzino 5)
SUMMARY:METODI E TECNICHE INNOVATIVE PER IL SERVIZIO SOCIALE [FM0621] - SINIGAGLIA Marilena\, Lezione
URL;VALUE=URI://www.unive.it/data/insegnamento/579039
DTSTART:20251120T173000
END:VEVENT
BEGIN:VEVENT
DTEND:20251127T190000
UID:69e7dc54945db
DTSTAMP:20260421T202140
LOCATION:Aula 1A Polo didattico San Basilio (Magazzino 5)
SUMMARY:METODI E TECNICHE INNOVATIVE PER IL SERVIZIO SOCIALE [FM0621] - SINIGAGLIA Marilena\, Lezione
URL;VALUE=URI://www.unive.it/data/insegnamento/579039
DTSTART:20251127T173000
END:VEVENT
BEGIN:VEVENT
DTEND:20251203T171500
UID:69e7dc5494627
DTSTAMP:20260421T202140
LOCATION:Aula Padoan San Sebastiano
SUMMARY:METODI E TECNICHE INNOVATIVE PER IL SERVIZIO SOCIALE [FM0621] - SINIGAGLIA Marilena\, Lezione
URL;VALUE=URI://www.unive.it/data/insegnamento/579039
DTSTART:20251203T154500
END:VEVENT
BEGIN:VEVENT
DTEND:20251203T190000
UID:69e7dc5494672
DTSTAMP:20260421T202140
LOCATION:Aula Padoan San Sebastiano
SUMMARY:METODI E TECNICHE INNOVATIVE PER IL SERVIZIO SOCIALE [FM0621] - SINIGAGLIA Marilena\, Lezione
URL;VALUE=URI://www.unive.it/data/insegnamento/579039
DTSTART:20251203T173000
END:VEVENT
BEGIN:VEVENT
DTEND:20251204T190000
UID:69e7dc54946bf
DTSTAMP:20260421T202140
LOCATION:Aula 1A Polo didattico San Basilio (Magazzino 5)
SUMMARY:METODI E TECNICHE INNOVATIVE PER IL SERVIZIO SOCIALE [FM0621] - SINIGAGLIA Marilena\, Lezione
URL;VALUE=URI://www.unive.it/data/insegnamento/579039
DTSTART:20251204T173000
END:VEVENT
BEGIN:VEVENT
DTEND:20251210T171500
UID:69e7dc549470c
DTSTAMP:20260421T202140
LOCATION:Aula Padoan San Sebastiano
SUMMARY:METODI E TECNICHE INNOVATIVE PER IL SERVIZIO SOCIALE [FM0621] - SINIGAGLIA Marilena\, Lezione
URL;VALUE=URI://www.unive.it/data/insegnamento/579039
DTSTART:20251210T154500
END:VEVENT
BEGIN:VEVENT
DTEND:20251210T190000
UID:69e7dc5494758
DTSTAMP:20260421T202140
LOCATION:Aula Padoan San Sebastiano
SUMMARY:METODI E TECNICHE INNOVATIVE PER IL SERVIZIO SOCIALE [FM0621] - SINIGAGLIA Marilena\, Lezione
URL;VALUE=URI://www.unive.it/data/insegnamento/579039
DTSTART:20251210T173000
END:VEVENT
BEGIN:VEVENT
DTEND:20251211T190000
UID:69e7dc54947a5
DTSTAMP:20260421T202140
LOCATION:Aula 1A Polo didattico San Basilio (Magazzino 5)
SUMMARY:METODI E TECNICHE INNOVATIVE PER IL SERVIZIO SOCIALE [FM0621] - SINIGAGLIA Marilena\, Lezione
URL;VALUE=URI://www.unive.it/data/insegnamento/579039
DTSTART:20251211T173000
END:VEVENT
BEGIN:VEVENT
DTEND:20251217T171500
UID:69e7dc54947f1
DTSTAMP:20260421T202140
LOCATION:Aula Padoan San Sebastiano
SUMMARY:METODI E TECNICHE INNOVATIVE PER IL SERVIZIO SOCIALE [FM0621] - SINIGAGLIA Marilena\, Lezione
URL;VALUE=URI://www.unive.it/data/insegnamento/579039
DTSTART:20251217T154500
END:VEVENT
BEGIN:VEVENT
DTEND:20251217T190000
UID:69e7dc549483d
DTSTAMP:20260421T202140
LOCATION:Aula Padoan San Sebastiano
SUMMARY:METODI E TECNICHE INNOVATIVE PER IL SERVIZIO SOCIALE [FM0621] - SINIGAGLIA Marilena\, Lezione
URL;VALUE=URI://www.unive.it/data/insegnamento/579039
DTSTART:20251217T173000
END:VEVENT
END:VCALENDAR