BEGIN:VCALENDAR
VERSION:2.0
PRODID:-//hacksw/handcal//NONSGML v1.0//EN
CALSCALE:GREGORIAN
X-WR-CALNAME:ANALYTICAL CHEMISTRY IN HERITAGE SCIENCE WITH LABORATORY - 2 [CM0673]
DESCRIPTION:ANALYTICAL CHEMISTRY IN HERITAGE SCIENCE WITH LABORATORY - 2 [CM0673]
REFRESH-INTERVAL;VALUE=DURATION:P1D
X-WR-TIMEZONE:Europe/Rome
BEGIN:VEVENT
DTEND:20260302T120000
UID:69e7962e318b1
DTSTAMP:20260421T152222
LOCATION:Aula Delta 2D Campus scientifico via Torino (edificio Delta)
SUMMARY:ANALYTICAL CHEMISTRY IN HERITAGE SCIENCE WITH LABORATORY - 2 [CM0673] - ROMAN Marco\, Lezione
URL;VALUE=URI://www.unive.it/data/insegnamento/579329
DTSTART:20260302T103000
END:VEVENT
BEGIN:VEVENT
DTEND:20260304T101500
UID:69e7962e31955
DTSTAMP:20260421T152222
LOCATION:Aula Delta 2D Campus scientifico via Torino (edificio Delta)
SUMMARY:ANALYTICAL CHEMISTRY IN HERITAGE SCIENCE WITH LABORATORY - 2 [CM0673] - ROMAN Marco\, Lezione
URL;VALUE=URI://www.unive.it/data/insegnamento/579329
DTSTART:20260304T084500
END:VEVENT
BEGIN:VEVENT
DTEND:20260309T120000
UID:69e7962e319c4
DTSTAMP:20260421T152222
LOCATION:Aula Delta 2D Campus scientifico via Torino (edificio Delta)
SUMMARY:ANALYTICAL CHEMISTRY IN HERITAGE SCIENCE WITH LABORATORY - 2 [CM0673] - ROMAN Marco\, Lezione
URL;VALUE=URI://www.unive.it/data/insegnamento/579329
DTSTART:20260309T103000
END:VEVENT
BEGIN:VEVENT
DTEND:20260311T101500
UID:69e7962e31a24
DTSTAMP:20260421T152222
LOCATION:Aula Delta 2D Campus scientifico via Torino (edificio Delta)
SUMMARY:ANALYTICAL CHEMISTRY IN HERITAGE SCIENCE WITH LABORATORY - 2 [CM0673] - ROMAN Marco\, Lezione
URL;VALUE=URI://www.unive.it/data/insegnamento/579329
DTSTART:20260311T084500
END:VEVENT
BEGIN:VEVENT
DTEND:20260316T120000
UID:69e7962e31a84
DTSTAMP:20260421T152222
LOCATION:Aula Delta 2D Campus scientifico via Torino (edificio Delta)
SUMMARY:ANALYTICAL CHEMISTRY IN HERITAGE SCIENCE WITH LABORATORY - 2 [CM0673] - ROMAN Marco\, Lezione
URL;VALUE=URI://www.unive.it/data/insegnamento/579329
DTSTART:20260316T103000
END:VEVENT
BEGIN:VEVENT
DTEND:20260318T101500
UID:69e7962e31ae1
DTSTAMP:20260421T152222
LOCATION:Aula Delta 2D Campus scientifico via Torino (edificio Delta)
SUMMARY:ANALYTICAL CHEMISTRY IN HERITAGE SCIENCE WITH LABORATORY - 2 [CM0673] - ROMAN Marco\, Lezione
URL;VALUE=URI://www.unive.it/data/insegnamento/579329
DTSTART:20260318T084500
END:VEVENT
BEGIN:VEVENT
DTEND:20260323T120000
UID:69e7962e31b24
DTSTAMP:20260421T152222
LOCATION:Aula Delta 2D Campus scientifico via Torino (edificio Delta)
SUMMARY:ANALYTICAL CHEMISTRY IN HERITAGE SCIENCE WITH LABORATORY - 2 [CM0673] - ROMAN Marco\, Lezione
URL;VALUE=URI://www.unive.it/data/insegnamento/579329
DTSTART:20260323T103000
END:VEVENT
BEGIN:VEVENT
DTEND:20260325T101500
UID:69e7962e31b82
DTSTAMP:20260421T152222
LOCATION:Aula Delta 2D Campus scientifico via Torino (edificio Delta)
SUMMARY:ANALYTICAL CHEMISTRY IN HERITAGE SCIENCE WITH LABORATORY - 2 [CM0673] - ROMAN Marco\, Lezione
URL;VALUE=URI://www.unive.it/data/insegnamento/579329
DTSTART:20260325T084500
END:VEVENT
BEGIN:VEVENT
DTEND:20260330T120000
UID:69e7962e31be0
DTSTAMP:20260421T152222
LOCATION:Aula Delta 2D Campus scientifico via Torino (edificio Delta)
SUMMARY:ANALYTICAL CHEMISTRY IN HERITAGE SCIENCE WITH LABORATORY - 2 [CM0673] - ROMAN Marco\, Lezione
URL;VALUE=URI://www.unive.it/data/insegnamento/579329
DTSTART:20260330T103000
END:VEVENT
BEGIN:VEVENT
DTEND:20260401T101500
UID:69e7962e31c3e
DTSTAMP:20260421T152222
LOCATION:Aula Delta 2D Campus scientifico via Torino (edificio Delta)
SUMMARY:ANALYTICAL CHEMISTRY IN HERITAGE SCIENCE WITH LABORATORY - 2 [CM0673] - ROMAN Marco\, Lezione
URL;VALUE=URI://www.unive.it/data/insegnamento/579329
DTSTART:20260401T084500
END:VEVENT
BEGIN:VEVENT
DTEND:20260408T101500
UID:69e7962e31c9c
DTSTAMP:20260421T152222
LOCATION:Aula Delta 2D Campus scientifico via Torino (edificio Delta)
SUMMARY:ANALYTICAL CHEMISTRY IN HERITAGE SCIENCE WITH LABORATORY - 2 [CM0673] - ROMAN Marco\, Lezione
URL;VALUE=URI://www.unive.it/data/insegnamento/579329
DTSTART:20260408T084500
END:VEVENT
BEGIN:VEVENT
DTEND:20260413T120000
UID:69e7962e31cf9
DTSTAMP:20260421T152222
LOCATION:Aula Delta 2D Campus scientifico via Torino (edificio Delta)
SUMMARY:ANALYTICAL CHEMISTRY IN HERITAGE SCIENCE WITH LABORATORY - 2 [CM0673] - ROMAN Marco\, Lezione
URL;VALUE=URI://www.unive.it/data/insegnamento/579329
DTSTART:20260413T103000
END:VEVENT
BEGIN:VEVENT
DTEND:20260415T101500
UID:69e7962e31d58
DTSTAMP:20260421T152222
LOCATION:Aula Delta 2D Campus scientifico via Torino (edificio Delta)
SUMMARY:ANALYTICAL CHEMISTRY IN HERITAGE SCIENCE WITH LABORATORY - 2 [CM0673] - ROMAN Marco\, Lezione
URL;VALUE=URI://www.unive.it/data/insegnamento/579329
DTSTART:20260415T084500
END:VEVENT
BEGIN:VEVENT
DTEND:20260416T190000
UID:69e7962e31dbc
DTSTAMP:20260421T152222
LOCATION:Laboratorio di Restauro Campus scientifico via Torino (edificio Epsilon)
SUMMARY:ANALYTICAL CHEMISTRY IN HERITAGE SCIENCE WITH LABORATORY - 2 [CM0673] - ROMAN Marco\, Laboratorio
URL;VALUE=URI://www.unive.it/data/insegnamento/579329
DTSTART:20260416T140000
END:VEVENT
BEGIN:VEVENT
DTEND:20260420T120000
UID:69e7962e31e1c
DTSTAMP:20260421T152222
LOCATION:Aula Delta 2D Campus scientifico via Torino (edificio Delta)
SUMMARY:ANALYTICAL CHEMISTRY IN HERITAGE SCIENCE WITH LABORATORY - 2 [CM0673] - ROMAN Marco\, Lezione
URL;VALUE=URI://www.unive.it/data/insegnamento/579329
DTSTART:20260420T103000
END:VEVENT
BEGIN:VEVENT
DTEND:20260422T101500
UID:69e7962e31e79
DTSTAMP:20260421T152222
LOCATION:Aula Delta 2D Campus scientifico via Torino (edificio Delta)
SUMMARY:ANALYTICAL CHEMISTRY IN HERITAGE SCIENCE WITH LABORATORY - 2 [CM0673] - ROMAN Marco\, Lezione
URL;VALUE=URI://www.unive.it/data/insegnamento/579329
DTSTART:20260422T084500
END:VEVENT
BEGIN:VEVENT
DTEND:20260423T190000
UID:69e7962e31ed7
DTSTAMP:20260421T152222
LOCATION:Laboratorio di Restauro Campus scientifico via Torino (edificio Epsilon)
SUMMARY:ANALYTICAL CHEMISTRY IN HERITAGE SCIENCE WITH LABORATORY - 2 [CM0673] - ROMAN Marco\, Laboratorio
URL;VALUE=URI://www.unive.it/data/insegnamento/579329
DTSTART:20260423T140000
END:VEVENT
BEGIN:VEVENT
DTEND:20260430T190000
UID:69e7962e31f09
DTSTAMP:20260421T152222
LOCATION:Laboratorio di Restauro Campus scientifico via Torino (edificio Epsilon)
SUMMARY:ANALYTICAL CHEMISTRY IN HERITAGE SCIENCE WITH LABORATORY - 2 [CM0673] - ROMAN Marco\, Laboratorio
URL;VALUE=URI://www.unive.it/data/insegnamento/579329
DTSTART:20260430T140000
END:VEVENT
END:VCALENDAR