BEGIN:VCALENDAR
VERSION:2.0
PRODID:-//hacksw/handcal//NONSGML v1.0//EN
CALSCALE:GREGORIAN
X-WR-CALNAME:ANALYTICAL CHEMISTRY IN HERITAGE SCIENCE WITH LABORATORY - 1 [CM0673]
DESCRIPTION:ANALYTICAL CHEMISTRY IN HERITAGE SCIENCE WITH LABORATORY - 1 [CM0673]
REFRESH-INTERVAL;VALUE=DURATION:P1D
X-WR-TIMEZONE:Europe/Rome
BEGIN:VEVENT
DTEND:20260302T101500
UID:69e7962e26b43
DTSTAMP:20260421T152222
LOCATION:Aula Delta 2D Campus scientifico via Torino (edificio Delta)
SUMMARY:ANALYTICAL CHEMISTRY IN HERITAGE SCIENCE WITH LABORATORY - 1 [CM0673] - BALLIANA Eleonora\, Lezione
URL;VALUE=URI://www.unive.it/data/insegnamento/579330
DTSTART:20260302T084500
END:VEVENT
BEGIN:VEVENT
DTEND:20260304T120000
UID:69e7962e26bf6
DTSTAMP:20260421T152222
LOCATION:Aula Delta 2D Campus scientifico via Torino (edificio Delta)
SUMMARY:ANALYTICAL CHEMISTRY IN HERITAGE SCIENCE WITH LABORATORY - 1 [CM0673] - BALLIANA Eleonora\, Lezione
URL;VALUE=URI://www.unive.it/data/insegnamento/579330
DTSTART:20260304T103000
END:VEVENT
BEGIN:VEVENT
DTEND:20260309T101500
UID:69e7962e26c4b
DTSTAMP:20260421T152222
LOCATION:Aula Delta 2D Campus scientifico via Torino (edificio Delta)
SUMMARY:ANALYTICAL CHEMISTRY IN HERITAGE SCIENCE WITH LABORATORY - 1 [CM0673] - BALLIANA Eleonora\, Lezione
URL;VALUE=URI://www.unive.it/data/insegnamento/579330
DTSTART:20260309T084500
END:VEVENT
BEGIN:VEVENT
DTEND:20260311T120000
UID:69e7962e26c9b
DTSTAMP:20260421T152222
LOCATION:Aula Delta 2D Campus scientifico via Torino (edificio Delta)
SUMMARY:ANALYTICAL CHEMISTRY IN HERITAGE SCIENCE WITH LABORATORY - 1 [CM0673] - BALLIANA Eleonora\, Lezione
URL;VALUE=URI://www.unive.it/data/insegnamento/579330
DTSTART:20260311T103000
END:VEVENT
BEGIN:VEVENT
DTEND:20260316T101500
UID:69e7962e26ce8
DTSTAMP:20260421T152222
LOCATION:Aula Delta 2D Campus scientifico via Torino (edificio Delta)
SUMMARY:ANALYTICAL CHEMISTRY IN HERITAGE SCIENCE WITH LABORATORY - 1 [CM0673] - BALLIANA Eleonora\, Lezione
URL;VALUE=URI://www.unive.it/data/insegnamento/579330
DTSTART:20260316T084500
END:VEVENT
BEGIN:VEVENT
DTEND:20260318T120000
UID:69e7962e26d35
DTSTAMP:20260421T152222
LOCATION:Aula Delta 2D Campus scientifico via Torino (edificio Delta)
SUMMARY:ANALYTICAL CHEMISTRY IN HERITAGE SCIENCE WITH LABORATORY - 1 [CM0673] - BALLIANA Eleonora\, Lezione
URL;VALUE=URI://www.unive.it/data/insegnamento/579330
DTSTART:20260318T103000
END:VEVENT
BEGIN:VEVENT
DTEND:20260323T101500
UID:69e7962e26d82
DTSTAMP:20260421T152222
LOCATION:Aula Delta 2D Campus scientifico via Torino (edificio Delta)
SUMMARY:ANALYTICAL CHEMISTRY IN HERITAGE SCIENCE WITH LABORATORY - 1 [CM0673] - BALLIANA Eleonora\, Lezione
URL;VALUE=URI://www.unive.it/data/insegnamento/579330
DTSTART:20260323T084500
END:VEVENT
BEGIN:VEVENT
DTEND:20260325T120000
UID:69e7962e26dcf
DTSTAMP:20260421T152222
LOCATION:Aula Delta 2D Campus scientifico via Torino (edificio Delta)
SUMMARY:ANALYTICAL CHEMISTRY IN HERITAGE SCIENCE WITH LABORATORY - 1 [CM0673] - BALLIANA Eleonora\, Lezione
URL;VALUE=URI://www.unive.it/data/insegnamento/579330
DTSTART:20260325T103000
END:VEVENT
BEGIN:VEVENT
DTEND:20260330T101500
UID:69e7962e26e1b
DTSTAMP:20260421T152222
LOCATION:Aula Delta 2D Campus scientifico via Torino (edificio Delta)
SUMMARY:ANALYTICAL CHEMISTRY IN HERITAGE SCIENCE WITH LABORATORY - 1 [CM0673] - BALLIANA Eleonora\, Lezione
URL;VALUE=URI://www.unive.it/data/insegnamento/579330
DTSTART:20260330T084500
END:VEVENT
BEGIN:VEVENT
DTEND:20260401T120000
UID:69e7962e26e68
DTSTAMP:20260421T152222
LOCATION:Aula Delta 2D Campus scientifico via Torino (edificio Delta)
SUMMARY:ANALYTICAL CHEMISTRY IN HERITAGE SCIENCE WITH LABORATORY - 1 [CM0673] - BALLIANA Eleonora\, Lezione
URL;VALUE=URI://www.unive.it/data/insegnamento/579330
DTSTART:20260401T103000
END:VEVENT
BEGIN:VEVENT
DTEND:20260408T120000
UID:69e7962e26eb4
DTSTAMP:20260421T152222
LOCATION:Aula Delta 2D Campus scientifico via Torino (edificio Delta)
SUMMARY:ANALYTICAL CHEMISTRY IN HERITAGE SCIENCE WITH LABORATORY - 1 [CM0673] - BALLIANA Eleonora\, Lezione
URL;VALUE=URI://www.unive.it/data/insegnamento/579330
DTSTART:20260408T103000
END:VEVENT
BEGIN:VEVENT
DTEND:20260413T101500
UID:69e7962e26f01
DTSTAMP:20260421T152222
LOCATION:Aula Delta 2D Campus scientifico via Torino (edificio Delta)
SUMMARY:ANALYTICAL CHEMISTRY IN HERITAGE SCIENCE WITH LABORATORY - 1 [CM0673] - BALLIANA Eleonora\, Lezione
URL;VALUE=URI://www.unive.it/data/insegnamento/579330
DTSTART:20260413T084500
END:VEVENT
BEGIN:VEVENT
DTEND:20260415T120000
UID:69e7962e26f46
DTSTAMP:20260421T152222
LOCATION:Aula Delta 2D Campus scientifico via Torino (edificio Delta)
SUMMARY:ANALYTICAL CHEMISTRY IN HERITAGE SCIENCE WITH LABORATORY - 1 [CM0673] - BALLIANA Eleonora\, Lezione
URL;VALUE=URI://www.unive.it/data/insegnamento/579330
DTSTART:20260415T103000
END:VEVENT
BEGIN:VEVENT
DTEND:20260420T101500
UID:69e7962e26f94
DTSTAMP:20260421T152222
LOCATION:Aula Delta 2D Campus scientifico via Torino (edificio Delta)
SUMMARY:ANALYTICAL CHEMISTRY IN HERITAGE SCIENCE WITH LABORATORY - 1 [CM0673] - BALLIANA Eleonora\, Lezione
URL;VALUE=URI://www.unive.it/data/insegnamento/579330
DTSTART:20260420T084500
END:VEVENT
BEGIN:VEVENT
DTEND:20260422T120000
UID:69e7962e26fe0
DTSTAMP:20260421T152222
LOCATION:Aula Delta 2D Campus scientifico via Torino (edificio Delta)
SUMMARY:ANALYTICAL CHEMISTRY IN HERITAGE SCIENCE WITH LABORATORY - 1 [CM0673] - BALLIANA Eleonora\, Lezione
URL;VALUE=URI://www.unive.it/data/insegnamento/579330
DTSTART:20260422T103000
END:VEVENT
BEGIN:VEVENT
DTEND:20260429T140000
UID:69e7962e2702d
DTSTAMP:20260421T152222
LOCATION:Aula Delta 2D Campus scientifico via Torino (edificio Delta)
SUMMARY:ANALYTICAL CHEMISTRY IN HERITAGE SCIENCE WITH LABORATORY - 1 [CM0673] - BALLIANA Eleonora\, Laboratorio
URL;VALUE=URI://www.unive.it/data/insegnamento/579330
DTSTART:20260429T084500
END:VEVENT
BEGIN:VEVENT
DTEND:20260506T140000
UID:69e7962e27079
DTSTAMP:20260421T152222
LOCATION:Aula Delta 2D Campus scientifico via Torino (edificio Delta)
SUMMARY:ANALYTICAL CHEMISTRY IN HERITAGE SCIENCE WITH LABORATORY - 1 [CM0673] - BALLIANA Eleonora\, Laboratorio
URL;VALUE=URI://www.unive.it/data/insegnamento/579330
DTSTART:20260506T084500
END:VEVENT
BEGIN:VEVENT
DTEND:20260513T140000
UID:69e7962e270c6
DTSTAMP:20260421T152222
LOCATION:Aula Delta 2D Campus scientifico via Torino (edificio Delta)
SUMMARY:ANALYTICAL CHEMISTRY IN HERITAGE SCIENCE WITH LABORATORY - 1 [CM0673] - BALLIANA Eleonora\, Laboratorio
URL;VALUE=URI://www.unive.it/data/insegnamento/579330
DTSTART:20260513T084500
END:VEVENT
END:VCALENDAR