BEGIN:VCALENDAR
VERSION:2.0
PRODID:-//hacksw/handcal//NONSGML v1.0//EN
CALSCALE:GREGORIAN
X-WR-CALNAME:AMERICA INDIGENA E STATI NAZIONALI [FM1003]
DESCRIPTION:AMERICA INDIGENA E STATI NAZIONALI [FM1003]
REFRESH-INTERVAL;VALUE=DURATION:P1D
X-WR-TIMEZONE:Europe/Rome
BEGIN:VEVENT
DTEND:20260506T163000
UID:69e730e2dc54c
DTSTAMP:20260421T081010
LOCATION:ALTRO Altro
SUMMARY:AMERICA INDIGENA E STATI NAZIONALI [FM1003] - SCHMIDT DONATELLA\, Lezione
URL;VALUE=URI://www.unive.it/data/insegnamento/580020
DTSTART:20260506T143000
END:VEVENT
BEGIN:VEVENT
DTEND:20260511T163000
UID:69e730e2ddf02
DTSTAMP:20260421T081010
LOCATION:ALTRO Altro
SUMMARY:AMERICA INDIGENA E STATI NAZIONALI [FM1003] - SCHMIDT DONATELLA\, Lezione
URL;VALUE=URI://www.unive.it/data/insegnamento/580020
DTSTART:20260511T143000
END:VEVENT
BEGIN:VEVENT
DTEND:20260512T163000
UID:69e730e2ddf6f
DTSTAMP:20260421T081010
LOCATION:ALTRO Altro
SUMMARY:AMERICA INDIGENA E STATI NAZIONALI [FM1003] - SCHMIDT DONATELLA\, Lezione
URL;VALUE=URI://www.unive.it/data/insegnamento/580020
DTSTART:20260512T143000
END:VEVENT
BEGIN:VEVENT
DTEND:20260513T163000
UID:69e730e2ddfc3
DTSTAMP:20260421T081010
LOCATION:ALTRO Altro
SUMMARY:AMERICA INDIGENA E STATI NAZIONALI [FM1003] - SCHMIDT DONATELLA\, Lezione
URL;VALUE=URI://www.unive.it/data/insegnamento/580020
DTSTART:20260513T143000
END:VEVENT
BEGIN:VEVENT
DTEND:20260518T163000
UID:69e730e2de012
DTSTAMP:20260421T081010
LOCATION:ALTRO Altro
SUMMARY:AMERICA INDIGENA E STATI NAZIONALI [FM1003] - SCHMIDT DONATELLA\, Lezione
URL;VALUE=URI://www.unive.it/data/insegnamento/580020
DTSTART:20260518T143000
END:VEVENT
BEGIN:VEVENT
DTEND:20260519T163000
UID:69e730e2de060
DTSTAMP:20260421T081010
LOCATION:ALTRO Altro
SUMMARY:AMERICA INDIGENA E STATI NAZIONALI [FM1003] - SCHMIDT DONATELLA\, Lezione
URL;VALUE=URI://www.unive.it/data/insegnamento/580020
DTSTART:20260519T143000
END:VEVENT
BEGIN:VEVENT
DTEND:20260520T163000
UID:69e730e2de0aa
DTSTAMP:20260421T081010
LOCATION:ALTRO Altro
SUMMARY:AMERICA INDIGENA E STATI NAZIONALI [FM1003] - SCHMIDT DONATELLA\, Lezione
URL;VALUE=URI://www.unive.it/data/insegnamento/580020
DTSTART:20260520T143000
END:VEVENT
BEGIN:VEVENT
DTEND:20260525T163000
UID:69e730e2de108
DTSTAMP:20260421T081010
LOCATION:ALTRO Altro
SUMMARY:AMERICA INDIGENA E STATI NAZIONALI [FM1003] - SCHMIDT DONATELLA\, Lezione
URL;VALUE=URI://www.unive.it/data/insegnamento/580020
DTSTART:20260525T143000
END:VEVENT
BEGIN:VEVENT
DTEND:20260526T163000
UID:69e730e2de157
DTSTAMP:20260421T081010
LOCATION:ALTRO Altro
SUMMARY:AMERICA INDIGENA E STATI NAZIONALI [FM1003] - SCHMIDT DONATELLA\, Lezione
URL;VALUE=URI://www.unive.it/data/insegnamento/580020
DTSTART:20260526T143000
END:VEVENT
BEGIN:VEVENT
DTEND:20260527T163000
UID:69e730e2de1ab
DTSTAMP:20260421T081010
LOCATION:ALTRO Altro
SUMMARY:AMERICA INDIGENA E STATI NAZIONALI [FM1003] - SCHMIDT DONATELLA\, Lezione
URL;VALUE=URI://www.unive.it/data/insegnamento/580020
DTSTART:20260527T143000
END:VEVENT
BEGIN:VEVENT
DTEND:20260603T163000
UID:69e730e2de1f6
DTSTAMP:20260421T081010
LOCATION:ALTRO Altro
SUMMARY:AMERICA INDIGENA E STATI NAZIONALI [FM1003] - SCHMIDT DONATELLA\, Lezione
URL;VALUE=URI://www.unive.it/data/insegnamento/580020
DTSTART:20260603T143000
END:VEVENT
BEGIN:VEVENT
DTEND:20260608T163000
UID:69e730e2de241
DTSTAMP:20260421T081010
LOCATION:ALTRO Altro
SUMMARY:AMERICA INDIGENA E STATI NAZIONALI [FM1003] - SCHMIDT DONATELLA\, Lezione
URL;VALUE=URI://www.unive.it/data/insegnamento/580020
DTSTART:20260608T143000
END:VEVENT
BEGIN:VEVENT
DTEND:20260609T163000
UID:69e730e2de28d
DTSTAMP:20260421T081010
LOCATION:ALTRO Altro
SUMMARY:AMERICA INDIGENA E STATI NAZIONALI [FM1003] - SCHMIDT DONATELLA\, Lezione
URL;VALUE=URI://www.unive.it/data/insegnamento/580020
DTSTART:20260609T143000
END:VEVENT
BEGIN:VEVENT
DTEND:20260610T163000
UID:69e730e2de2d9
DTSTAMP:20260421T081010
LOCATION:ALTRO Altro
SUMMARY:AMERICA INDIGENA E STATI NAZIONALI [FM1003] - SCHMIDT DONATELLA\, Lezione
URL;VALUE=URI://www.unive.it/data/insegnamento/580020
DTSTART:20260610T143000
END:VEVENT
END:VCALENDAR