BEGIN:VCALENDAR
VERSION:2.0
PRODID:-//hacksw/handcal//NONSGML v1.0//EN
CALSCALE:GREGORIAN
X-WR-CALNAME:TEORIA E CRITICA DEL DIRITTO [FM0654]
DESCRIPTION:TEORIA E CRITICA DEL DIRITTO [FM0654]
REFRESH-INTERVAL;VALUE=DURATION:P1D
X-WR-TIMEZONE:Europe/Rome
BEGIN:VEVENT
DTEND:20250922T101500
UID:69e71ca4c369e
DTSTAMP:20260421T064348
LOCATION:Aula 1E Polo didattico San Basilio (Magazzino 5)
SUMMARY:TEORIA E CRITICA DEL DIRITTO [FM0654] - CHIARAMONTE Xenia Manuela\, Lezione
URL;VALUE=URI://www.unive.it/data/insegnamento/581010
DTSTART:20250922T084500
END:VEVENT
BEGIN:VEVENT
DTEND:20250923T101500
UID:69e71ca4c372c
DTSTAMP:20260421T064348
LOCATION:Aula 1A Polo didattico San Basilio (Magazzino 5)
SUMMARY:TEORIA E CRITICA DEL DIRITTO [FM0654] - CHIARAMONTE Xenia Manuela\, Lezione
URL;VALUE=URI://www.unive.it/data/insegnamento/581010
DTSTART:20250923T084500
END:VEVENT
BEGIN:VEVENT
DTEND:20250925T101500
UID:69e71ca4c3780
DTSTAMP:20260421T064348
LOCATION:Aula 3 San Sebastiano
SUMMARY:TEORIA E CRITICA DEL DIRITTO [FM0654] - CHIARAMONTE Xenia Manuela\, Lezione
URL;VALUE=URI://www.unive.it/data/insegnamento/581010
DTSTART:20250925T084500
END:VEVENT
BEGIN:VEVENT
DTEND:20250929T101500
UID:69e71ca4c37d3
DTSTAMP:20260421T064348
LOCATION:Aula 1E Polo didattico San Basilio (Magazzino 5)
SUMMARY:TEORIA E CRITICA DEL DIRITTO [FM0654] - CHIARAMONTE Xenia Manuela\, Lezione
URL;VALUE=URI://www.unive.it/data/insegnamento/581010
DTSTART:20250929T084500
END:VEVENT
BEGIN:VEVENT
DTEND:20250930T101500
UID:69e71ca4c3823
DTSTAMP:20260421T064348
LOCATION:Aula 1A Polo didattico San Basilio (Magazzino 5)
SUMMARY:TEORIA E CRITICA DEL DIRITTO [FM0654] - CHIARAMONTE Xenia Manuela\, Lezione
URL;VALUE=URI://www.unive.it/data/insegnamento/581010
DTSTART:20250930T084500
END:VEVENT
BEGIN:VEVENT
DTEND:20251002T101500
UID:69e71ca4c3870
DTSTAMP:20260421T064348
LOCATION:Aula 3 San Sebastiano
SUMMARY:TEORIA E CRITICA DEL DIRITTO [FM0654] - CHIARAMONTE Xenia Manuela\, Lezione
URL;VALUE=URI://www.unive.it/data/insegnamento/581010
DTSTART:20251002T084500
END:VEVENT
BEGIN:VEVENT
DTEND:20251006T101500
UID:69e71ca4c38bb
DTSTAMP:20260421T064348
LOCATION:Aula 1E Polo didattico San Basilio (Magazzino 5)
SUMMARY:TEORIA E CRITICA DEL DIRITTO [FM0654] - CHIARAMONTE Xenia Manuela\, Lezione
URL;VALUE=URI://www.unive.it/data/insegnamento/581010
DTSTART:20251006T084500
END:VEVENT
BEGIN:VEVENT
DTEND:20251007T101500
UID:69e71ca4c3907
DTSTAMP:20260421T064348
LOCATION:Aula 1A Polo didattico San Basilio (Magazzino 5)
SUMMARY:TEORIA E CRITICA DEL DIRITTO [FM0654] - CHIARAMONTE Xenia Manuela\, Lezione
URL;VALUE=URI://www.unive.it/data/insegnamento/581010
DTSTART:20251007T084500
END:VEVENT
BEGIN:VEVENT
DTEND:20251009T101500
UID:69e71ca4c3953
DTSTAMP:20260421T064348
LOCATION:Aula 3 San Sebastiano
SUMMARY:TEORIA E CRITICA DEL DIRITTO [FM0654] - CHIARAMONTE Xenia Manuela\, Lezione
URL;VALUE=URI://www.unive.it/data/insegnamento/581010
DTSTART:20251009T084500
END:VEVENT
BEGIN:VEVENT
DTEND:20251013T101500
UID:69e71ca4c399e
DTSTAMP:20260421T064348
LOCATION:Aula 1E Polo didattico San Basilio (Magazzino 5)
SUMMARY:TEORIA E CRITICA DEL DIRITTO [FM0654] - CHIARAMONTE Xenia Manuela\, Lezione
URL;VALUE=URI://www.unive.it/data/insegnamento/581010
DTSTART:20251013T084500
END:VEVENT
BEGIN:VEVENT
DTEND:20251014T101500
UID:69e71ca4c39ea
DTSTAMP:20260421T064348
LOCATION:Aula 1A Polo didattico San Basilio (Magazzino 5)
SUMMARY:TEORIA E CRITICA DEL DIRITTO [FM0654] - CHIARAMONTE Xenia Manuela\, Lezione
URL;VALUE=URI://www.unive.it/data/insegnamento/581010
DTSTART:20251014T084500
END:VEVENT
BEGIN:VEVENT
DTEND:20251016T101500
UID:69e71ca4c3a36
DTSTAMP:20260421T064348
LOCATION:Aula 3 San Sebastiano
SUMMARY:TEORIA E CRITICA DEL DIRITTO [FM0654] - CHIARAMONTE Xenia Manuela\, Lezione
URL;VALUE=URI://www.unive.it/data/insegnamento/581010
DTSTART:20251016T084500
END:VEVENT
BEGIN:VEVENT
DTEND:20251020T101500
UID:69e71ca4c3a80
DTSTAMP:20260421T064348
LOCATION:Aula 1E Polo didattico San Basilio (Magazzino 5)
SUMMARY:TEORIA E CRITICA DEL DIRITTO [FM0654] - CHIARAMONTE Xenia Manuela\, Lezione
URL;VALUE=URI://www.unive.it/data/insegnamento/581010
DTSTART:20251020T084500
END:VEVENT
BEGIN:VEVENT
DTEND:20251021T101500
UID:69e71ca4c3acc
DTSTAMP:20260421T064348
LOCATION:Aula 1A Polo didattico San Basilio (Magazzino 5)
SUMMARY:TEORIA E CRITICA DEL DIRITTO [FM0654] - CHIARAMONTE Xenia Manuela\, Lezione
URL;VALUE=URI://www.unive.it/data/insegnamento/581010
DTSTART:20251021T084500
END:VEVENT
BEGIN:VEVENT
DTEND:20251023T101500
UID:69e71ca4c3b10
DTSTAMP:20260421T064348
LOCATION:Aula 3 San Sebastiano
SUMMARY:TEORIA E CRITICA DEL DIRITTO [FM0654] - CHIARAMONTE Xenia Manuela\, Lezione
URL;VALUE=URI://www.unive.it/data/insegnamento/581010
DTSTART:20251023T084500
END:VEVENT
BEGIN:VEVENT
DTEND:20251027T101500
UID:69e71ca4c3b5b
DTSTAMP:20260421T064348
LOCATION:Aula 1E Polo didattico San Basilio (Magazzino 5)
SUMMARY:TEORIA E CRITICA DEL DIRITTO [FM0654] - CHIARAMONTE Xenia Manuela\, Lezione
URL;VALUE=URI://www.unive.it/data/insegnamento/581010
DTSTART:20251027T084500
END:VEVENT
BEGIN:VEVENT
DTEND:20251028T101500
UID:69e71ca4c3ba8
DTSTAMP:20260421T064348
LOCATION:Aula 1A Polo didattico San Basilio (Magazzino 5)
SUMMARY:TEORIA E CRITICA DEL DIRITTO [FM0654] - CHIARAMONTE Xenia Manuela\, Lezione
URL;VALUE=URI://www.unive.it/data/insegnamento/581010
DTSTART:20251028T084500
END:VEVENT
BEGIN:VEVENT
DTEND:20251030T101500
UID:69e71ca4c3bfc
DTSTAMP:20260421T064348
LOCATION:Aula 3 San Sebastiano
SUMMARY:TEORIA E CRITICA DEL DIRITTO [FM0654] - CHIARAMONTE Xenia Manuela\, Lezione
URL;VALUE=URI://www.unive.it/data/insegnamento/581010
DTSTART:20251030T084500
END:VEVENT
END:VCALENDAR