BEGIN:VCALENDAR
VERSION:2.0
PRODID:-//hacksw/handcal//NONSGML v1.0//EN
CALSCALE:GREGORIAN
X-WR-CALNAME:STORIA DELL'ARTE CINESE 2 [LT0390]
DESCRIPTION:STORIA DELL'ARTE CINESE 2 [LT0390]
REFRESH-INTERVAL;VALUE=DURATION:P1D
X-WR-TIMEZONE:Europe/Rome
BEGIN:VEVENT
DTEND:20260224T134500
UID:69e7962f8358b
DTSTAMP:20260421T152223
LOCATION:Aula 2C Polo didattico San Basilio (Magazzino 5)
SUMMARY:STORIA DELL'ARTE CINESE 2 [LT0390] - RASTELLI Sabrina\, Lezione
URL;VALUE=URI://www.unive.it/data/insegnamento/581016
DTSTART:20260224T121500
END:VEVENT
BEGIN:VEVENT
DTEND:20260303T134500
UID:69e7962f83619
DTSTAMP:20260421T152223
LOCATION:Aula 2C Polo didattico San Basilio (Magazzino 5)
SUMMARY:STORIA DELL'ARTE CINESE 2 [LT0390] - RASTELLI Sabrina\, Lezione
URL;VALUE=URI://www.unive.it/data/insegnamento/581016
DTSTART:20260303T121500
END:VEVENT
BEGIN:VEVENT
DTEND:20260310T134500
UID:69e7962f8366c
DTSTAMP:20260421T152223
LOCATION:Aula 2C Polo didattico San Basilio (Magazzino 5)
SUMMARY:STORIA DELL'ARTE CINESE 2 [LT0390] - RASTELLI Sabrina\, Lezione
URL;VALUE=URI://www.unive.it/data/insegnamento/581016
DTSTART:20260310T121500
END:VEVENT
BEGIN:VEVENT
DTEND:20260317T134500
UID:69e7962f836bb
DTSTAMP:20260421T152223
LOCATION:Aula 2C Polo didattico San Basilio (Magazzino 5)
SUMMARY:STORIA DELL'ARTE CINESE 2 [LT0390] - RASTELLI Sabrina\, Lezione
URL;VALUE=URI://www.unive.it/data/insegnamento/581016
DTSTART:20260317T121500
END:VEVENT
BEGIN:VEVENT
DTEND:20260324T134500
UID:69e7962f83708
DTSTAMP:20260421T152223
LOCATION:Aula 2C Polo didattico San Basilio (Magazzino 5)
SUMMARY:STORIA DELL'ARTE CINESE 2 [LT0390] - RASTELLI Sabrina\, Lezione
URL;VALUE=URI://www.unive.it/data/insegnamento/581016
DTSTART:20260324T121500
END:VEVENT
BEGIN:VEVENT
DTEND:20260331T134500
UID:69e7962f83753
DTSTAMP:20260421T152223
LOCATION:Aula 2C Polo didattico San Basilio (Magazzino 5)
SUMMARY:STORIA DELL'ARTE CINESE 2 [LT0390] - RASTELLI Sabrina\, Lezione
URL;VALUE=URI://www.unive.it/data/insegnamento/581016
DTSTART:20260331T121500
END:VEVENT
BEGIN:VEVENT
DTEND:20260407T134500
UID:69e7962f837ab
DTSTAMP:20260421T152223
LOCATION:Aula 2C Polo didattico San Basilio (Magazzino 5)
SUMMARY:STORIA DELL'ARTE CINESE 2 [LT0390] - RASTELLI Sabrina\, Lezione
URL;VALUE=URI://www.unive.it/data/insegnamento/581016
DTSTART:20260407T121500
END:VEVENT
BEGIN:VEVENT
DTEND:20260414T134500
UID:69e7962f83800
DTSTAMP:20260421T152223
LOCATION:Aula 2C Polo didattico San Basilio (Magazzino 5)
SUMMARY:STORIA DELL'ARTE CINESE 2 [LT0390] - RASTELLI Sabrina\, Lezione
URL;VALUE=URI://www.unive.it/data/insegnamento/581016
DTSTART:20260414T121500
END:VEVENT
BEGIN:VEVENT
DTEND:20260421T134500
UID:69e7962f8384c
DTSTAMP:20260421T152223
LOCATION:Aula 2C Polo didattico San Basilio (Magazzino 5)
SUMMARY:STORIA DELL'ARTE CINESE 2 [LT0390] - RASTELLI Sabrina\, Lezione
URL;VALUE=URI://www.unive.it/data/insegnamento/581016
DTSTART:20260421T121500
END:VEVENT
BEGIN:VEVENT
DTEND:20260428T134500
UID:69e7962f83896
DTSTAMP:20260421T152223
LOCATION:Aula 2C Polo didattico San Basilio (Magazzino 5)
SUMMARY:STORIA DELL'ARTE CINESE 2 [LT0390] - RASTELLI Sabrina\, Lezione
URL;VALUE=URI://www.unive.it/data/insegnamento/581016
DTSTART:20260428T121500
END:VEVENT
BEGIN:VEVENT
DTEND:20260505T134500
UID:69e7962f838e1
DTSTAMP:20260421T152223
LOCATION:Aula 2C Polo didattico San Basilio (Magazzino 5)
SUMMARY:STORIA DELL'ARTE CINESE 2 [LT0390] - RASTELLI Sabrina\, Lezione
URL;VALUE=URI://www.unive.it/data/insegnamento/581016
DTSTART:20260505T121500
END:VEVENT
BEGIN:VEVENT
DTEND:20260512T134500
UID:69e7962f8392b
DTSTAMP:20260421T152223
LOCATION:Aula 2C Polo didattico San Basilio (Magazzino 5)
SUMMARY:STORIA DELL'ARTE CINESE 2 [LT0390] - RASTELLI Sabrina\, Lezione
URL;VALUE=URI://www.unive.it/data/insegnamento/581016
DTSTART:20260512T121500
END:VEVENT
BEGIN:VEVENT
DTEND:20260519T134500
UID:69e7962f83976
DTSTAMP:20260421T152223
LOCATION:Aula 2C Polo didattico San Basilio (Magazzino 5)
SUMMARY:STORIA DELL'ARTE CINESE 2 [LT0390] - RASTELLI Sabrina\, Lezione
URL;VALUE=URI://www.unive.it/data/insegnamento/581016
DTSTART:20260519T121500
END:VEVENT
BEGIN:VEVENT
DTEND:20260526T134500
UID:69e7962f839c0
DTSTAMP:20260421T152223
LOCATION:Aula 2C Polo didattico San Basilio (Magazzino 5)
SUMMARY:STORIA DELL'ARTE CINESE 2 [LT0390] - RASTELLI Sabrina\, Lezione
URL;VALUE=URI://www.unive.it/data/insegnamento/581016
DTSTART:20260526T121500
END:VEVENT
END:VCALENDAR