BEGIN:VCALENDAR
VERSION:2.0
PRODID:-//hacksw/handcal//NONSGML v1.0//EN
CALSCALE:GREGORIAN
X-WR-CALNAME:STORIA DELL'ARTE CINESE 1 [LT0380]
DESCRIPTION:STORIA DELL'ARTE CINESE 1 [LT0380]
REFRESH-INTERVAL;VALUE=DURATION:P1D
X-WR-TIMEZONE:Europe/Rome
BEGIN:VEVENT
DTEND:20260223T153000
UID:69e78f913e79f
DTSTAMP:20260421T145409
LOCATION:Aula 2B Polo didattico San Basilio (Magazzino 5)
SUMMARY:STORIA DELL'ARTE CINESE 1 [LT0380] - RASTELLI Sabrina\, Lezione
URL;VALUE=URI://www.unive.it/data/insegnamento/581025
DTSTART:20260223T140000
END:VEVENT
BEGIN:VEVENT
DTEND:20260302T153000
UID:69e78f913e826
DTSTAMP:20260421T145409
LOCATION:Aula 2B Polo didattico San Basilio (Magazzino 5)
SUMMARY:STORIA DELL'ARTE CINESE 1 [LT0380] - RASTELLI Sabrina\, Lezione
URL;VALUE=URI://www.unive.it/data/insegnamento/581025
DTSTART:20260302T140000
END:VEVENT
BEGIN:VEVENT
DTEND:20260309T153000
UID:69e78f913e877
DTSTAMP:20260421T145409
LOCATION:Aula 2B Polo didattico San Basilio (Magazzino 5)
SUMMARY:STORIA DELL'ARTE CINESE 1 [LT0380] - RASTELLI Sabrina\, Lezione
URL;VALUE=URI://www.unive.it/data/insegnamento/581025
DTSTART:20260309T140000
END:VEVENT
BEGIN:VEVENT
DTEND:20260316T153000
UID:69e78f913e9de
DTSTAMP:20260421T145409
LOCATION:Aula 2B Polo didattico San Basilio (Magazzino 5)
SUMMARY:STORIA DELL'ARTE CINESE 1 [LT0380] - RASTELLI Sabrina\, Lezione
URL;VALUE=URI://www.unive.it/data/insegnamento/581025
DTSTART:20260316T140000
END:VEVENT
BEGIN:VEVENT
DTEND:20260323T153000
UID:69e78f913ea28
DTSTAMP:20260421T145409
LOCATION:Aula 2B Polo didattico San Basilio (Magazzino 5)
SUMMARY:STORIA DELL'ARTE CINESE 1 [LT0380] - RASTELLI Sabrina\, Lezione
URL;VALUE=URI://www.unive.it/data/insegnamento/581025
DTSTART:20260323T140000
END:VEVENT
BEGIN:VEVENT
DTEND:20260330T153000
UID:69e78f913ea78
DTSTAMP:20260421T145409
LOCATION:Aula 2B Polo didattico San Basilio (Magazzino 5)
SUMMARY:STORIA DELL'ARTE CINESE 1 [LT0380] - RASTELLI Sabrina\, Lezione
URL;VALUE=URI://www.unive.it/data/insegnamento/581025
DTSTART:20260330T140000
END:VEVENT
BEGIN:VEVENT
DTEND:20260410T190000
UID:69e78f913eaca
DTSTAMP:20260421T145409
LOCATION:ALTRO Altro
SUMMARY:STORIA DELL'ARTE CINESE 1 [LT0380] - RASTELLI Sabrina\, Lezione
URL;VALUE=URI://www.unive.it/data/insegnamento/581025
DTSTART:20260410T173000
END:VEVENT
BEGIN:VEVENT
DTEND:20260413T153000
UID:69e78f913eb15
DTSTAMP:20260421T145409
LOCATION:Aula 2B Polo didattico San Basilio (Magazzino 5)
SUMMARY:STORIA DELL'ARTE CINESE 1 [LT0380] - RASTELLI Sabrina\, Lezione
URL;VALUE=URI://www.unive.it/data/insegnamento/581025
DTSTART:20260413T140000
END:VEVENT
BEGIN:VEVENT
DTEND:20260420T153000
UID:69e78f913eb60
DTSTAMP:20260421T145409
LOCATION:Aula 2B Polo didattico San Basilio (Magazzino 5)
SUMMARY:STORIA DELL'ARTE CINESE 1 [LT0380] - RASTELLI Sabrina\, Lezione
URL;VALUE=URI://www.unive.it/data/insegnamento/581025
DTSTART:20260420T140000
END:VEVENT
BEGIN:VEVENT
DTEND:20260427T153000
UID:69e78f913ebad
DTSTAMP:20260421T145409
LOCATION:Aula 2B Polo didattico San Basilio (Magazzino 5)
SUMMARY:STORIA DELL'ARTE CINESE 1 [LT0380] - RASTELLI Sabrina\, Lezione
URL;VALUE=URI://www.unive.it/data/insegnamento/581025
DTSTART:20260427T140000
END:VEVENT
BEGIN:VEVENT
DTEND:20260504T153000
UID:69e78f913ebf8
DTSTAMP:20260421T145409
LOCATION:Aula 2B Polo didattico San Basilio (Magazzino 5)
SUMMARY:STORIA DELL'ARTE CINESE 1 [LT0380] - RASTELLI Sabrina\, Lezione
URL;VALUE=URI://www.unive.it/data/insegnamento/581025
DTSTART:20260504T140000
END:VEVENT
BEGIN:VEVENT
DTEND:20260511T153000
UID:69e78f913ed43
DTSTAMP:20260421T145409
LOCATION:Aula 2B Polo didattico San Basilio (Magazzino 5)
SUMMARY:STORIA DELL'ARTE CINESE 1 [LT0380] - RASTELLI Sabrina\, Lezione
URL;VALUE=URI://www.unive.it/data/insegnamento/581025
DTSTART:20260511T140000
END:VEVENT
BEGIN:VEVENT
DTEND:20260518T153000
UID:69e78f913edaf
DTSTAMP:20260421T145409
LOCATION:Aula 2B Polo didattico San Basilio (Magazzino 5)
SUMMARY:STORIA DELL'ARTE CINESE 1 [LT0380] - RASTELLI Sabrina\, Lezione
URL;VALUE=URI://www.unive.it/data/insegnamento/581025
DTSTART:20260518T140000
END:VEVENT
BEGIN:VEVENT
DTEND:20260525T153000
UID:69e78f913ee05
DTSTAMP:20260421T145409
LOCATION:Aula 2B Polo didattico San Basilio (Magazzino 5)
SUMMARY:STORIA DELL'ARTE CINESE 1 [LT0380] - RASTELLI Sabrina\, Lezione
URL;VALUE=URI://www.unive.it/data/insegnamento/581025
DTSTART:20260525T140000
END:VEVENT
END:VCALENDAR