BEGIN:VCALENDAR
VERSION:2.0
PRODID:-//hacksw/handcal//NONSGML v1.0//EN
CALSCALE:GREGORIAN
X-WR-CALNAME:BIOBASED ORGANIC CHEMISTRY FOR THE CIRCULAR ECONOMY [CM0685]
DESCRIPTION:BIOBASED ORGANIC CHEMISTRY FOR THE CIRCULAR ECONOMY [CM0685]
REFRESH-INTERVAL;VALUE=DURATION:P1D
X-WR-TIMEZONE:Europe/Rome
BEGIN:VEVENT
DTEND:20260303T153000
UID:69e92cbd62ff5
DTSTAMP:20260422T201701
LOCATION:Aula Delta 2C Campus scientifico via Torino (edificio Delta)
SUMMARY:BIOBASED ORGANIC CHEMISTRY FOR THE CIRCULAR ECONOMY [CM0685] - PEROSA Alvise\, Lezione
URL;VALUE=URI://www.unive.it/data/insegnamento/582011
DTSTART:20260303T140000
END:VEVENT
BEGIN:VEVENT
DTEND:20260304T171500
UID:69e92cbd6308b
DTSTAMP:20260422T201701
LOCATION:Aula Delta 1B Campus scientifico via Torino (edificio Delta)
SUMMARY:BIOBASED ORGANIC CHEMISTRY FOR THE CIRCULAR ECONOMY [CM0685] - PEROSA Alvise\, Lezione
URL;VALUE=URI://www.unive.it/data/insegnamento/582011
DTSTART:20260304T154500
END:VEVENT
BEGIN:VEVENT
DTEND:20260310T153000
UID:69e92cbd630df
DTSTAMP:20260422T201701
LOCATION:Aula Delta 2C Campus scientifico via Torino (edificio Delta)
SUMMARY:BIOBASED ORGANIC CHEMISTRY FOR THE CIRCULAR ECONOMY [CM0685] - PEROSA Alvise\, Lezione
URL;VALUE=URI://www.unive.it/data/insegnamento/582011
DTSTART:20260310T140000
END:VEVENT
BEGIN:VEVENT
DTEND:20260311T171500
UID:69e92cbd6312f
DTSTAMP:20260422T201701
LOCATION:Aula Delta 1B Campus scientifico via Torino (edificio Delta)
SUMMARY:BIOBASED ORGANIC CHEMISTRY FOR THE CIRCULAR ECONOMY [CM0685] - PEROSA Alvise\, Lezione
URL;VALUE=URI://www.unive.it/data/insegnamento/582011
DTSTART:20260311T154500
END:VEVENT
BEGIN:VEVENT
DTEND:20260317T153000
UID:69e92cbd6317c
DTSTAMP:20260422T201701
LOCATION:Aula Delta 2C Campus scientifico via Torino (edificio Delta)
SUMMARY:BIOBASED ORGANIC CHEMISTRY FOR THE CIRCULAR ECONOMY [CM0685] - PEROSA Alvise\, Lezione
URL;VALUE=URI://www.unive.it/data/insegnamento/582011
DTSTART:20260317T140000
END:VEVENT
BEGIN:VEVENT
DTEND:20260318T171500
UID:69e92cbd631c7
DTSTAMP:20260422T201701
LOCATION:Aula Delta 1B Campus scientifico via Torino (edificio Delta)
SUMMARY:BIOBASED ORGANIC CHEMISTRY FOR THE CIRCULAR ECONOMY [CM0685] - PEROSA Alvise\, Lezione
URL;VALUE=URI://www.unive.it/data/insegnamento/582011
DTSTART:20260318T154500
END:VEVENT
BEGIN:VEVENT
DTEND:20260324T153000
UID:69e92cbd6321d
DTSTAMP:20260422T201701
LOCATION:Aula Delta 2C Campus scientifico via Torino (edificio Delta)
SUMMARY:BIOBASED ORGANIC CHEMISTRY FOR THE CIRCULAR ECONOMY [CM0685] - PEROSA Alvise\, Lezione
URL;VALUE=URI://www.unive.it/data/insegnamento/582011
DTSTART:20260324T140000
END:VEVENT
BEGIN:VEVENT
DTEND:20260325T171500
UID:69e92cbd63269
DTSTAMP:20260422T201701
LOCATION:Aula Delta 1B Campus scientifico via Torino (edificio Delta)
SUMMARY:BIOBASED ORGANIC CHEMISTRY FOR THE CIRCULAR ECONOMY [CM0685] - PEROSA Alvise\, Lezione
URL;VALUE=URI://www.unive.it/data/insegnamento/582011
DTSTART:20260325T154500
END:VEVENT
BEGIN:VEVENT
DTEND:20260331T153000
UID:69e92cbd632b6
DTSTAMP:20260422T201701
LOCATION:Aula Delta 2C Campus scientifico via Torino (edificio Delta)
SUMMARY:BIOBASED ORGANIC CHEMISTRY FOR THE CIRCULAR ECONOMY [CM0685] - PEROSA Alvise\, Lezione
URL;VALUE=URI://www.unive.it/data/insegnamento/582011
DTSTART:20260331T140000
END:VEVENT
BEGIN:VEVENT
DTEND:20260401T171500
UID:69e92cbd63302
DTSTAMP:20260422T201701
LOCATION:Aula Delta 1B Campus scientifico via Torino (edificio Delta)
SUMMARY:BIOBASED ORGANIC CHEMISTRY FOR THE CIRCULAR ECONOMY [CM0685] - PEROSA Alvise\, Lezione
URL;VALUE=URI://www.unive.it/data/insegnamento/582011
DTSTART:20260401T154500
END:VEVENT
BEGIN:VEVENT
DTEND:20260407T153000
UID:69e92cbd6334f
DTSTAMP:20260422T201701
LOCATION:Aula Delta 2C Campus scientifico via Torino (edificio Delta)
SUMMARY:BIOBASED ORGANIC CHEMISTRY FOR THE CIRCULAR ECONOMY [CM0685] - PEROSA Alvise\, Lezione
URL;VALUE=URI://www.unive.it/data/insegnamento/582011
DTSTART:20260407T140000
END:VEVENT
BEGIN:VEVENT
DTEND:20260408T171500
UID:69e92cbd6339a
DTSTAMP:20260422T201701
LOCATION:Aula Delta 1B Campus scientifico via Torino (edificio Delta)
SUMMARY:BIOBASED ORGANIC CHEMISTRY FOR THE CIRCULAR ECONOMY [CM0685] - PEROSA Alvise\, Lezione
URL;VALUE=URI://www.unive.it/data/insegnamento/582011
DTSTART:20260408T154500
END:VEVENT
BEGIN:VEVENT
DTEND:20260415T171500
UID:69e92cbd633e7
DTSTAMP:20260422T201701
LOCATION:Aula Delta 1B Campus scientifico via Torino (edificio Delta)
SUMMARY:BIOBASED ORGANIC CHEMISTRY FOR THE CIRCULAR ECONOMY [CM0685] - PEROSA Alvise\, Lezione
URL;VALUE=URI://www.unive.it/data/insegnamento/582011
DTSTART:20260415T154500
END:VEVENT
BEGIN:VEVENT
DTEND:20260512T153000
UID:69e92cbd63420
DTSTAMP:20260422T201701
LOCATION:Aula Delta 2C Campus scientifico via Torino (edificio Delta)
SUMMARY:BIOBASED ORGANIC CHEMISTRY FOR THE CIRCULAR ECONOMY [CM0685] - PEROSA Alvise\, Lezione
URL;VALUE=URI://www.unive.it/data/insegnamento/582011
DTSTART:20260512T140000
END:VEVENT
BEGIN:VEVENT
DTEND:20260513T171500
UID:69e92cbd6346c
DTSTAMP:20260422T201701
LOCATION:Aula Delta 1B Campus scientifico via Torino (edificio Delta)
SUMMARY:BIOBASED ORGANIC CHEMISTRY FOR THE CIRCULAR ECONOMY [CM0685] - PEROSA Alvise\, Lezione
URL;VALUE=URI://www.unive.it/data/insegnamento/582011
DTSTART:20260513T154500
END:VEVENT
BEGIN:VEVENT
DTEND:20260519T153000
UID:69e92cbd634b7
DTSTAMP:20260422T201701
LOCATION:Aula Delta 2C Campus scientifico via Torino (edificio Delta)
SUMMARY:BIOBASED ORGANIC CHEMISTRY FOR THE CIRCULAR ECONOMY [CM0685] - PEROSA Alvise\, Lezione
URL;VALUE=URI://www.unive.it/data/insegnamento/582011
DTSTART:20260519T140000
END:VEVENT
BEGIN:VEVENT
DTEND:20260520T171500
UID:69e92cbd63503
DTSTAMP:20260422T201701
LOCATION:Aula Delta 1B Campus scientifico via Torino (edificio Delta)
SUMMARY:BIOBASED ORGANIC CHEMISTRY FOR THE CIRCULAR ECONOMY [CM0685] - PEROSA Alvise\, Lezione
URL;VALUE=URI://www.unive.it/data/insegnamento/582011
DTSTART:20260520T154500
END:VEVENT
BEGIN:VEVENT
DTEND:20260526T153000
UID:69e92cbd6354e
DTSTAMP:20260422T201701
LOCATION:Aula Delta 2C Campus scientifico via Torino (edificio Delta)
SUMMARY:BIOBASED ORGANIC CHEMISTRY FOR THE CIRCULAR ECONOMY [CM0685] - PEROSA Alvise\, Lezione
URL;VALUE=URI://www.unive.it/data/insegnamento/582011
DTSTART:20260526T140000
END:VEVENT
BEGIN:VEVENT
DTEND:20260527T171500
UID:69e92cbd6359a
DTSTAMP:20260422T201701
LOCATION:Aula Delta 1B Campus scientifico via Torino (edificio Delta)
SUMMARY:BIOBASED ORGANIC CHEMISTRY FOR THE CIRCULAR ECONOMY [CM0685] - PEROSA Alvise\, Lezione
URL;VALUE=URI://www.unive.it/data/insegnamento/582011
DTSTART:20260527T154500
END:VEVENT
BEGIN:VEVENT
DTEND:20260609T153000
UID:69e92cbd635e5
DTSTAMP:20260422T201701
LOCATION:Aula Delta 2C Campus scientifico via Torino (edificio Delta)
SUMMARY:BIOBASED ORGANIC CHEMISTRY FOR THE CIRCULAR ECONOMY [CM0685] - PEROSA Alvise\, Lezione
URL;VALUE=URI://www.unive.it/data/insegnamento/582011
DTSTART:20260609T140000
END:VEVENT
BEGIN:VEVENT
DTEND:20260610T171500
UID:69e92cbd63633
DTSTAMP:20260422T201701
LOCATION:Aula Delta 1B Campus scientifico via Torino (edificio Delta)
SUMMARY:BIOBASED ORGANIC CHEMISTRY FOR THE CIRCULAR ECONOMY [CM0685] - PEROSA Alvise\, Lezione
URL;VALUE=URI://www.unive.it/data/insegnamento/582011
DTSTART:20260610T154500
END:VEVENT
END:VCALENDAR