BEGIN:VCALENDAR
VERSION:2.0
PRODID:-//hacksw/handcal//NONSGML v1.0//EN
CALSCALE:GREGORIAN
X-WR-CALNAME:FINANCIAL INTERMEDIATION FOR INNOVATION AND GROWTH [EM1612]
DESCRIPTION:FINANCIAL INTERMEDIATION FOR INNOVATION AND GROWTH [EM1612]
REFRESH-INTERVAL;VALUE=DURATION:P1D
X-WR-TIMEZONE:Europe/Rome
BEGIN:VEVENT
DTEND:20260218T171500
UID:69e7962e5dff3
DTSTAMP:20260421T152222
LOCATION:Aula Torcello (VSM) San Giobbe
SUMMARY:FINANCIAL INTERMEDIATION FOR INNOVATION AND GROWTH [EM1612] - Rigoni Ugo\, Lezione
URL;VALUE=URI://www.unive.it/data/insegnamento/582029
DTSTART:20260218T154500
END:VEVENT
BEGIN:VEVENT
DTEND:20260219T120000
UID:69e7962e5e07b
DTSTAMP:20260421T152222
LOCATION:Aula Torcello (VSM) San Giobbe
SUMMARY:FINANCIAL INTERMEDIATION FOR INNOVATION AND GROWTH [EM1612] - Rigoni Ugo\, Lezione
URL;VALUE=URI://www.unive.it/data/insegnamento/582029
DTSTART:20260219T103000
END:VEVENT
BEGIN:VEVENT
DTEND:20260225T171500
UID:69e7962e5e0d8
DTSTAMP:20260421T152222
LOCATION:Aula Torcello (VSM) San Giobbe
SUMMARY:FINANCIAL INTERMEDIATION FOR INNOVATION AND GROWTH [EM1612] - Rigoni Ugo\, Lezione
URL;VALUE=URI://www.unive.it/data/insegnamento/582029
DTSTART:20260225T154500
END:VEVENT
BEGIN:VEVENT
DTEND:20260227T134500
UID:69e7962e5e133
DTSTAMP:20260421T152222
LOCATION:Aula Torcello (VSM) San Giobbe
SUMMARY:FINANCIAL INTERMEDIATION FOR INNOVATION AND GROWTH [EM1612] - Rigoni Ugo\, Lezione
URL;VALUE=URI://www.unive.it/data/insegnamento/582029
DTSTART:20260227T121500
END:VEVENT
BEGIN:VEVENT
DTEND:20260304T171500
UID:69e7962e5e18d
DTSTAMP:20260421T152222
LOCATION:Aula Torcello (VSM) San Giobbe
SUMMARY:FINANCIAL INTERMEDIATION FOR INNOVATION AND GROWTH [EM1612] - Rigoni Ugo\, Lezione
URL;VALUE=URI://www.unive.it/data/insegnamento/582029
DTSTART:20260304T154500
END:VEVENT
BEGIN:VEVENT
DTEND:20260305T120000
UID:69e7962e5e1e6
DTSTAMP:20260421T152222
LOCATION:Aula Torcello (VSM) San Giobbe
SUMMARY:FINANCIAL INTERMEDIATION FOR INNOVATION AND GROWTH [EM1612] - Rigoni Ugo\, Lezione
URL;VALUE=URI://www.unive.it/data/insegnamento/582029
DTSTART:20260305T103000
END:VEVENT
BEGIN:VEVENT
DTEND:20260306T134500
UID:69e7962e5e210
DTSTAMP:20260421T152222
LOCATION:Aula Torcello (VSM) San Giobbe
SUMMARY:FINANCIAL INTERMEDIATION FOR INNOVATION AND GROWTH [EM1612] - Rigoni Ugo\, Lezione
URL;VALUE=URI://www.unive.it/data/insegnamento/582029
DTSTART:20260306T121500
END:VEVENT
BEGIN:VEVENT
DTEND:20260311T171500
UID:69e7962e5e25e
DTSTAMP:20260421T152222
LOCATION:Aula Torcello (VSM) San Giobbe
SUMMARY:FINANCIAL INTERMEDIATION FOR INNOVATION AND GROWTH [EM1612] - Rigoni Ugo\, Lezione
URL;VALUE=URI://www.unive.it/data/insegnamento/582029
DTSTART:20260311T154500
END:VEVENT
BEGIN:VEVENT
DTEND:20260312T120000
UID:69e7962e5e2b9
DTSTAMP:20260421T152222
LOCATION:Aula Torcello (VSM) San Giobbe
SUMMARY:FINANCIAL INTERMEDIATION FOR INNOVATION AND GROWTH [EM1612] - Rigoni Ugo\, Lezione
URL;VALUE=URI://www.unive.it/data/insegnamento/582029
DTSTART:20260312T103000
END:VEVENT
BEGIN:VEVENT
DTEND:20260313T134500
UID:69e7962e5e311
DTSTAMP:20260421T152222
LOCATION:Aula Torcello (VSM) San Giobbe
SUMMARY:FINANCIAL INTERMEDIATION FOR INNOVATION AND GROWTH [EM1612] - Rigoni Ugo\, Lezione
URL;VALUE=URI://www.unive.it/data/insegnamento/582029
DTSTART:20260313T121500
END:VEVENT
BEGIN:VEVENT
DTEND:20260318T171500
UID:69e7962e5e35f
DTSTAMP:20260421T152222
LOCATION:Aula Torcello (VSM) San Giobbe
SUMMARY:FINANCIAL INTERMEDIATION FOR INNOVATION AND GROWTH [EM1612] - Rigoni Ugo\, Lezione
URL;VALUE=URI://www.unive.it/data/insegnamento/582029
DTSTART:20260318T154500
END:VEVENT
BEGIN:VEVENT
DTEND:20260319T120000
UID:69e7962e5e3be
DTSTAMP:20260421T152222
LOCATION:Aula Torcello (VSM) San Giobbe
SUMMARY:FINANCIAL INTERMEDIATION FOR INNOVATION AND GROWTH [EM1612] - Rigoni Ugo\, Lezione
URL;VALUE=URI://www.unive.it/data/insegnamento/582029
DTSTART:20260319T103000
END:VEVENT
BEGIN:VEVENT
DTEND:20260320T134500
UID:69e7962e5e417
DTSTAMP:20260421T152222
LOCATION:Aula Torcello (VSM) San Giobbe
SUMMARY:FINANCIAL INTERMEDIATION FOR INNOVATION AND GROWTH [EM1612] - Rigoni Ugo\, Lezione
URL;VALUE=URI://www.unive.it/data/insegnamento/582029
DTSTART:20260320T121500
END:VEVENT
BEGIN:VEVENT
DTEND:20260325T171500
UID:69e7962e5e471
DTSTAMP:20260421T152222
LOCATION:Aula Torcello (VSM) San Giobbe
SUMMARY:FINANCIAL INTERMEDIATION FOR INNOVATION AND GROWTH [EM1612] - Rigoni Ugo\, Lezione
URL;VALUE=URI://www.unive.it/data/insegnamento/582029
DTSTART:20260325T154500
END:VEVENT
BEGIN:VEVENT
DTEND:20260326T120000
UID:69e7962e5e4ca
DTSTAMP:20260421T152222
LOCATION:Aula Torcello (VSM) San Giobbe
SUMMARY:FINANCIAL INTERMEDIATION FOR INNOVATION AND GROWTH [EM1612] - Rigoni Ugo\, Lezione
URL;VALUE=URI://www.unive.it/data/insegnamento/582029
DTSTART:20260326T103000
END:VEVENT
BEGIN:VEVENT
DTEND:20260327T134500
UID:69e7962e5e524
DTSTAMP:20260421T152222
LOCATION:Aula Torcello (VSM) San Giobbe
SUMMARY:FINANCIAL INTERMEDIATION FOR INNOVATION AND GROWTH [EM1612] - Rigoni Ugo\, Lezione
URL;VALUE=URI://www.unive.it/data/insegnamento/582029
DTSTART:20260327T121500
END:VEVENT
END:VCALENDAR