BEGIN:VCALENDAR
VERSION:2.0
PRODID:-//hacksw/handcal//NONSGML v1.0//EN
CALSCALE:GREGORIAN
X-WR-CALNAME:GESTIONE DELLA BANCA [EM2102]
DESCRIPTION:GESTIONE DELLA BANCA [EM2102]
REFRESH-INTERVAL;VALUE=DURATION:P1D
X-WR-TIMEZONE:Europe/Rome
BEGIN:VEVENT
DTEND:20260218T190000
UID:69e8193212fb2
DTSTAMP:20260422T004122
LOCATION:Aula 3A San Giobbe
SUMMARY:GESTIONE DELLA BANCA [EM2102] - CAVEZZALI Elisa\, Lezione
URL;VALUE=URI://www.unive.it/data/insegnamento/582799
DTSTART:20260218T173000
END:VEVENT
BEGIN:VEVENT
DTEND:20260219T190000
UID:69e819321303d
DTSTAMP:20260422T004122
LOCATION:Aula 3A San Giobbe
SUMMARY:GESTIONE DELLA BANCA [EM2102] - CAVEZZALI Elisa\, Lezione
URL;VALUE=URI://www.unive.it/data/insegnamento/582799
DTSTART:20260219T173000
END:VEVENT
BEGIN:VEVENT
DTEND:20260220T120000
UID:69e819321308c
DTSTAMP:20260422T004122
LOCATION:Aula 3A San Giobbe
SUMMARY:GESTIONE DELLA BANCA [EM2102] - CAVEZZALI Elisa\, Lezione
URL;VALUE=URI://www.unive.it/data/insegnamento/582799
DTSTART:20260220T103000
END:VEVENT
BEGIN:VEVENT
DTEND:20260225T190000
UID:69e81932130d6
DTSTAMP:20260422T004122
LOCATION:Aula 3A San Giobbe
SUMMARY:GESTIONE DELLA BANCA [EM2102] - CAVEZZALI Elisa\, Lezione
URL;VALUE=URI://www.unive.it/data/insegnamento/582799
DTSTART:20260225T173000
END:VEVENT
BEGIN:VEVENT
DTEND:20260226T190000
UID:69e8193213120
DTSTAMP:20260422T004122
LOCATION:Aula 3A San Giobbe
SUMMARY:GESTIONE DELLA BANCA [EM2102] - CAVEZZALI Elisa\, Lezione
URL;VALUE=URI://www.unive.it/data/insegnamento/582799
DTSTART:20260226T173000
END:VEVENT
BEGIN:VEVENT
DTEND:20260227T120000
UID:69e8193213172
DTSTAMP:20260422T004122
LOCATION:Aula 3A San Giobbe
SUMMARY:GESTIONE DELLA BANCA [EM2102] - CAVEZZALI Elisa\, Lezione
URL;VALUE=URI://www.unive.it/data/insegnamento/582799
DTSTART:20260227T103000
END:VEVENT
BEGIN:VEVENT
DTEND:20260304T190000
UID:69e81932131bc
DTSTAMP:20260422T004122
LOCATION:Aula 3A San Giobbe
SUMMARY:GESTIONE DELLA BANCA [EM2102] - CAVEZZALI Elisa\, Lezione
URL;VALUE=URI://www.unive.it/data/insegnamento/582799
DTSTART:20260304T173000
END:VEVENT
BEGIN:VEVENT
DTEND:20260305T190000
UID:69e8193213206
DTSTAMP:20260422T004122
LOCATION:Aula 3A San Giobbe
SUMMARY:GESTIONE DELLA BANCA [EM2102] - CAVEZZALI Elisa\, Lezione
URL;VALUE=URI://www.unive.it/data/insegnamento/582799
DTSTART:20260305T173000
END:VEVENT
BEGIN:VEVENT
DTEND:20260306T120000
UID:69e8193213250
DTSTAMP:20260422T004122
LOCATION:Aula 3A San Giobbe
SUMMARY:GESTIONE DELLA BANCA [EM2102] - CAVEZZALI Elisa\, Lezione
URL;VALUE=URI://www.unive.it/data/insegnamento/582799
DTSTART:20260306T103000
END:VEVENT
BEGIN:VEVENT
DTEND:20260311T190000
UID:69e819321329a
DTSTAMP:20260422T004122
LOCATION:Aula 3A San Giobbe
SUMMARY:GESTIONE DELLA BANCA [EM2102] - CAVEZZALI Elisa\, Lezione
URL;VALUE=URI://www.unive.it/data/insegnamento/582799
DTSTART:20260311T173000
END:VEVENT
BEGIN:VEVENT
DTEND:20260312T190000
UID:69e81932132da
DTSTAMP:20260422T004122
LOCATION:Aula 3A San Giobbe
SUMMARY:GESTIONE DELLA BANCA [EM2102] - CAVEZZALI Elisa\, Lezione
URL;VALUE=URI://www.unive.it/data/insegnamento/582799
DTSTART:20260312T173000
END:VEVENT
BEGIN:VEVENT
DTEND:20260313T120000
UID:69e8193213325
DTSTAMP:20260422T004122
LOCATION:Aula 3A San Giobbe
SUMMARY:GESTIONE DELLA BANCA [EM2102] - CAVEZZALI Elisa\, Lezione
URL;VALUE=URI://www.unive.it/data/insegnamento/582799
DTSTART:20260313T103000
END:VEVENT
BEGIN:VEVENT
DTEND:20260319T190000
UID:69e819321336f
DTSTAMP:20260422T004122
LOCATION:Aula 3A San Giobbe
SUMMARY:GESTIONE DELLA BANCA [EM2102] - CAVEZZALI Elisa\, Lezione
URL;VALUE=URI://www.unive.it/data/insegnamento/582799
DTSTART:20260319T173000
END:VEVENT
BEGIN:VEVENT
DTEND:20260320T120000
UID:69e81932133b8
DTSTAMP:20260422T004122
LOCATION:Aula 3A San Giobbe
SUMMARY:GESTIONE DELLA BANCA [EM2102] - CAVEZZALI Elisa\, Lezione
URL;VALUE=URI://www.unive.it/data/insegnamento/582799
DTSTART:20260320T103000
END:VEVENT
BEGIN:VEVENT
DTEND:20260323T120000
UID:69e8193213402
DTSTAMP:20260422T004122
LOCATION:Aula 9A San Giobbe
SUMMARY:GESTIONE DELLA BANCA [EM2102] - CAVEZZALI Elisa\, Lezione
URL;VALUE=URI://www.unive.it/data/insegnamento/582799
DTSTART:20260323T103000
END:VEVENT
BEGIN:VEVENT
DTEND:20260325T190000
UID:69e819321344c
DTSTAMP:20260422T004122
LOCATION:Aula 3A San Giobbe
SUMMARY:GESTIONE DELLA BANCA [EM2102] - CAVEZZALI Elisa\, Lezione
URL;VALUE=URI://www.unive.it/data/insegnamento/582799
DTSTART:20260325T173000
END:VEVENT
BEGIN:VEVENT
DTEND:20260326T190000
UID:69e8193213495
DTSTAMP:20260422T004122
LOCATION:Aula 3A San Giobbe
SUMMARY:GESTIONE DELLA BANCA [EM2102] - CAVEZZALI Elisa\, Lezione
URL;VALUE=URI://www.unive.it/data/insegnamento/582799
DTSTART:20260326T173000
END:VEVENT
BEGIN:VEVENT
DTEND:20260327T120000
UID:69e81932134df
DTSTAMP:20260422T004122
LOCATION:Aula 3A San Giobbe
SUMMARY:GESTIONE DELLA BANCA [EM2102] - CAVEZZALI Elisa\, Lezione
URL;VALUE=URI://www.unive.it/data/insegnamento/582799
DTSTART:20260327T103000
END:VEVENT
END:VCALENDAR