BEGIN:VCALENDAR
VERSION:2.0
PRODID:-//hacksw/handcal//NONSGML v1.0//EN
CALSCALE:GREGORIAN
X-WR-CALNAME:FINANZA COMPORTAMENTALE [EM2104]
DESCRIPTION:FINANZA COMPORTAMENTALE [EM2104]
REFRESH-INTERVAL;VALUE=DURATION:P1D
X-WR-TIMEZONE:Europe/Rome
BEGIN:VEVENT
DTEND:20260408T134500
UID:69e702c8aca56
DTSTAMP:20260421T045328
LOCATION:Aula 7B San Giobbe
SUMMARY:FINANZA COMPORTAMENTALE [EM2104] - Cruciani Caterina\, Lezione
URL;VALUE=URI://www.unive.it/data/insegnamento/582806
DTSTART:20260408T121500
END:VEVENT
BEGIN:VEVENT
DTEND:20260409T134500
UID:69e702c8acade
DTSTAMP:20260421T045328
LOCATION:Aula 7B San Giobbe
SUMMARY:FINANZA COMPORTAMENTALE [EM2104] - Cruciani Caterina\, Lezione
URL;VALUE=URI://www.unive.it/data/insegnamento/582806
DTSTART:20260409T121500
END:VEVENT
BEGIN:VEVENT
DTEND:20260409T171500
UID:69e702c8acb30
DTSTAMP:20260421T045328
LOCATION:Aula 3B San Giobbe
SUMMARY:FINANZA COMPORTAMENTALE [EM2104] - Cruciani Caterina\, Lezione
URL;VALUE=URI://www.unive.it/data/insegnamento/582806
DTSTART:20260409T154500
END:VEVENT
BEGIN:VEVENT
DTEND:20260415T134500
UID:69e702c8acb88
DTSTAMP:20260421T045328
LOCATION:Aula 7B San Giobbe
SUMMARY:FINANZA COMPORTAMENTALE [EM2104] - Cruciani Caterina\, Lezione
URL;VALUE=URI://www.unive.it/data/insegnamento/582806
DTSTART:20260415T121500
END:VEVENT
BEGIN:VEVENT
DTEND:20260416T134500
UID:69e702c8acbdf
DTSTAMP:20260421T045328
LOCATION:Aula 7B San Giobbe
SUMMARY:FINANZA COMPORTAMENTALE [EM2104] - Cruciani Caterina\, Lezione
URL;VALUE=URI://www.unive.it/data/insegnamento/582806
DTSTART:20260416T121500
END:VEVENT
BEGIN:VEVENT
DTEND:20260416T171500
UID:69e702c8acc2c
DTSTAMP:20260421T045328
LOCATION:Aula 3B San Giobbe
SUMMARY:FINANZA COMPORTAMENTALE [EM2104] - Cruciani Caterina\, Lezione
URL;VALUE=URI://www.unive.it/data/insegnamento/582806
DTSTART:20260416T154500
END:VEVENT
BEGIN:VEVENT
DTEND:20260422T134500
UID:69e702c8acc80
DTSTAMP:20260421T045328
LOCATION:Aula 7B San Giobbe
SUMMARY:FINANZA COMPORTAMENTALE [EM2104] - Cruciani Caterina\, Lezione
URL;VALUE=URI://www.unive.it/data/insegnamento/582806
DTSTART:20260422T121500
END:VEVENT
BEGIN:VEVENT
DTEND:20260423T134500
UID:69e702c8accd9
DTSTAMP:20260421T045328
LOCATION:Aula 7B San Giobbe
SUMMARY:FINANZA COMPORTAMENTALE [EM2104] - Cruciani Caterina\, Lezione
URL;VALUE=URI://www.unive.it/data/insegnamento/582806
DTSTART:20260423T121500
END:VEVENT
BEGIN:VEVENT
DTEND:20260423T171500
UID:69e702c8acd25
DTSTAMP:20260421T045328
LOCATION:Aula 3B San Giobbe
SUMMARY:FINANZA COMPORTAMENTALE [EM2104] - Cruciani Caterina\, Lezione
URL;VALUE=URI://www.unive.it/data/insegnamento/582806
DTSTART:20260423T154500
END:VEVENT
BEGIN:VEVENT
DTEND:20260429T134500
UID:69e702c8acd70
DTSTAMP:20260421T045328
LOCATION:Aula 7B San Giobbe
SUMMARY:FINANZA COMPORTAMENTALE [EM2104] - Cruciani Caterina\, Lezione
URL;VALUE=URI://www.unive.it/data/insegnamento/582806
DTSTART:20260429T121500
END:VEVENT
BEGIN:VEVENT
DTEND:20260430T134500
UID:69e702c8acdba
DTSTAMP:20260421T045328
LOCATION:Aula 7B San Giobbe
SUMMARY:FINANZA COMPORTAMENTALE [EM2104] - Cruciani Caterina\, Lezione
URL;VALUE=URI://www.unive.it/data/insegnamento/582806
DTSTART:20260430T121500
END:VEVENT
BEGIN:VEVENT
DTEND:20260430T171500
UID:69e702c8ace0c
DTSTAMP:20260421T045328
LOCATION:Aula 3B San Giobbe
SUMMARY:FINANZA COMPORTAMENTALE [EM2104] - Cruciani Caterina\, Lezione
URL;VALUE=URI://www.unive.it/data/insegnamento/582806
DTSTART:20260430T154500
END:VEVENT
BEGIN:VEVENT
DTEND:20260506T134500
UID:69e702c8ace56
DTSTAMP:20260421T045328
LOCATION:Aula 7B San Giobbe
SUMMARY:FINANZA COMPORTAMENTALE [EM2104] - Cruciani Caterina\, Lezione
URL;VALUE=URI://www.unive.it/data/insegnamento/582806
DTSTART:20260506T121500
END:VEVENT
BEGIN:VEVENT
DTEND:20260507T134500
UID:69e702c8acea0
DTSTAMP:20260421T045328
LOCATION:Aula 7B San Giobbe
SUMMARY:FINANZA COMPORTAMENTALE [EM2104] - Cruciani Caterina\, Lezione
URL;VALUE=URI://www.unive.it/data/insegnamento/582806
DTSTART:20260507T121500
END:VEVENT
BEGIN:VEVENT
DTEND:20260507T171500
UID:69e702c8aceea
DTSTAMP:20260421T045328
LOCATION:Aula 3B San Giobbe
SUMMARY:FINANZA COMPORTAMENTALE [EM2104] - Cruciani Caterina\, Lezione
URL;VALUE=URI://www.unive.it/data/insegnamento/582806
DTSTART:20260507T154500
END:VEVENT
BEGIN:VEVENT
DTEND:20260513T134500
UID:69e702c8acf34
DTSTAMP:20260421T045328
LOCATION:Aula 7B San Giobbe
SUMMARY:FINANZA COMPORTAMENTALE [EM2104] - Cruciani Caterina\, Lezione
URL;VALUE=URI://www.unive.it/data/insegnamento/582806
DTSTART:20260513T121500
END:VEVENT
BEGIN:VEVENT
DTEND:20260514T134500
UID:69e702c8acf7e
DTSTAMP:20260421T045328
LOCATION:Aula 7B San Giobbe
SUMMARY:FINANZA COMPORTAMENTALE [EM2104] - Cruciani Caterina\, Lezione
URL;VALUE=URI://www.unive.it/data/insegnamento/582806
DTSTART:20260514T121500
END:VEVENT
BEGIN:VEVENT
DTEND:20260514T171500
UID:69e702c8acfc7
DTSTAMP:20260421T045328
LOCATION:Aula 3B San Giobbe
SUMMARY:FINANZA COMPORTAMENTALE [EM2104] - Cruciani Caterina\, Lezione
URL;VALUE=URI://www.unive.it/data/insegnamento/582806
DTSTART:20260514T154500
END:VEVENT
END:VCALENDAR