BEGIN:VCALENDAR
VERSION:2.0
PRODID:-//hacksw/handcal//NONSGML v1.0//EN
CALSCALE:GREGORIAN
X-WR-CALNAME:ESG E FINANZA SOSTENIBILE [EM2098]
DESCRIPTION:ESG E FINANZA SOSTENIBILE [EM2098]
REFRESH-INTERVAL;VALUE=DURATION:P1D
X-WR-TIMEZONE:Europe/Rome
BEGIN:VEVENT
DTEND:20260408T171500
UID:69e55d34e3a4d
DTSTAMP:20260419T225444
LOCATION:Aula 3B San Giobbe
SUMMARY:ESG E FINANZA SOSTENIBILE [EM2098] - COSTOLA Michele\, Lezione
URL;VALUE=URI://www.unive.it/data/insegnamento/582807
DTSTART:20260408T154500
END:VEVENT
BEGIN:VEVENT
DTEND:20260409T101500
UID:69e55d34e3ad9
DTSTAMP:20260419T225444
LOCATION:Aula 4A San Giobbe
SUMMARY:ESG E FINANZA SOSTENIBILE [EM2098] - COSTOLA Michele\, Lezione
URL;VALUE=URI://www.unive.it/data/insegnamento/582807
DTSTART:20260409T084500
END:VEVENT
BEGIN:VEVENT
DTEND:20260410T171500
UID:69e55d34e3b28
DTSTAMP:20260419T225444
LOCATION:Aula 10B San Giobbe
SUMMARY:ESG E FINANZA SOSTENIBILE [EM2098] - COSTOLA Michele\, Lezione
URL;VALUE=URI://www.unive.it/data/insegnamento/582807
DTSTART:20260410T154500
END:VEVENT
BEGIN:VEVENT
DTEND:20260415T171500
UID:69e55d34e3b74
DTSTAMP:20260419T225444
LOCATION:Aula 3B San Giobbe
SUMMARY:ESG E FINANZA SOSTENIBILE [EM2098] - COSTOLA Michele\, Lezione
URL;VALUE=URI://www.unive.it/data/insegnamento/582807
DTSTART:20260415T154500
END:VEVENT
BEGIN:VEVENT
DTEND:20260416T101500
UID:69e55d34e3bbf
DTSTAMP:20260419T225444
LOCATION:Aula 4A San Giobbe
SUMMARY:ESG E FINANZA SOSTENIBILE [EM2098] - COSTOLA Michele\, Lezione
URL;VALUE=URI://www.unive.it/data/insegnamento/582807
DTSTART:20260416T084500
END:VEVENT
BEGIN:VEVENT
DTEND:20260417T171500
UID:69e55d34e3c09
DTSTAMP:20260419T225444
LOCATION:Aula 10B San Giobbe
SUMMARY:ESG E FINANZA SOSTENIBILE [EM2098] - COSTOLA Michele\, Lezione
URL;VALUE=URI://www.unive.it/data/insegnamento/582807
DTSTART:20260417T154500
END:VEVENT
BEGIN:VEVENT
DTEND:20260422T171500
UID:69e55d34e3c53
DTSTAMP:20260419T225444
LOCATION:Aula 3B San Giobbe
SUMMARY:ESG E FINANZA SOSTENIBILE [EM2098] - COSTOLA Michele\, Lezione
URL;VALUE=URI://www.unive.it/data/insegnamento/582807
DTSTART:20260422T154500
END:VEVENT
BEGIN:VEVENT
DTEND:20260423T101500
UID:69e55d34e3c9d
DTSTAMP:20260419T225444
LOCATION:Aula 4A San Giobbe
SUMMARY:ESG E FINANZA SOSTENIBILE [EM2098] - COSTOLA Michele\, Lezione
URL;VALUE=URI://www.unive.it/data/insegnamento/582807
DTSTART:20260423T084500
END:VEVENT
BEGIN:VEVENT
DTEND:20260424T171500
UID:69e55d34e3ce8
DTSTAMP:20260419T225444
LOCATION:Aula 10B San Giobbe
SUMMARY:ESG E FINANZA SOSTENIBILE [EM2098] - COSTOLA Michele\, Lezione
URL;VALUE=URI://www.unive.it/data/insegnamento/582807
DTSTART:20260424T154500
END:VEVENT
BEGIN:VEVENT
DTEND:20260429T171500
UID:69e55d34e3d32
DTSTAMP:20260419T225444
LOCATION:Aula 3B San Giobbe
SUMMARY:ESG E FINANZA SOSTENIBILE [EM2098] - COSTOLA Michele\, Lezione
URL;VALUE=URI://www.unive.it/data/insegnamento/582807
DTSTART:20260429T154500
END:VEVENT
BEGIN:VEVENT
DTEND:20260430T101500
UID:69e55d34e3d7c
DTSTAMP:20260419T225444
LOCATION:Aula 4A San Giobbe
SUMMARY:ESG E FINANZA SOSTENIBILE [EM2098] - COSTOLA Michele\, Lezione
URL;VALUE=URI://www.unive.it/data/insegnamento/582807
DTSTART:20260430T084500
END:VEVENT
BEGIN:VEVENT
DTEND:20260506T171500
UID:69e55d34e3dc6
DTSTAMP:20260419T225444
LOCATION:Aula 3B San Giobbe
SUMMARY:ESG E FINANZA SOSTENIBILE [EM2098] - COSTOLA Michele\, Lezione
URL;VALUE=URI://www.unive.it/data/insegnamento/582807
DTSTART:20260506T154500
END:VEVENT
BEGIN:VEVENT
DTEND:20260507T101500
UID:69e55d34e3e11
DTSTAMP:20260419T225444
LOCATION:Aula 4A San Giobbe
SUMMARY:ESG E FINANZA SOSTENIBILE [EM2098] - COSTOLA Michele\, Lezione
URL;VALUE=URI://www.unive.it/data/insegnamento/582807
DTSTART:20260507T084500
END:VEVENT
BEGIN:VEVENT
DTEND:20260508T171500
UID:69e55d34e3e5b
DTSTAMP:20260419T225444
LOCATION:Aula 10B San Giobbe
SUMMARY:ESG E FINANZA SOSTENIBILE [EM2098] - COSTOLA Michele\, Lezione
URL;VALUE=URI://www.unive.it/data/insegnamento/582807
DTSTART:20260508T154500
END:VEVENT
BEGIN:VEVENT
DTEND:20260513T171500
UID:69e55d34e3eae
DTSTAMP:20260419T225444
LOCATION:Aula 3B San Giobbe
SUMMARY:ESG E FINANZA SOSTENIBILE [EM2098] - COSTOLA Michele\, Lezione
URL;VALUE=URI://www.unive.it/data/insegnamento/582807
DTSTART:20260513T154500
END:VEVENT
BEGIN:VEVENT
DTEND:20260514T101500
UID:69e55d34e3ef8
DTSTAMP:20260419T225444
LOCATION:Aula 4A San Giobbe
SUMMARY:ESG E FINANZA SOSTENIBILE [EM2098] - COSTOLA Michele\, Lezione
URL;VALUE=URI://www.unive.it/data/insegnamento/582807
DTSTART:20260514T084500
END:VEVENT
BEGIN:VEVENT
DTEND:20260515T171500
UID:69e55d34e3f41
DTSTAMP:20260419T225444
LOCATION:Aula 10B San Giobbe
SUMMARY:ESG E FINANZA SOSTENIBILE [EM2098] - COSTOLA Michele\, Lezione
URL;VALUE=URI://www.unive.it/data/insegnamento/582807
DTSTART:20260515T154500
END:VEVENT
END:VCALENDAR