BEGIN:VCALENDAR
VERSION:2.0
PRODID:-//hacksw/handcal//NONSGML v1.0//EN
CALSCALE:GREGORIAN
X-WR-CALNAME:REPORTING AND SUSTAINABILITY ACCOUNTING [EM1517]
DESCRIPTION:REPORTING AND SUSTAINABILITY ACCOUNTING [EM1517]
REFRESH-INTERVAL;VALUE=DURATION:P1D
X-WR-TIMEZONE:Europe/Rome
BEGIN:VEVENT
DTEND:20250922T134500
UID:69e702c893d5d
DTSTAMP:20260421T045328
LOCATION:Aula 2B San Giobbe
SUMMARY:REPORTING AND SUSTAINABILITY ACCOUNTING [EM1517] - SCARPA FRANCESCO\, Lezione
URL;VALUE=URI://www.unive.it/data/insegnamento/582823
DTSTART:20250922T121500
END:VEVENT
BEGIN:VEVENT
DTEND:20250923T101500
UID:69e702c893de8
DTSTAMP:20260421T045328
LOCATION:Aula 0D Palazzo Moro
SUMMARY:REPORTING AND SUSTAINABILITY ACCOUNTING [EM1517] - SCARPA FRANCESCO\, Lezione
URL;VALUE=URI://www.unive.it/data/insegnamento/582823
DTSTART:20250923T084500
END:VEVENT
BEGIN:VEVENT
DTEND:20250924T101500
UID:69e702c893e42
DTSTAMP:20260421T045328
LOCATION:Aula 0D Palazzo Moro
SUMMARY:REPORTING AND SUSTAINABILITY ACCOUNTING [EM1517] - SCARPA FRANCESCO\, Lezione
URL;VALUE=URI://www.unive.it/data/insegnamento/582823
DTSTART:20250924T084500
END:VEVENT
BEGIN:VEVENT
DTEND:20250929T134500
UID:69e702c893e8f
DTSTAMP:20260421T045328
LOCATION:Aula 2B San Giobbe
SUMMARY:REPORTING AND SUSTAINABILITY ACCOUNTING [EM1517] - SCARPA FRANCESCO\, Lezione
URL;VALUE=URI://www.unive.it/data/insegnamento/582823
DTSTART:20250929T121500
END:VEVENT
BEGIN:VEVENT
DTEND:20250930T101500
UID:69e702c893eda
DTSTAMP:20260421T045328
LOCATION:Aula 0D Palazzo Moro
SUMMARY:REPORTING AND SUSTAINABILITY ACCOUNTING [EM1517] - SCARPA FRANCESCO\, Lezione
URL;VALUE=URI://www.unive.it/data/insegnamento/582823
DTSTART:20250930T084500
END:VEVENT
BEGIN:VEVENT
DTEND:20251001T101500
UID:69e702c893f25
DTSTAMP:20260421T045328
LOCATION:Aula 0D Palazzo Moro
SUMMARY:REPORTING AND SUSTAINABILITY ACCOUNTING [EM1517] - SCARPA FRANCESCO\, Lezione
URL;VALUE=URI://www.unive.it/data/insegnamento/582823
DTSTART:20251001T084500
END:VEVENT
BEGIN:VEVENT
DTEND:20251006T134500
UID:69e702c893f71
DTSTAMP:20260421T045328
LOCATION:Aula 2B San Giobbe
SUMMARY:REPORTING AND SUSTAINABILITY ACCOUNTING [EM1517] - SCARPA FRANCESCO\, Lezione
URL;VALUE=URI://www.unive.it/data/insegnamento/582823
DTSTART:20251006T121500
END:VEVENT
BEGIN:VEVENT
DTEND:20251007T101500
UID:69e702c893fbf
DTSTAMP:20260421T045328
LOCATION:Aula 0D Palazzo Moro
SUMMARY:REPORTING AND SUSTAINABILITY ACCOUNTING [EM1517] - SCARPA FRANCESCO\, Lezione
URL;VALUE=URI://www.unive.it/data/insegnamento/582823
DTSTART:20251007T084500
END:VEVENT
BEGIN:VEVENT
DTEND:20251013T134500
UID:69e702c894009
DTSTAMP:20260421T045328
LOCATION:Aula 2B San Giobbe
SUMMARY:REPORTING AND SUSTAINABILITY ACCOUNTING [EM1517] - SCARPA FRANCESCO\, Lezione
URL;VALUE=URI://www.unive.it/data/insegnamento/582823
DTSTART:20251013T121500
END:VEVENT
BEGIN:VEVENT
DTEND:20251014T101500
UID:69e702c894054
DTSTAMP:20260421T045328
LOCATION:Aula 0D Palazzo Moro
SUMMARY:REPORTING AND SUSTAINABILITY ACCOUNTING [EM1517] - SCARPA FRANCESCO\, Lezione
URL;VALUE=URI://www.unive.it/data/insegnamento/582823
DTSTART:20251014T084500
END:VEVENT
BEGIN:VEVENT
DTEND:20251015T101500
UID:69e702c89409e
DTSTAMP:20260421T045328
LOCATION:Aula 0D Palazzo Moro
SUMMARY:REPORTING AND SUSTAINABILITY ACCOUNTING [EM1517] - SCARPA FRANCESCO\, Lezione
URL;VALUE=URI://www.unive.it/data/insegnamento/582823
DTSTART:20251015T084500
END:VEVENT
BEGIN:VEVENT
DTEND:20251020T134500
UID:69e702c8940e8
DTSTAMP:20260421T045328
LOCATION:Aula 2B San Giobbe
SUMMARY:REPORTING AND SUSTAINABILITY ACCOUNTING [EM1517] - SCARPA FRANCESCO\, Lezione
URL;VALUE=URI://www.unive.it/data/insegnamento/582823
DTSTART:20251020T121500
END:VEVENT
BEGIN:VEVENT
DTEND:20251021T101500
UID:69e702c894133
DTSTAMP:20260421T045328
LOCATION:Aula 0D Palazzo Moro
SUMMARY:REPORTING AND SUSTAINABILITY ACCOUNTING [EM1517] - SCARPA FRANCESCO\, Lezione
URL;VALUE=URI://www.unive.it/data/insegnamento/582823
DTSTART:20251021T084500
END:VEVENT
BEGIN:VEVENT
DTEND:20251022T101500
UID:69e702c894160
DTSTAMP:20260421T045328
LOCATION:Aula 0D Palazzo Moro
SUMMARY:REPORTING AND SUSTAINABILITY ACCOUNTING [EM1517] - SCARPA FRANCESCO\, Lezione
URL;VALUE=URI://www.unive.it/data/insegnamento/582823
DTSTART:20251022T084500
END:VEVENT
BEGIN:VEVENT
DTEND:20251027T134500
UID:69e702c8941ac
DTSTAMP:20260421T045328
LOCATION:Aula 2B San Giobbe
SUMMARY:REPORTING AND SUSTAINABILITY ACCOUNTING [EM1517] - SCARPA FRANCESCO\, Lezione
URL;VALUE=URI://www.unive.it/data/insegnamento/582823
DTSTART:20251027T121500
END:VEVENT
BEGIN:VEVENT
DTEND:20251028T101500
UID:69e702c894205
DTSTAMP:20260421T045328
LOCATION:Aula 0D Palazzo Moro
SUMMARY:REPORTING AND SUSTAINABILITY ACCOUNTING [EM1517] - SCARPA FRANCESCO\, Lezione
URL;VALUE=URI://www.unive.it/data/insegnamento/582823
DTSTART:20251028T084500
END:VEVENT
BEGIN:VEVENT
DTEND:20251029T101500
UID:69e702c894259
DTSTAMP:20260421T045328
LOCATION:Aula 0D Palazzo Moro
SUMMARY:REPORTING AND SUSTAINABILITY ACCOUNTING [EM1517] - SCARPA FRANCESCO\, Lezione
URL;VALUE=URI://www.unive.it/data/insegnamento/582823
DTSTART:20251029T084500
END:VEVENT
END:VCALENDAR