BEGIN:VCALENDAR
VERSION:2.0
PRODID:-//hacksw/handcal//NONSGML v1.0//EN
CALSCALE:GREGORIAN
X-WR-CALNAME:EMOTIONAL COMPETENCIES AND PERSONAL DEVELOPMENT [PLM003]
DESCRIPTION:EMOTIONAL COMPETENCIES AND PERSONAL DEVELOPMENT [PLM003]
REFRESH-INTERVAL;VALUE=DURATION:P1D
X-WR-TIMEZONE:Europe/Rome
BEGIN:VEVENT
DTEND:20260217T190000
UID:69e905b706867
DTSTAMP:20260422T173031
LOCATION:Aula 9B San Giobbe
SUMMARY:EMOTIONAL COMPETENCIES AND PERSONAL DEVELOPMENT [PLM003] - BONESSO Sara\, Lezione
URL;VALUE=URI://www.unive.it/data/insegnamento/585420
DTSTART:20260217T154500
END:VEVENT
BEGIN:VEVENT
DTEND:20260219T171500
UID:69e905b7068ff
DTSTAMP:20260422T173031
LOCATION:Aula 9B San Giobbe
SUMMARY:EMOTIONAL COMPETENCIES AND PERSONAL DEVELOPMENT [PLM003] - BONESSO Sara\, Lezione
URL;VALUE=URI://www.unive.it/data/insegnamento/585420
DTSTART:20260219T154500
END:VEVENT
BEGIN:VEVENT
DTEND:20260224T190000
UID:69e905b70695c
DTSTAMP:20260422T173031
LOCATION:Aula 9B San Giobbe
SUMMARY:EMOTIONAL COMPETENCIES AND PERSONAL DEVELOPMENT [PLM003] - BONESSO Sara\, Lezione
URL;VALUE=URI://www.unive.it/data/insegnamento/585420
DTSTART:20260224T154500
END:VEVENT
BEGIN:VEVENT
DTEND:20260226T171500
UID:69e905b7069ad
DTSTAMP:20260422T173031
LOCATION:Aula 9B San Giobbe
SUMMARY:EMOTIONAL COMPETENCIES AND PERSONAL DEVELOPMENT [PLM003] - BONESSO Sara\, Lezione
URL;VALUE=URI://www.unive.it/data/insegnamento/585420
DTSTART:20260226T154500
END:VEVENT
BEGIN:VEVENT
DTEND:20260303T190000
UID:69e905b7069f9
DTSTAMP:20260422T173031
LOCATION:Aula 9B San Giobbe
SUMMARY:EMOTIONAL COMPETENCIES AND PERSONAL DEVELOPMENT [PLM003] - BONESSO Sara\, Lezione
URL;VALUE=URI://www.unive.it/data/insegnamento/585420
DTSTART:20260303T154500
END:VEVENT
BEGIN:VEVENT
DTEND:20260305T171500
UID:69e905b706a45
DTSTAMP:20260422T173031
LOCATION:Aula 9B San Giobbe
SUMMARY:EMOTIONAL COMPETENCIES AND PERSONAL DEVELOPMENT [PLM003] - BONESSO Sara\, Lezione
URL;VALUE=URI://www.unive.it/data/insegnamento/585420
DTSTART:20260305T154500
END:VEVENT
BEGIN:VEVENT
DTEND:20260310T190000
UID:69e905b706a8f
DTSTAMP:20260422T173031
LOCATION:Aula 9B San Giobbe
SUMMARY:EMOTIONAL COMPETENCIES AND PERSONAL DEVELOPMENT [PLM003] - BONESSO Sara\, Lezione
URL;VALUE=URI://www.unive.it/data/insegnamento/585420
DTSTART:20260310T154500
END:VEVENT
BEGIN:VEVENT
DTEND:20260312T171500
UID:69e905b706adb
DTSTAMP:20260422T173031
LOCATION:Aula 9B San Giobbe
SUMMARY:EMOTIONAL COMPETENCIES AND PERSONAL DEVELOPMENT [PLM003] - BONESSO Sara\, Lezione
URL;VALUE=URI://www.unive.it/data/insegnamento/585420
DTSTART:20260312T154500
END:VEVENT
BEGIN:VEVENT
DTEND:20260317T190000
UID:69e905b706b26
DTSTAMP:20260422T173031
LOCATION:Aula 9B San Giobbe
SUMMARY:EMOTIONAL COMPETENCIES AND PERSONAL DEVELOPMENT [PLM003] - BONESSO Sara\, Lezione
URL;VALUE=URI://www.unive.it/data/insegnamento/585420
DTSTART:20260317T154500
END:VEVENT
BEGIN:VEVENT
DTEND:20260319T171500
UID:69e905b706b71
DTSTAMP:20260422T173031
LOCATION:Aula 9B San Giobbe
SUMMARY:EMOTIONAL COMPETENCIES AND PERSONAL DEVELOPMENT [PLM003] - BONESSO Sara\, Lezione
URL;VALUE=URI://www.unive.it/data/insegnamento/585420
DTSTART:20260319T154500
END:VEVENT
BEGIN:VEVENT
DTEND:20260324T190000
UID:69e905b706ba1
DTSTAMP:20260422T173031
LOCATION:Aula 9B San Giobbe
SUMMARY:EMOTIONAL COMPETENCIES AND PERSONAL DEVELOPMENT [PLM003] - BONESSO Sara\, Lezione
URL;VALUE=URI://www.unive.it/data/insegnamento/585420
DTSTART:20260324T154500
END:VEVENT
BEGIN:VEVENT
DTEND:20260326T171500
UID:69e905b706beb
DTSTAMP:20260422T173031
LOCATION:Aula 9B San Giobbe
SUMMARY:EMOTIONAL COMPETENCIES AND PERSONAL DEVELOPMENT [PLM003] - BONESSO Sara\, Lezione
URL;VALUE=URI://www.unive.it/data/insegnamento/585420
DTSTART:20260326T154500
END:VEVENT
END:VCALENDAR