BEGIN:VCALENDAR
VERSION:2.0
PRODID:-//hacksw/handcal//NONSGML v1.0//EN
CALSCALE:GREGORIAN
X-WR-CALNAME:COMPETENZE EMOTIVE E SVILUPPO INDIVIDUALE [PLM002]
DESCRIPTION:COMPETENZE EMOTIVE E SVILUPPO INDIVIDUALE [PLM002]
REFRESH-INTERVAL;VALUE=DURATION:P1D
X-WR-TIMEZONE:Europe/Rome
BEGIN:VEVENT
DTEND:20260407T190000
UID:69e9404a23f56
DTSTAMP:20260422T214026
LOCATION:Aula 9B San Giobbe
SUMMARY:COMPETENZE EMOTIVE E SVILUPPO INDIVIDUALE [PLM002] - Gerli Fabrizio\, Lezione
URL;VALUE=URI://www.unive.it/data/insegnamento/585421
DTSTART:20260407T154500
END:VEVENT
BEGIN:VEVENT
DTEND:20260409T190000
UID:69e9404a2401e
DTSTAMP:20260422T214026
LOCATION:Aula 9B San Giobbe
SUMMARY:COMPETENZE EMOTIVE E SVILUPPO INDIVIDUALE [PLM002] - Gerli Fabrizio\, Lezione
URL;VALUE=URI://www.unive.it/data/insegnamento/585421
DTSTART:20260409T173000
END:VEVENT
BEGIN:VEVENT
DTEND:20260414T190000
UID:69e9404a24066
DTSTAMP:20260422T214026
LOCATION:Aula 9B San Giobbe
SUMMARY:COMPETENZE EMOTIVE E SVILUPPO INDIVIDUALE [PLM002] - Gerli Fabrizio\, Lezione
URL;VALUE=URI://www.unive.it/data/insegnamento/585421
DTSTART:20260414T154500
END:VEVENT
BEGIN:VEVENT
DTEND:20260416T190000
UID:69e9404a240c4
DTSTAMP:20260422T214026
LOCATION:Aula 9B San Giobbe
SUMMARY:COMPETENZE EMOTIVE E SVILUPPO INDIVIDUALE [PLM002] - Gerli Fabrizio\, Lezione
URL;VALUE=URI://www.unive.it/data/insegnamento/585421
DTSTART:20260416T173000
END:VEVENT
BEGIN:VEVENT
DTEND:20260421T190000
UID:69e9404a24121
DTSTAMP:20260422T214026
LOCATION:Aula 9B San Giobbe
SUMMARY:COMPETENZE EMOTIVE E SVILUPPO INDIVIDUALE [PLM002] - Gerli Fabrizio\, Lezione
URL;VALUE=URI://www.unive.it/data/insegnamento/585421
DTSTART:20260421T154500
END:VEVENT
BEGIN:VEVENT
DTEND:20260423T190000
UID:69e9404a2417c
DTSTAMP:20260422T214026
LOCATION:Aula 9B San Giobbe
SUMMARY:COMPETENZE EMOTIVE E SVILUPPO INDIVIDUALE [PLM002] - Gerli Fabrizio\, Lezione
URL;VALUE=URI://www.unive.it/data/insegnamento/585421
DTSTART:20260423T173000
END:VEVENT
BEGIN:VEVENT
DTEND:20260428T190000
UID:69e9404a241d3
DTSTAMP:20260422T214026
LOCATION:Aula 9B San Giobbe
SUMMARY:COMPETENZE EMOTIVE E SVILUPPO INDIVIDUALE [PLM002] - Gerli Fabrizio\, Lezione
URL;VALUE=URI://www.unive.it/data/insegnamento/585421
DTSTART:20260428T154500
END:VEVENT
BEGIN:VEVENT
DTEND:20260430T190000
UID:69e9404a2422a
DTSTAMP:20260422T214026
LOCATION:Aula 9B San Giobbe
SUMMARY:COMPETENZE EMOTIVE E SVILUPPO INDIVIDUALE [PLM002] - Gerli Fabrizio\, Lezione
URL;VALUE=URI://www.unive.it/data/insegnamento/585421
DTSTART:20260430T173000
END:VEVENT
BEGIN:VEVENT
DTEND:20260505T190000
UID:69e9404a24282
DTSTAMP:20260422T214026
LOCATION:Aula 9B San Giobbe
SUMMARY:COMPETENZE EMOTIVE E SVILUPPO INDIVIDUALE [PLM002] - Gerli Fabrizio\, Lezione
URL;VALUE=URI://www.unive.it/data/insegnamento/585421
DTSTART:20260505T154500
END:VEVENT
BEGIN:VEVENT
DTEND:20260507T190000
UID:69e9404a242db
DTSTAMP:20260422T214026
LOCATION:Aula 9B San Giobbe
SUMMARY:COMPETENZE EMOTIVE E SVILUPPO INDIVIDUALE [PLM002] - Gerli Fabrizio\, Lezione
URL;VALUE=URI://www.unive.it/data/insegnamento/585421
DTSTART:20260507T173000
END:VEVENT
BEGIN:VEVENT
DTEND:20260512T190000
UID:69e9404a24335
DTSTAMP:20260422T214026
LOCATION:Aula 9B San Giobbe
SUMMARY:COMPETENZE EMOTIVE E SVILUPPO INDIVIDUALE [PLM002] - Gerli Fabrizio\, Lezione
URL;VALUE=URI://www.unive.it/data/insegnamento/585421
DTSTART:20260512T154500
END:VEVENT
BEGIN:VEVENT
DTEND:20260514T190000
UID:69e9404a24390
DTSTAMP:20260422T214026
LOCATION:Aula 9B San Giobbe
SUMMARY:COMPETENZE EMOTIVE E SVILUPPO INDIVIDUALE [PLM002] - Gerli Fabrizio\, Lezione
URL;VALUE=URI://www.unive.it/data/insegnamento/585421
DTSTART:20260514T173000
END:VEVENT
END:VCALENDAR