BEGIN:VCALENDAR
VERSION:2.0
PRODID:-//hacksw/handcal//NONSGML v1.0//EN
CALSCALE:GREGORIAN
X-WR-CALNAME:LINGUISTICA SLAVA [LM0640]
DESCRIPTION:LINGUISTICA SLAVA [LM0640]
REFRESH-INTERVAL;VALUE=DURATION:P1D
X-WR-TIMEZONE:Europe/Rome
BEGIN:VEVENT
DTEND:20250925T171500
UID:69e940498bdc3
DTSTAMP:20260422T214025
LOCATION:Aula 6 Rio Novo
SUMMARY:LINGUISTICA SLAVA [LM0640] - KRAPOVA Iliana\, Lezione
URL;VALUE=URI://www.unive.it/data/insegnamento/585623
DTSTART:20250925T154500
END:VEVENT
BEGIN:VEVENT
DTEND:20251002T171500
UID:69e940498be79
DTSTAMP:20260422T214025
LOCATION:Aula 6 Rio Novo
SUMMARY:LINGUISTICA SLAVA [LM0640] - KRAPOVA Iliana\, Lezione
URL;VALUE=URI://www.unive.it/data/insegnamento/585623
DTSTART:20251002T154500
END:VEVENT
BEGIN:VEVENT
DTEND:20251009T171500
UID:69e940498bec8
DTSTAMP:20260422T214025
LOCATION:Aula 6 Rio Novo
SUMMARY:LINGUISTICA SLAVA [LM0640] - KRAPOVA Iliana\, Lezione
URL;VALUE=URI://www.unive.it/data/insegnamento/585623
DTSTART:20251009T154500
END:VEVENT
BEGIN:VEVENT
DTEND:20251016T171500
UID:69e940498bf12
DTSTAMP:20260422T214025
LOCATION:Aula 6 Rio Novo
SUMMARY:LINGUISTICA SLAVA [LM0640] - KRAPOVA Iliana\, Lezione
URL;VALUE=URI://www.unive.it/data/insegnamento/585623
DTSTART:20251016T154500
END:VEVENT
BEGIN:VEVENT
DTEND:20251023T171500
UID:69e940498bf5c
DTSTAMP:20260422T214025
LOCATION:Aula 6 Rio Novo
SUMMARY:LINGUISTICA SLAVA [LM0640] - KRAPOVA Iliana\, Lezione
URL;VALUE=URI://www.unive.it/data/insegnamento/585623
DTSTART:20251023T154500
END:VEVENT
BEGIN:VEVENT
DTEND:20251030T171500
UID:69e940498bfa6
DTSTAMP:20260422T214025
LOCATION:Aula 6 Rio Novo
SUMMARY:LINGUISTICA SLAVA [LM0640] - KRAPOVA Iliana\, Lezione
URL;VALUE=URI://www.unive.it/data/insegnamento/585623
DTSTART:20251030T154500
END:VEVENT
BEGIN:VEVENT
DTEND:20251106T171500
UID:69e940498bfef
DTSTAMP:20260422T214025
LOCATION:Aula 6 Rio Novo
SUMMARY:LINGUISTICA SLAVA [LM0640] - KRAPOVA Iliana\, Lezione
URL;VALUE=URI://www.unive.it/data/insegnamento/585623
DTSTART:20251106T154500
END:VEVENT
BEGIN:VEVENT
DTEND:20251113T171500
UID:69e940498c039
DTSTAMP:20260422T214025
LOCATION:Aula 6 Rio Novo
SUMMARY:LINGUISTICA SLAVA [LM0640] - KRAPOVA Iliana\, Lezione
URL;VALUE=URI://www.unive.it/data/insegnamento/585623
DTSTART:20251113T154500
END:VEVENT
BEGIN:VEVENT
DTEND:20251120T171500
UID:69e940498c077
DTSTAMP:20260422T214025
LOCATION:Aula 6 Rio Novo
SUMMARY:LINGUISTICA SLAVA [LM0640] - KRAPOVA Iliana\, Lezione
URL;VALUE=URI://www.unive.it/data/insegnamento/585623
DTSTART:20251120T154500
END:VEVENT
BEGIN:VEVENT
DTEND:20251127T171500
UID:69e940498c0c1
DTSTAMP:20260422T214025
LOCATION:Aula 6 Rio Novo
SUMMARY:LINGUISTICA SLAVA [LM0640] - KRAPOVA Iliana\, Lezione
URL;VALUE=URI://www.unive.it/data/insegnamento/585623
DTSTART:20251127T154500
END:VEVENT
BEGIN:VEVENT
DTEND:20251204T171500
UID:69e940498c10b
DTSTAMP:20260422T214025
LOCATION:Aula 6 Rio Novo
SUMMARY:LINGUISTICA SLAVA [LM0640] - KRAPOVA Iliana\, Lezione
URL;VALUE=URI://www.unive.it/data/insegnamento/585623
DTSTART:20251204T154500
END:VEVENT
BEGIN:VEVENT
DTEND:20251211T171500
UID:69e940498c155
DTSTAMP:20260422T214025
LOCATION:Aula 6 Rio Novo
SUMMARY:LINGUISTICA SLAVA [LM0640] - KRAPOVA Iliana\, Lezione
URL;VALUE=URI://www.unive.it/data/insegnamento/585623
DTSTART:20251211T154500
END:VEVENT
BEGIN:VEVENT
DTEND:20251218T171500
UID:69e940498c19e
DTSTAMP:20260422T214025
LOCATION:Aula 6 Rio Novo
SUMMARY:LINGUISTICA SLAVA [LM0640] - KRAPOVA Iliana\, Lezione
URL;VALUE=URI://www.unive.it/data/insegnamento/585623
DTSTART:20251218T154500
END:VEVENT
BEGIN:VEVENT
DTEND:20260115T171500
UID:69e940498c1ed
DTSTAMP:20260422T214025
LOCATION:Aula 6 Rio Novo
SUMMARY:LINGUISTICA SLAVA [LM0640] - KRAPOVA Iliana\, Lezione
URL;VALUE=URI://www.unive.it/data/insegnamento/585623
DTSTART:20260115T154500
END:VEVENT
BEGIN:VEVENT
DTEND:20260122T171500
UID:69e940498c236
DTSTAMP:20260422T214025
LOCATION:Aula 6 Rio Novo
SUMMARY:LINGUISTICA SLAVA [LM0640] - KRAPOVA Iliana\, Lezione
URL;VALUE=URI://www.unive.it/data/insegnamento/585623
DTSTART:20260122T154500
END:VEVENT
END:VCALENDAR