BEGIN:VCALENDAR
VERSION:2.0
PRODID:-//hacksw/handcal//NONSGML v1.0//EN
CALSCALE:GREGORIAN
X-WR-CALNAME:ORGANIZATION STUDIES [PHD069]
DESCRIPTION:ORGANIZATION STUDIES [PHD069]
REFRESH-INTERVAL;VALUE=DURATION:P1D
X-WR-TIMEZONE:Europe/Rome
BEGIN:VEVENT
DTEND:20260218T153000
UID:69e905b78b9e5
DTSTAMP:20260422T173031
LOCATION:Aula Torcello (VSM) San Giobbe
SUMMARY:ORGANIZATION STUDIES [PHD069] - COMACCHIO Anna\, Lezione
URL;VALUE=URI://www.unive.it/data/insegnamento/586261
DTSTART:20260218T140000
END:VEVENT
BEGIN:VEVENT
DTEND:20260219T171500
UID:69e905b78ba72
DTSTAMP:20260422T173031
LOCATION:Aula Torcello (VSM) San Giobbe
SUMMARY:ORGANIZATION STUDIES [PHD069] - COMACCHIO Anna\, Lezione
URL;VALUE=URI://www.unive.it/data/insegnamento/586261
DTSTART:20260219T154500
END:VEVENT
BEGIN:VEVENT
DTEND:20260220T153000
UID:69e905b78bac4
DTSTAMP:20260422T173031
LOCATION:Aula Torcello (VSM) San Giobbe
SUMMARY:ORGANIZATION STUDIES [PHD069] - COMACCHIO Anna\, Lezione
URL;VALUE=URI://www.unive.it/data/insegnamento/586261
DTSTART:20260220T140000
END:VEVENT
BEGIN:VEVENT
DTEND:20260225T153000
UID:69e905b78bb11
DTSTAMP:20260422T173031
LOCATION:Aula Torcello (VSM) San Giobbe
SUMMARY:ORGANIZATION STUDIES [PHD069] - COMACCHIO Anna\, Lezione
URL;VALUE=URI://www.unive.it/data/insegnamento/586261
DTSTART:20260225T140000
END:VEVENT
BEGIN:VEVENT
DTEND:20260226T171500
UID:69e905b78bb5c
DTSTAMP:20260422T173031
LOCATION:Aula Torcello (VSM) San Giobbe
SUMMARY:ORGANIZATION STUDIES [PHD069] - COMACCHIO Anna\, Lezione
URL;VALUE=URI://www.unive.it/data/insegnamento/586261
DTSTART:20260226T154500
END:VEVENT
BEGIN:VEVENT
DTEND:20260227T153000
UID:69e905b78bba6
DTSTAMP:20260422T173031
LOCATION:Aula Torcello (VSM) San Giobbe
SUMMARY:ORGANIZATION STUDIES [PHD069] - COMACCHIO Anna\, Lezione
URL;VALUE=URI://www.unive.it/data/insegnamento/586261
DTSTART:20260227T140000
END:VEVENT
BEGIN:VEVENT
DTEND:20260304T120000
UID:69e905b78bbf0
DTSTAMP:20260422T173031
LOCATION:Aula Torcello (VSM) San Giobbe
SUMMARY:ORGANIZATION STUDIES [PHD069] - COMACCHIO Anna\, Lezione
URL;VALUE=URI://www.unive.it/data/insegnamento/586261
DTSTART:20260304T103000
END:VEVENT
BEGIN:VEVENT
DTEND:20260305T171500
UID:69e905b78bc3b
DTSTAMP:20260422T173031
LOCATION:Aula Torcello (VSM) San Giobbe
SUMMARY:ORGANIZATION STUDIES [PHD069] - COMACCHIO Anna\, Lezione
URL;VALUE=URI://www.unive.it/data/insegnamento/586261
DTSTART:20260305T154500
END:VEVENT
BEGIN:VEVENT
DTEND:20260311T120000
UID:69e905b78bc87
DTSTAMP:20260422T173031
LOCATION:Aula Torcello (VSM) San Giobbe
SUMMARY:ORGANIZATION STUDIES [PHD069] - COMACCHIO Anna\, Lezione
URL;VALUE=URI://www.unive.it/data/insegnamento/586261
DTSTART:20260311T103000
END:VEVENT
BEGIN:VEVENT
DTEND:20260312T171500
UID:69e905b78bcd2
DTSTAMP:20260422T173031
LOCATION:Aula Torcello (VSM) San Giobbe
SUMMARY:ORGANIZATION STUDIES [PHD069] - COMACCHIO Anna\, Lezione
URL;VALUE=URI://www.unive.it/data/insegnamento/586261
DTSTART:20260312T154500
END:VEVENT
BEGIN:VEVENT
DTEND:20260313T153000
UID:69e905b78bd1c
DTSTAMP:20260422T173031
LOCATION:Aula Saraceno (VSM) San Giobbe
SUMMARY:ORGANIZATION STUDIES [PHD069] - COMACCHIO Anna\, Lezione
URL;VALUE=URI://www.unive.it/data/insegnamento/586261
DTSTART:20260313T140000
END:VEVENT
BEGIN:VEVENT
DTEND:20260318T120000
UID:69e905b78bd67
DTSTAMP:20260422T173031
LOCATION:Aula Torcello (VSM) San Giobbe
SUMMARY:ORGANIZATION STUDIES [PHD069] - COMACCHIO Anna\, Lezione
URL;VALUE=URI://www.unive.it/data/insegnamento/586261
DTSTART:20260318T103000
END:VEVENT
BEGIN:VEVENT
DTEND:20260319T171500
UID:69e905b78bdb3
DTSTAMP:20260422T173031
LOCATION:Aula Torcello (VSM) San Giobbe
SUMMARY:ORGANIZATION STUDIES [PHD069] - COMACCHIO Anna\, Lezione
URL;VALUE=URI://www.unive.it/data/insegnamento/586261
DTSTART:20260319T154500
END:VEVENT
BEGIN:VEVENT
DTEND:20260320T153000
UID:69e905b78be02
DTSTAMP:20260422T173031
LOCATION:Aula Saraceno (VSM) San Giobbe
SUMMARY:ORGANIZATION STUDIES [PHD069] - COMACCHIO Anna\, Lezione
URL;VALUE=URI://www.unive.it/data/insegnamento/586261
DTSTART:20260320T140000
END:VEVENT
BEGIN:VEVENT
DTEND:20260330T120000
UID:69e905b78be4c
DTSTAMP:20260422T173031
LOCATION:Aula Saraceno (VSM) San Giobbe
SUMMARY:ORGANIZATION STUDIES [PHD069] - COMACCHIO Anna\, Lezione
URL;VALUE=URI://www.unive.it/data/insegnamento/586261
DTSTART:20260330T103000
END:VEVENT
END:VCALENDAR