BEGIN:VCALENDAR
VERSION:2.0
PRODID:-//hacksw/handcal//NONSGML v1.0//EN
CALSCALE:GREGORIAN
X-WR-CALNAME:MANAGEMENT AND ORGANIZATIONAL HISTORY [PHD194]
DESCRIPTION:MANAGEMENT AND ORGANIZATIONAL HISTORY [PHD194]
REFRESH-INTERVAL;VALUE=DURATION:P1D
X-WR-TIMEZONE:Europe/Rome
BEGIN:VEVENT
DTEND:20260414T120000
UID:69e74c2b1e071
DTSTAMP:20260421T100635
LOCATION:Aula Torcello (VSM) San Giobbe
SUMMARY:MANAGEMENT AND ORGANIZATIONAL HISTORY [PHD194] - FAVERO Giovanni\, Lezione
URL;VALUE=URI://www.unive.it/data/insegnamento/586263
DTSTART:20260414T103000
END:VEVENT
BEGIN:VEVENT
DTEND:20260415T153000
UID:69e74c2b1e11d
DTSTAMP:20260421T100635
LOCATION:Aula Torcello (VSM) San Giobbe
SUMMARY:MANAGEMENT AND ORGANIZATIONAL HISTORY [PHD194] - FAVERO Giovanni\, Lezione
URL;VALUE=URI://www.unive.it/data/insegnamento/586263
DTSTART:20260415T140000
END:VEVENT
BEGIN:VEVENT
DTEND:20260416T120000
UID:69e74c2b1e173
DTSTAMP:20260421T100635
LOCATION:Aula Torcello (VSM) San Giobbe
SUMMARY:MANAGEMENT AND ORGANIZATIONAL HISTORY [PHD194] - FAVERO Giovanni\, Lezione
URL;VALUE=URI://www.unive.it/data/insegnamento/586263
DTSTART:20260416T103000
END:VEVENT
BEGIN:VEVENT
DTEND:20260420T120000
UID:69e74c2b1e1c9
DTSTAMP:20260421T100635
LOCATION:Aula Torcello (VSM) San Giobbe
SUMMARY:MANAGEMENT AND ORGANIZATIONAL HISTORY [PHD194] - FAVERO Giovanni\, Lezione
URL;VALUE=URI://www.unive.it/data/insegnamento/586263
DTSTART:20260420T103000
END:VEVENT
BEGIN:VEVENT
DTEND:20260421T120000
UID:69e74c2b1e21d
DTSTAMP:20260421T100635
LOCATION:Aula Torcello (VSM) San Giobbe
SUMMARY:MANAGEMENT AND ORGANIZATIONAL HISTORY [PHD194] - FAVERO Giovanni\, Lezione
URL;VALUE=URI://www.unive.it/data/insegnamento/586263
DTSTART:20260421T103000
END:VEVENT
BEGIN:VEVENT
DTEND:20260423T120000
UID:69e74c2b1e277
DTSTAMP:20260421T100635
LOCATION:Aula Torcello (VSM) San Giobbe
SUMMARY:MANAGEMENT AND ORGANIZATIONAL HISTORY [PHD194] - FAVERO Giovanni\, Lezione
URL;VALUE=URI://www.unive.it/data/insegnamento/586263
DTSTART:20260423T103000
END:VEVENT
BEGIN:VEVENT
DTEND:20260427T120000
UID:69e74c2b1e2fa
DTSTAMP:20260421T100635
LOCATION:Aula Torcello (VSM) San Giobbe
SUMMARY:MANAGEMENT AND ORGANIZATIONAL HISTORY [PHD194] - FAVERO Giovanni\, Lezione
URL;VALUE=URI://www.unive.it/data/insegnamento/586263
DTSTART:20260427T103000
END:VEVENT
BEGIN:VEVENT
DTEND:20260428T120000
UID:69e74c2b1e352
DTSTAMP:20260421T100635
LOCATION:Aula Torcello (VSM) San Giobbe
SUMMARY:MANAGEMENT AND ORGANIZATIONAL HISTORY [PHD194] - FAVERO Giovanni\, Lezione
URL;VALUE=URI://www.unive.it/data/insegnamento/586263
DTSTART:20260428T103000
END:VEVENT
BEGIN:VEVENT
DTEND:20260430T120000
UID:69e74c2b1e3a8
DTSTAMP:20260421T100635
LOCATION:Aula Torcello (VSM) San Giobbe
SUMMARY:MANAGEMENT AND ORGANIZATIONAL HISTORY [PHD194] - FAVERO Giovanni\, Lezione
URL;VALUE=URI://www.unive.it/data/insegnamento/586263
DTSTART:20260430T103000
END:VEVENT
BEGIN:VEVENT
DTEND:20260504T120000
UID:69e74c2b1e3fd
DTSTAMP:20260421T100635
LOCATION:Aula Torcello (VSM) San Giobbe
SUMMARY:MANAGEMENT AND ORGANIZATIONAL HISTORY [PHD194] - FAVERO Giovanni\, Lezione
URL;VALUE=URI://www.unive.it/data/insegnamento/586263
DTSTART:20260504T103000
END:VEVENT
BEGIN:VEVENT
DTEND:20260505T120000
UID:69e74c2b1e452
DTSTAMP:20260421T100635
LOCATION:Aula Torcello (VSM) San Giobbe
SUMMARY:MANAGEMENT AND ORGANIZATIONAL HISTORY [PHD194] - FAVERO Giovanni\, Lezione
URL;VALUE=URI://www.unive.it/data/insegnamento/586263
DTSTART:20260505T103000
END:VEVENT
BEGIN:VEVENT
DTEND:20260507T120000
UID:69e74c2b1e4a7
DTSTAMP:20260421T100635
LOCATION:Aula Torcello (VSM) San Giobbe
SUMMARY:MANAGEMENT AND ORGANIZATIONAL HISTORY [PHD194] - FAVERO Giovanni\, Lezione
URL;VALUE=URI://www.unive.it/data/insegnamento/586263
DTSTART:20260507T103000
END:VEVENT
BEGIN:VEVENT
DTEND:20260511T120000
UID:69e74c2b1e4fe
DTSTAMP:20260421T100635
LOCATION:Aula Torcello (VSM) San Giobbe
SUMMARY:MANAGEMENT AND ORGANIZATIONAL HISTORY [PHD194] - FAVERO Giovanni\, Lezione
URL;VALUE=URI://www.unive.it/data/insegnamento/586263
DTSTART:20260511T103000
END:VEVENT
BEGIN:VEVENT
DTEND:20260512T120000
UID:69e74c2b1e556
DTSTAMP:20260421T100635
LOCATION:Aula Torcello (VSM) San Giobbe
SUMMARY:MANAGEMENT AND ORGANIZATIONAL HISTORY [PHD194] - FAVERO Giovanni\, Lezione
URL;VALUE=URI://www.unive.it/data/insegnamento/586263
DTSTART:20260512T103000
END:VEVENT
BEGIN:VEVENT
DTEND:20260514T120000
UID:69e74c2b1ef0d
DTSTAMP:20260421T100635
LOCATION:Aula Torcello (VSM) San Giobbe
SUMMARY:MANAGEMENT AND ORGANIZATIONAL HISTORY [PHD194] - FAVERO Giovanni\, Lezione
URL;VALUE=URI://www.unive.it/data/insegnamento/586263
DTSTART:20260514T103000
END:VEVENT
END:VCALENDAR