BEGIN:VCALENDAR
VERSION:2.0
PRODID:-//hacksw/handcal//NONSGML v1.0//EN
CALSCALE:GREGORIAN
X-WR-CALNAME:MACHINE LEARNING FOR ENVIRONMENTAL APPLICATIONS [PHD153]
DESCRIPTION:MACHINE LEARNING FOR ENVIRONMENTAL APPLICATIONS [PHD153]
REFRESH-INTERVAL;VALUE=DURATION:P1D
X-WR-TIMEZONE:Europe/Rome
BEGIN:VEVENT
DTEND:20260402T134500
UID:69e6e5408f675
DTSTAMP:20260421T024728
LOCATION:Aula Epsilon 2 Campus scientifico via Torino (edificio Epsilon)
SUMMARY:MACHINE LEARNING FOR ENVIRONMENTAL APPLICATIONS [PHD153] - VASCON SEBASTIANO\, Lezione
URL;VALUE=URI://www.unive.it/data/insegnamento/587750
DTSTART:20260402T103000
END:VEVENT
BEGIN:VEVENT
DTEND:20260430T134500
UID:69e6e5408f6f8
DTSTAMP:20260421T024728
LOCATION:Aula C Campus scientifico via Torino (edificio Zeta)
SUMMARY:MACHINE LEARNING FOR ENVIRONMENTAL APPLICATIONS [PHD153] - VASCON SEBASTIANO\, Lezione
URL;VALUE=URI://www.unive.it/data/insegnamento/587750
DTSTART:20260430T103000
END:VEVENT
BEGIN:VEVENT
DTEND:20260507T134500
UID:69e6e5408f720
DTSTAMP:20260421T024728
LOCATION:Aula C Campus scientifico via Torino (edificio Zeta)
SUMMARY:MACHINE LEARNING FOR ENVIRONMENTAL APPLICATIONS [PHD153] - VASCON SEBASTIANO\, Lezione
URL;VALUE=URI://www.unive.it/data/insegnamento/587750
DTSTART:20260507T103000
END:VEVENT
BEGIN:VEVENT
DTEND:20260514T134500
UID:69e6e5408f772
DTSTAMP:20260421T024728
LOCATION:Aula Epsilon 2 Campus scientifico via Torino (edificio Epsilon)
SUMMARY:MACHINE LEARNING FOR ENVIRONMENTAL APPLICATIONS [PHD153] - VASCON SEBASTIANO\, Lezione
URL;VALUE=URI://www.unive.it/data/insegnamento/587750
DTSTART:20260514T103000
END:VEVENT
BEGIN:VEVENT
DTEND:20260615T134500
UID:69e6e5408f7c0
DTSTAMP:20260421T024728
LOCATION:Aula Epsilon 1 Campus scientifico via Torino (edificio Epsilon)
SUMMARY:MACHINE LEARNING FOR ENVIRONMENTAL APPLICATIONS [PHD153] - VASCON SEBASTIANO\, Lezione
URL;VALUE=URI://www.unive.it/data/insegnamento/587750
DTSTART:20260615T100000
END:VEVENT
BEGIN:VEVENT
DTEND:20260617T134500
UID:69e6e5408f80d
DTSTAMP:20260421T024728
LOCATION:Aula Epsilon 3 Campus scientifico via Torino (edificio Epsilon)
SUMMARY:MACHINE LEARNING FOR ENVIRONMENTAL APPLICATIONS [PHD153] - VASCON SEBASTIANO\, Lezione
URL;VALUE=URI://www.unive.it/data/insegnamento/587750
DTSTART:20260617T100000
END:VEVENT
BEGIN:VEVENT
DTEND:20260623T134500
UID:69e6e5408f859
DTSTAMP:20260421T024728
LOCATION:Aula A Campus scientifico via Torino (edificio Zeta)
SUMMARY:MACHINE LEARNING FOR ENVIRONMENTAL APPLICATIONS [PHD153] - VASCON SEBASTIANO\, Lezione
URL;VALUE=URI://www.unive.it/data/insegnamento/587750
DTSTART:20260623T100000
END:VEVENT
BEGIN:VEVENT
DTEND:20260625T134500
UID:69e6e5408f8a6
DTSTAMP:20260421T024728
LOCATION:Aula Epsilon 3 Campus scientifico via Torino (edificio Epsilon)
SUMMARY:MACHINE LEARNING FOR ENVIRONMENTAL APPLICATIONS [PHD153] - VASCON SEBASTIANO\, Lezione
URL;VALUE=URI://www.unive.it/data/insegnamento/587750
DTSTART:20260625T100000
END:VEVENT
END:VCALENDAR