BEGIN:VCALENDAR
VERSION:2.0
PRODID:-//hacksw/handcal//NONSGML v1.0//EN
CALSCALE:GREGORIAN
X-WR-CALNAME:LINGUA E CULTURA CINESE MOD.1 [LT025I]
DESCRIPTION:LINGUA E CULTURA CINESE MOD.1 [LT025I]
REFRESH-INTERVAL;VALUE=DURATION:P1D
X-WR-TIMEZONE:Europe/Rome
BEGIN:VEVENT
DTEND:20250924T190000
UID:69e7a9887757c
DTSTAMP:20260421T164456
LOCATION:Aula nuova Santa Marta
SUMMARY:LINGUA E CULTURA CINESE MOD.1 [LT025I] - LIU HAOMING\, Lezione
URL;VALUE=URI://www.unive.it/data/insegnamento/588511
DTSTART:20250924T173000
END:VEVENT
BEGIN:VEVENT
DTEND:20251001T190000
UID:69e7a98877602
DTSTAMP:20260421T164456
LOCATION:Aula nuova Santa Marta
SUMMARY:LINGUA E CULTURA CINESE MOD.1 [LT025I] - LIU HAOMING\, Lezione
URL;VALUE=URI://www.unive.it/data/insegnamento/588511
DTSTART:20251001T173000
END:VEVENT
BEGIN:VEVENT
DTEND:20251008T190000
UID:69e7a98877657
DTSTAMP:20260421T164456
LOCATION:Aula nuova Santa Marta
SUMMARY:LINGUA E CULTURA CINESE MOD.1 [LT025I] - LIU HAOMING\, Lezione
URL;VALUE=URI://www.unive.it/data/insegnamento/588511
DTSTART:20251008T173000
END:VEVENT
BEGIN:VEVENT
DTEND:20251015T190000
UID:69e7a988776b2
DTSTAMP:20260421T164456
LOCATION:Aula nuova Santa Marta
SUMMARY:LINGUA E CULTURA CINESE MOD.1 [LT025I] - LIU HAOMING\, Lezione
URL;VALUE=URI://www.unive.it/data/insegnamento/588511
DTSTART:20251015T173000
END:VEVENT
BEGIN:VEVENT
DTEND:20251022T190000
UID:69e7a98877705
DTSTAMP:20260421T164456
LOCATION:Aula nuova Santa Marta
SUMMARY:LINGUA E CULTURA CINESE MOD.1 [LT025I] - LIU HAOMING\, Lezione
URL;VALUE=URI://www.unive.it/data/insegnamento/588511
DTSTART:20251022T173000
END:VEVENT
BEGIN:VEVENT
DTEND:20251029T190000
UID:69e7a9887775a
DTSTAMP:20260421T164456
LOCATION:Aula nuova Santa Marta
SUMMARY:LINGUA E CULTURA CINESE MOD.1 [LT025I] - LIU HAOMING\, Lezione
URL;VALUE=URI://www.unive.it/data/insegnamento/588511
DTSTART:20251029T173000
END:VEVENT
BEGIN:VEVENT
DTEND:20251105T190000
UID:69e7a988777bb
DTSTAMP:20260421T164456
LOCATION:Aula nuova Santa Marta
SUMMARY:LINGUA E CULTURA CINESE MOD.1 [LT025I] - LIU HAOMING\, Lezione
URL;VALUE=URI://www.unive.it/data/insegnamento/588511
DTSTART:20251105T173000
END:VEVENT
BEGIN:VEVENT
DTEND:20251112T190000
UID:69e7a9887781c
DTSTAMP:20260421T164456
LOCATION:Aula nuova Santa Marta
SUMMARY:LINGUA E CULTURA CINESE MOD.1 [LT025I] - LIU HAOMING\, Lezione
URL;VALUE=URI://www.unive.it/data/insegnamento/588511
DTSTART:20251112T173000
END:VEVENT
BEGIN:VEVENT
DTEND:20251119T190000
UID:69e7a98877863
DTSTAMP:20260421T164456
LOCATION:Aula nuova Santa Marta
SUMMARY:LINGUA E CULTURA CINESE MOD.1 [LT025I] - LIU HAOMING\, Lezione
URL;VALUE=URI://www.unive.it/data/insegnamento/588511
DTSTART:20251119T173000
END:VEVENT
BEGIN:VEVENT
DTEND:20251126T190000
UID:69e7a988778c1
DTSTAMP:20260421T164456
LOCATION:Aula nuova Santa Marta
SUMMARY:LINGUA E CULTURA CINESE MOD.1 [LT025I] - LIU HAOMING\, Lezione
URL;VALUE=URI://www.unive.it/data/insegnamento/588511
DTSTART:20251126T173000
END:VEVENT
BEGIN:VEVENT
DTEND:20251203T190000
UID:69e7a98877914
DTSTAMP:20260421T164456
LOCATION:Aula nuova Santa Marta
SUMMARY:LINGUA E CULTURA CINESE MOD.1 [LT025I] - LIU HAOMING\, Lezione
URL;VALUE=URI://www.unive.it/data/insegnamento/588511
DTSTART:20251203T173000
END:VEVENT
BEGIN:VEVENT
DTEND:20251210T190000
UID:69e7a98877966
DTSTAMP:20260421T164456
LOCATION:Aula nuova Santa Marta
SUMMARY:LINGUA E CULTURA CINESE MOD.1 [LT025I] - LIU HAOMING\, Lezione
URL;VALUE=URI://www.unive.it/data/insegnamento/588511
DTSTART:20251210T173000
END:VEVENT
BEGIN:VEVENT
DTEND:20251217T190000
UID:69e7a988779b8
DTSTAMP:20260421T164456
LOCATION:Aula nuova Santa Marta
SUMMARY:LINGUA E CULTURA CINESE MOD.1 [LT025I] - LIU HAOMING\, Lezione
URL;VALUE=URI://www.unive.it/data/insegnamento/588511
DTSTART:20251217T173000
END:VEVENT
BEGIN:VEVENT
DTEND:20260114T190000
UID:69e7a98877a0b
DTSTAMP:20260421T164456
LOCATION:Aula nuova Santa Marta
SUMMARY:LINGUA E CULTURA CINESE MOD.1 [LT025I] - LIU HAOMING\, Lezione
URL;VALUE=URI://www.unive.it/data/insegnamento/588511
DTSTART:20260114T173000
END:VEVENT
BEGIN:VEVENT
DTEND:20260121T190000
UID:69e7a98877a5d
DTSTAMP:20260421T164456
LOCATION:Aula nuova Santa Marta
SUMMARY:LINGUA E CULTURA CINESE MOD.1 [LT025I] - LIU HAOMING\, Lezione
URL;VALUE=URI://www.unive.it/data/insegnamento/588511
DTSTART:20260121T173000
END:VEVENT
END:VCALENDAR