BEGIN:VCALENDAR
VERSION:2.0
PRODID:-//hacksw/handcal//NONSGML v1.0//EN
CALSCALE:GREGORIAN
X-WR-CALNAME:ESERCITAZIONI DI LINGUA HINDI 1 MOD.1A [LT005O]
DESCRIPTION:ESERCITAZIONI DI LINGUA HINDI 1 MOD.1A [LT005O]
REFRESH-INTERVAL;VALUE=DURATION:P1D
X-WR-TIMEZONE:Europe/Rome
BEGIN:VEVENT
DTEND:20250923T120000
UID:69e95fb4d90ea
DTSTAMP:20260422T235428
LOCATION:Aula D Ca' Cappello
SUMMARY:ESERCITAZIONI DI LINGUA HINDI 1 MOD.1A [LT005O] - MEDHEKAR Shyama\, Lezione
URL;VALUE=URI://www.unive.it/data/insegnamento/588554
DTSTART:20250923T103000
END:VEVENT
BEGIN:VEVENT
DTEND:20250925T153000
UID:69e95fb4d9178
DTSTAMP:20260422T235428
LOCATION:Aula A Ca' Cappello
SUMMARY:ESERCITAZIONI DI LINGUA HINDI 1 MOD.1A [LT005O] - MEDHEKAR Shyama\, Lezione
URL;VALUE=URI://www.unive.it/data/insegnamento/588554
DTSTART:20250925T140000
END:VEVENT
BEGIN:VEVENT
DTEND:20251007T120000
UID:69e95fb4d91cd
DTSTAMP:20260422T235428
LOCATION:Aula D Ca' Cappello
SUMMARY:ESERCITAZIONI DI LINGUA HINDI 1 MOD.1A [LT005O] - MEDHEKAR Shyama\, Lezione
URL;VALUE=URI://www.unive.it/data/insegnamento/588554
DTSTART:20251007T103000
END:VEVENT
BEGIN:VEVENT
DTEND:20251014T120000
UID:69e95fb4d921a
DTSTAMP:20260422T235428
LOCATION:Aula D Ca' Cappello
SUMMARY:ESERCITAZIONI DI LINGUA HINDI 1 MOD.1A [LT005O] - MEDHEKAR Shyama\, Lezione
URL;VALUE=URI://www.unive.it/data/insegnamento/588554
DTSTART:20251014T103000
END:VEVENT
BEGIN:VEVENT
DTEND:20251015T120000
UID:69e95fb4d9265
DTSTAMP:20260422T235428
LOCATION:Aula 0D Palazzo Moro
SUMMARY:ESERCITAZIONI DI LINGUA HINDI 1 MOD.1A [LT005O] - MEDHEKAR Shyama\, Lezione
URL;VALUE=URI://www.unive.it/data/insegnamento/588554
DTSTART:20251015T103000
END:VEVENT
BEGIN:VEVENT
DTEND:20251016T153000
UID:69e95fb4d92b0
DTSTAMP:20260422T235428
LOCATION:Aula A Ca' Cappello
SUMMARY:ESERCITAZIONI DI LINGUA HINDI 1 MOD.1A [LT005O] - MEDHEKAR Shyama\, Lezione
URL;VALUE=URI://www.unive.it/data/insegnamento/588554
DTSTART:20251016T140000
END:VEVENT
BEGIN:VEVENT
DTEND:20251021T120000
UID:69e95fb4d92d1
DTSTAMP:20260422T235428
LOCATION:Aula D Ca' Cappello
SUMMARY:ESERCITAZIONI DI LINGUA HINDI 1 MOD.1A [LT005O] - MEDHEKAR Shyama\, Lezione
URL;VALUE=URI://www.unive.it/data/insegnamento/588554
DTSTART:20251021T103000
END:VEVENT
BEGIN:VEVENT
DTEND:20251023T153000
UID:69e95fb4d932a
DTSTAMP:20260422T235428
LOCATION:Aula A Ca' Cappello
SUMMARY:ESERCITAZIONI DI LINGUA HINDI 1 MOD.1A [LT005O] - MEDHEKAR Shyama\, Lezione
URL;VALUE=URI://www.unive.it/data/insegnamento/588554
DTSTART:20251023T140000
END:VEVENT
BEGIN:VEVENT
DTEND:20251028T120000
UID:69e95fb4d9375
DTSTAMP:20260422T235428
LOCATION:Aula D Ca' Cappello
SUMMARY:ESERCITAZIONI DI LINGUA HINDI 1 MOD.1A [LT005O] - MEDHEKAR Shyama\, Lezione
URL;VALUE=URI://www.unive.it/data/insegnamento/588554
DTSTART:20251028T103000
END:VEVENT
BEGIN:VEVENT
DTEND:20251030T153000
UID:69e95fb4d93c0
DTSTAMP:20260422T235428
LOCATION:Aula A Ca' Cappello
SUMMARY:ESERCITAZIONI DI LINGUA HINDI 1 MOD.1A [LT005O] - MEDHEKAR Shyama\, Lezione
URL;VALUE=URI://www.unive.it/data/insegnamento/588554
DTSTART:20251030T140000
END:VEVENT
BEGIN:VEVENT
DTEND:20251104T120000
UID:69e95fb4d940b
DTSTAMP:20260422T235428
LOCATION:Aula D Ca' Cappello
SUMMARY:ESERCITAZIONI DI LINGUA HINDI 1 MOD.1A [LT005O] - MEDHEKAR Shyama\, Lezione
URL;VALUE=URI://www.unive.it/data/insegnamento/588554
DTSTART:20251104T103000
END:VEVENT
BEGIN:VEVENT
DTEND:20251105T120000
UID:69e95fb4d9456
DTSTAMP:20260422T235428
LOCATION:Aula 0B Palazzo Moro
SUMMARY:ESERCITAZIONI DI LINGUA HINDI 1 MOD.1A [LT005O] - MEDHEKAR Shyama\, Lezione
URL;VALUE=URI://www.unive.it/data/insegnamento/588554
DTSTART:20251105T103000
END:VEVENT
BEGIN:VEVENT
DTEND:20251106T153000
UID:69e95fb4d94a1
DTSTAMP:20260422T235428
LOCATION:Aula A Ca' Cappello
SUMMARY:ESERCITAZIONI DI LINGUA HINDI 1 MOD.1A [LT005O] - MEDHEKAR Shyama\, Lezione
URL;VALUE=URI://www.unive.it/data/insegnamento/588554
DTSTART:20251106T140000
END:VEVENT
BEGIN:VEVENT
DTEND:20251111T120000
UID:69e95fb4d94eb
DTSTAMP:20260422T235428
LOCATION:Aula D Ca' Cappello
SUMMARY:ESERCITAZIONI DI LINGUA HINDI 1 MOD.1A [LT005O] - MEDHEKAR Shyama\, Lezione
URL;VALUE=URI://www.unive.it/data/insegnamento/588554
DTSTART:20251111T103000
END:VEVENT
BEGIN:VEVENT
DTEND:20251113T153000
UID:69e95fb4d9536
DTSTAMP:20260422T235428
LOCATION:Aula A Ca' Cappello
SUMMARY:ESERCITAZIONI DI LINGUA HINDI 1 MOD.1A [LT005O] - MEDHEKAR Shyama\, Lezione
URL;VALUE=URI://www.unive.it/data/insegnamento/588554
DTSTART:20251113T140000
END:VEVENT
BEGIN:VEVENT
DTEND:20251118T120000
UID:69e95fb4d9581
DTSTAMP:20260422T235428
LOCATION:Aula D Ca' Cappello
SUMMARY:ESERCITAZIONI DI LINGUA HINDI 1 MOD.1A [LT005O] - MEDHEKAR Shyama\, Lezione
URL;VALUE=URI://www.unive.it/data/insegnamento/588554
DTSTART:20251118T103000
END:VEVENT
BEGIN:VEVENT
DTEND:20251119T120000
UID:69e95fb4d95cb
DTSTAMP:20260422T235428
LOCATION:ALTRO Altro
SUMMARY:ESERCITAZIONI DI LINGUA HINDI 1 MOD.1A [LT005O] - MEDHEKAR Shyama\, Esercitazione
URL;VALUE=URI://www.unive.it/data/insegnamento/588554
DTSTART:20251119T103000
END:VEVENT
BEGIN:VEVENT
DTEND:20251120T153000
UID:69e95fb4d9616
DTSTAMP:20260422T235428
LOCATION:Aula A Ca' Cappello
SUMMARY:ESERCITAZIONI DI LINGUA HINDI 1 MOD.1A [LT005O] - MEDHEKAR Shyama\, Lezione
URL;VALUE=URI://www.unive.it/data/insegnamento/588554
DTSTART:20251120T140000
END:VEVENT
BEGIN:VEVENT
DTEND:20251125T120000
UID:69e95fb4d9661
DTSTAMP:20260422T235428
LOCATION:Aula D Ca' Cappello
SUMMARY:ESERCITAZIONI DI LINGUA HINDI 1 MOD.1A [LT005O] - MEDHEKAR Shyama\, Lezione
URL;VALUE=URI://www.unive.it/data/insegnamento/588554
DTSTART:20251125T103000
END:VEVENT
BEGIN:VEVENT
DTEND:20251127T153000
UID:69e95fb4d96aa
DTSTAMP:20260422T235428
LOCATION:Aula A Ca' Cappello
SUMMARY:ESERCITAZIONI DI LINGUA HINDI 1 MOD.1A [LT005O] - MEDHEKAR Shyama\, Lezione
URL;VALUE=URI://www.unive.it/data/insegnamento/588554
DTSTART:20251127T140000
END:VEVENT
BEGIN:VEVENT
DTEND:20251202T120000
UID:69e95fb4d96fe
DTSTAMP:20260422T235428
LOCATION:Aula D Ca' Cappello
SUMMARY:ESERCITAZIONI DI LINGUA HINDI 1 MOD.1A [LT005O] - MEDHEKAR Shyama\, Lezione
URL;VALUE=URI://www.unive.it/data/insegnamento/588554
DTSTART:20251202T103000
END:VEVENT
BEGIN:VEVENT
DTEND:20251204T153000
UID:69e95fb4d9755
DTSTAMP:20260422T235428
LOCATION:Aula A Ca' Cappello
SUMMARY:ESERCITAZIONI DI LINGUA HINDI 1 MOD.1A [LT005O] - MEDHEKAR Shyama\, Lezione
URL;VALUE=URI://www.unive.it/data/insegnamento/588554
DTSTART:20251204T140000
END:VEVENT
BEGIN:VEVENT
DTEND:20251211T153000
UID:69e95fb4d97a9
DTSTAMP:20260422T235428
LOCATION:Aula A Ca' Cappello
SUMMARY:ESERCITAZIONI DI LINGUA HINDI 1 MOD.1A [LT005O] - MEDHEKAR Shyama\, Lezione
URL;VALUE=URI://www.unive.it/data/insegnamento/588554
DTSTART:20251211T140000
END:VEVENT
BEGIN:VEVENT
DTEND:20251216T101500
UID:69e95fb4d97fe
DTSTAMP:20260422T235428
LOCATION:Aula D Ca' Cappello
SUMMARY:ESERCITAZIONI DI LINGUA HINDI 1 MOD.1A [LT005O] - MEDHEKAR Shyama\, Lezione
URL;VALUE=URI://www.unive.it/data/insegnamento/588554
DTSTART:20251216T084500
END:VEVENT
BEGIN:VEVENT
DTEND:20251216T120000
UID:69e95fb4d9854
DTSTAMP:20260422T235428
LOCATION:Aula D Ca' Cappello
SUMMARY:ESERCITAZIONI DI LINGUA HINDI 1 MOD.1A [LT005O] - MEDHEKAR Shyama\, Lezione
URL;VALUE=URI://www.unive.it/data/insegnamento/588554
DTSTART:20251216T103000
END:VEVENT
BEGIN:VEVENT
DTEND:20251218T153000
UID:69e95fb4d98ab
DTSTAMP:20260422T235428
LOCATION:Aula A Ca' Cappello
SUMMARY:ESERCITAZIONI DI LINGUA HINDI 1 MOD.1A [LT005O] - MEDHEKAR Shyama\, Lezione
URL;VALUE=URI://www.unive.it/data/insegnamento/588554
DTSTART:20251218T140000
END:VEVENT
BEGIN:VEVENT
DTEND:20260113T120000
UID:69e95fb4d9909
DTSTAMP:20260422T235428
LOCATION:Aula D Ca' Cappello
SUMMARY:ESERCITAZIONI DI LINGUA HINDI 1 MOD.1A [LT005O] - MEDHEKAR Shyama\, Lezione
URL;VALUE=URI://www.unive.it/data/insegnamento/588554
DTSTART:20260113T103000
END:VEVENT
BEGIN:VEVENT
DTEND:20260115T153000
UID:69e95fb4d995e
DTSTAMP:20260422T235428
LOCATION:Aula A Ca' Cappello
SUMMARY:ESERCITAZIONI DI LINGUA HINDI 1 MOD.1A [LT005O] - MEDHEKAR Shyama\, Lezione
URL;VALUE=URI://www.unive.it/data/insegnamento/588554
DTSTART:20260115T140000
END:VEVENT
BEGIN:VEVENT
DTEND:20260120T120000
UID:69e95fb4d99a9
DTSTAMP:20260422T235428
LOCATION:Aula D Ca' Cappello
SUMMARY:ESERCITAZIONI DI LINGUA HINDI 1 MOD.1A [LT005O] - MEDHEKAR Shyama\, Lezione
URL;VALUE=URI://www.unive.it/data/insegnamento/588554
DTSTART:20260120T103000
END:VEVENT
BEGIN:VEVENT
DTEND:20260122T153000
UID:69e95fb4d99f5
DTSTAMP:20260422T235428
LOCATION:Aula A Ca' Cappello
SUMMARY:ESERCITAZIONI DI LINGUA HINDI 1 MOD.1A [LT005O] - MEDHEKAR Shyama\, Lezione
URL;VALUE=URI://www.unive.it/data/insegnamento/588554
DTSTART:20260122T140000
END:VEVENT
END:VCALENDAR