BEGIN:VCALENDAR
VERSION:2.0
PRODID:-//hacksw/handcal//NONSGML v1.0//EN
CALSCALE:GREGORIAN
X-WR-CALNAME:ESERCITAZIONI DI LINGUA HINDI 1 MOD.2A [LT005O]
DESCRIPTION:ESERCITAZIONI DI LINGUA HINDI 1 MOD.2A [LT005O]
REFRESH-INTERVAL;VALUE=DURATION:P1D
X-WR-TIMEZONE:Europe/Rome
BEGIN:VEVENT
DTEND:20260324T120000
UID:69e92d77baf47
DTSTAMP:20260422T202007
LOCATION:Aula C Ca' Cappello
SUMMARY:ESERCITAZIONI DI LINGUA HINDI 1 MOD.2A [LT005O] - MEDHEKAR Shyama\, Lezione
URL;VALUE=URI://www.unive.it/data/insegnamento/588555
DTSTART:20260324T103000
END:VEVENT
BEGIN:VEVENT
DTEND:20260326T134500
UID:69e92d77bafd5
DTSTAMP:20260422T202007
LOCATION:Aula C Ca' Cappello
SUMMARY:ESERCITAZIONI DI LINGUA HINDI 1 MOD.2A [LT005O] - MEDHEKAR Shyama\, Lezione
URL;VALUE=URI://www.unive.it/data/insegnamento/588555
DTSTART:20260326T121500
END:VEVENT
BEGIN:VEVENT
DTEND:20260331T120000
UID:69e92d77bb027
DTSTAMP:20260422T202007
LOCATION:Aula C Ca' Cappello
SUMMARY:ESERCITAZIONI DI LINGUA HINDI 1 MOD.2A [LT005O] - MEDHEKAR Shyama\, Lezione
URL;VALUE=URI://www.unive.it/data/insegnamento/588555
DTSTART:20260331T103000
END:VEVENT
BEGIN:VEVENT
DTEND:20260402T134500
UID:69e92d77bb075
DTSTAMP:20260422T202007
LOCATION:Aula C Ca' Cappello
SUMMARY:ESERCITAZIONI DI LINGUA HINDI 1 MOD.2A [LT005O] - MEDHEKAR Shyama\, Lezione
URL;VALUE=URI://www.unive.it/data/insegnamento/588555
DTSTART:20260402T121500
END:VEVENT
BEGIN:VEVENT
DTEND:20260408T134500
UID:69e92d77bb0c0
DTSTAMP:20260422T202007
LOCATION:Aula E (Aula AM B) Ca' Cappello
SUMMARY:ESERCITAZIONI DI LINGUA HINDI 1 MOD.2A [LT005O] - MEDHEKAR Shyama\, Lezione
URL;VALUE=URI://www.unive.it/data/insegnamento/588555
DTSTART:20260408T121500
END:VEVENT
BEGIN:VEVENT
DTEND:20260409T120000
UID:69e92d77bb10a
DTSTAMP:20260422T202007
LOCATION:Aula C Ca' Cappello
SUMMARY:ESERCITAZIONI DI LINGUA HINDI 1 MOD.2A [LT005O] - MEDHEKAR Shyama\, Lezione
URL;VALUE=URI://www.unive.it/data/insegnamento/588555
DTSTART:20260409T103000
END:VEVENT
BEGIN:VEVENT
DTEND:20260414T134500
UID:69e92d77bb155
DTSTAMP:20260422T202007
LOCATION:Aula C Ca' Cappello
SUMMARY:ESERCITAZIONI DI LINGUA HINDI 1 MOD.2A [LT005O] - MEDHEKAR Shyama\, Lezione
URL;VALUE=URI://www.unive.it/data/insegnamento/588555
DTSTART:20260414T121500
END:VEVENT
BEGIN:VEVENT
DTEND:20260415T134500
UID:69e92d77bb1a0
DTSTAMP:20260422T202007
LOCATION:Aula E (Aula AM B) Ca' Cappello
SUMMARY:ESERCITAZIONI DI LINGUA HINDI 1 MOD.2A [LT005O] - MEDHEKAR Shyama\, Lezione
URL;VALUE=URI://www.unive.it/data/insegnamento/588555
DTSTART:20260415T121500
END:VEVENT
BEGIN:VEVENT
DTEND:20260416T120000
UID:69e92d77bb1eb
DTSTAMP:20260422T202007
LOCATION:Aula C Ca' Cappello
SUMMARY:ESERCITAZIONI DI LINGUA HINDI 1 MOD.2A [LT005O] - MEDHEKAR Shyama\, Lezione
URL;VALUE=URI://www.unive.it/data/insegnamento/588555
DTSTART:20260416T103000
END:VEVENT
BEGIN:VEVENT
DTEND:20260421T134500
UID:69e92d77bb235
DTSTAMP:20260422T202007
LOCATION:Aula C Ca' Cappello
SUMMARY:ESERCITAZIONI DI LINGUA HINDI 1 MOD.2A [LT005O] - MEDHEKAR Shyama\, Lezione
URL;VALUE=URI://www.unive.it/data/insegnamento/588555
DTSTART:20260421T121500
END:VEVENT
BEGIN:VEVENT
DTEND:20260422T134500
UID:69e92d77bb258
DTSTAMP:20260422T202007
LOCATION:Aula E (Aula AM B) Ca' Cappello
SUMMARY:ESERCITAZIONI DI LINGUA HINDI 1 MOD.2A [LT005O] - MEDHEKAR Shyama\, Lezione
URL;VALUE=URI://www.unive.it/data/insegnamento/588555
DTSTART:20260422T121500
END:VEVENT
BEGIN:VEVENT
DTEND:20260423T120000
UID:69e92d77bb2a3
DTSTAMP:20260422T202007
LOCATION:Aula C Ca' Cappello
SUMMARY:ESERCITAZIONI DI LINGUA HINDI 1 MOD.2A [LT005O] - MEDHEKAR Shyama\, Lezione
URL;VALUE=URI://www.unive.it/data/insegnamento/588555
DTSTART:20260423T103000
END:VEVENT
BEGIN:VEVENT
DTEND:20260428T134500
UID:69e92d77bb2ed
DTSTAMP:20260422T202007
LOCATION:Aula C Ca' Cappello
SUMMARY:ESERCITAZIONI DI LINGUA HINDI 1 MOD.2A [LT005O] - MEDHEKAR Shyama\, Lezione
URL;VALUE=URI://www.unive.it/data/insegnamento/588555
DTSTART:20260428T121500
END:VEVENT
BEGIN:VEVENT
DTEND:20260429T134500
UID:69e92d77bb337
DTSTAMP:20260422T202007
LOCATION:Aula E (Aula AM B) Ca' Cappello
SUMMARY:ESERCITAZIONI DI LINGUA HINDI 1 MOD.2A [LT005O] - MEDHEKAR Shyama\, Lezione
URL;VALUE=URI://www.unive.it/data/insegnamento/588555
DTSTART:20260429T121500
END:VEVENT
BEGIN:VEVENT
DTEND:20260430T120000
UID:69e92d77bb382
DTSTAMP:20260422T202007
LOCATION:Aula C Ca' Cappello
SUMMARY:ESERCITAZIONI DI LINGUA HINDI 1 MOD.2A [LT005O] - MEDHEKAR Shyama\, Lezione
URL;VALUE=URI://www.unive.it/data/insegnamento/588555
DTSTART:20260430T103000
END:VEVENT
BEGIN:VEVENT
DTEND:20260505T134500
UID:69e92d77bb3cd
DTSTAMP:20260422T202007
LOCATION:Aula C Ca' Cappello
SUMMARY:ESERCITAZIONI DI LINGUA HINDI 1 MOD.2A [LT005O] - MEDHEKAR Shyama\, Lezione
URL;VALUE=URI://www.unive.it/data/insegnamento/588555
DTSTART:20260505T121500
END:VEVENT
BEGIN:VEVENT
DTEND:20260506T134500
UID:69e92d77bb417
DTSTAMP:20260422T202007
LOCATION:Aula E (Aula AM B) Ca' Cappello
SUMMARY:ESERCITAZIONI DI LINGUA HINDI 1 MOD.2A [LT005O] - MEDHEKAR Shyama\, Lezione
URL;VALUE=URI://www.unive.it/data/insegnamento/588555
DTSTART:20260506T121500
END:VEVENT
BEGIN:VEVENT
DTEND:20260507T120000
UID:69e92d77bb462
DTSTAMP:20260422T202007
LOCATION:Aula C Ca' Cappello
SUMMARY:ESERCITAZIONI DI LINGUA HINDI 1 MOD.2A [LT005O] - MEDHEKAR Shyama\, Lezione
URL;VALUE=URI://www.unive.it/data/insegnamento/588555
DTSTART:20260507T103000
END:VEVENT
BEGIN:VEVENT
DTEND:20260512T134500
UID:69e92d77bb4ad
DTSTAMP:20260422T202007
LOCATION:Aula C Ca' Cappello
SUMMARY:ESERCITAZIONI DI LINGUA HINDI 1 MOD.2A [LT005O] - MEDHEKAR Shyama\, Lezione
URL;VALUE=URI://www.unive.it/data/insegnamento/588555
DTSTART:20260512T121500
END:VEVENT
BEGIN:VEVENT
DTEND:20260513T134500
UID:69e92d77bb4f7
DTSTAMP:20260422T202007
LOCATION:Aula E (Aula AM B) Ca' Cappello
SUMMARY:ESERCITAZIONI DI LINGUA HINDI 1 MOD.2A [LT005O] - MEDHEKAR Shyama\, Lezione
URL;VALUE=URI://www.unive.it/data/insegnamento/588555
DTSTART:20260513T121500
END:VEVENT
BEGIN:VEVENT
DTEND:20260514T120000
UID:69e92d77bb542
DTSTAMP:20260422T202007
LOCATION:Aula C Ca' Cappello
SUMMARY:ESERCITAZIONI DI LINGUA HINDI 1 MOD.2A [LT005O] - MEDHEKAR Shyama\, Lezione
URL;VALUE=URI://www.unive.it/data/insegnamento/588555
DTSTART:20260514T103000
END:VEVENT
BEGIN:VEVENT
DTEND:20260519T134500
UID:69e92d77bb58c
DTSTAMP:20260422T202007
LOCATION:Aula C Ca' Cappello
SUMMARY:ESERCITAZIONI DI LINGUA HINDI 1 MOD.2A [LT005O] - MEDHEKAR Shyama\, Lezione
URL;VALUE=URI://www.unive.it/data/insegnamento/588555
DTSTART:20260519T121500
END:VEVENT
BEGIN:VEVENT
DTEND:20260520T134500
UID:69e92d77bb5d6
DTSTAMP:20260422T202007
LOCATION:Aula E (Aula AM B) Ca' Cappello
SUMMARY:ESERCITAZIONI DI LINGUA HINDI 1 MOD.2A [LT005O] - MEDHEKAR Shyama\, Lezione
URL;VALUE=URI://www.unive.it/data/insegnamento/588555
DTSTART:20260520T121500
END:VEVENT
BEGIN:VEVENT
DTEND:20260521T120000
UID:69e92d77bb621
DTSTAMP:20260422T202007
LOCATION:Aula C Ca' Cappello
SUMMARY:ESERCITAZIONI DI LINGUA HINDI 1 MOD.2A [LT005O] - MEDHEKAR Shyama\, Lezione
URL;VALUE=URI://www.unive.it/data/insegnamento/588555
DTSTART:20260521T103000
END:VEVENT
BEGIN:VEVENT
DTEND:20260526T134500
UID:69e92d77bb645
DTSTAMP:20260422T202007
LOCATION:Aula C Ca' Cappello
SUMMARY:ESERCITAZIONI DI LINGUA HINDI 1 MOD.2A [LT005O] - MEDHEKAR Shyama\, Lezione
URL;VALUE=URI://www.unive.it/data/insegnamento/588555
DTSTART:20260526T121500
END:VEVENT
BEGIN:VEVENT
DTEND:20260527T134500
UID:69e92d77bb690
DTSTAMP:20260422T202007
LOCATION:Aula E (Aula AM B) Ca' Cappello
SUMMARY:ESERCITAZIONI DI LINGUA HINDI 1 MOD.2A [LT005O] - MEDHEKAR Shyama\, Lezione
URL;VALUE=URI://www.unive.it/data/insegnamento/588555
DTSTART:20260527T121500
END:VEVENT
BEGIN:VEVENT
DTEND:20260528T120000
UID:69e92d77bb6da
DTSTAMP:20260422T202007
LOCATION:Aula C Ca' Cappello
SUMMARY:ESERCITAZIONI DI LINGUA HINDI 1 MOD.2A [LT005O] - MEDHEKAR Shyama\, Lezione
URL;VALUE=URI://www.unive.it/data/insegnamento/588555
DTSTART:20260528T103000
END:VEVENT
BEGIN:VEVENT
DTEND:20260604T120000
UID:69e92d77bb725
DTSTAMP:20260422T202007
LOCATION:Aula C Ca' Cappello
SUMMARY:ESERCITAZIONI DI LINGUA HINDI 1 MOD.2A [LT005O] - MEDHEKAR Shyama\, Lezione
URL;VALUE=URI://www.unive.it/data/insegnamento/588555
DTSTART:20260604T103000
END:VEVENT
END:VCALENDAR