BEGIN:VCALENDAR
VERSION:2.0
PRODID:-//hacksw/handcal//NONSGML v1.0//EN
CALSCALE:GREGORIAN
X-WR-CALNAME:STORIA DELLA FILOSOFIA E DELLE RELIGIONI DELLA CINA 2 [LT0480]
DESCRIPTION:STORIA DELLA FILOSOFIA E DELLE RELIGIONI DELLA CINA 2 [LT0480]
REFRESH-INTERVAL;VALUE=DURATION:P1D
X-WR-TIMEZONE:Europe/Rome
BEGIN:VEVENT
DTEND:20260227T120000
UID:69e91184170f5
DTSTAMP:20260422T182052
LOCATION:Aula 2B Polo didattico San Basilio (Magazzino 5)
SUMMARY:STORIA DELLA FILOSOFIA E DELLE RELIGIONI DELLA CINA 2 [LT0480] - GALLINARO LUDOVICA\, Lezione
URL;VALUE=URI://www.unive.it/data/insegnamento/588705
DTSTART:20260227T103000
END:VEVENT
BEGIN:VEVENT
DTEND:20260306T120000
UID:69e91184171a8
DTSTAMP:20260422T182052
LOCATION:Aula 2B Polo didattico San Basilio (Magazzino 5)
SUMMARY:STORIA DELLA FILOSOFIA E DELLE RELIGIONI DELLA CINA 2 [LT0480] - GALLINARO LUDOVICA\, Lezione
URL;VALUE=URI://www.unive.it/data/insegnamento/588705
DTSTART:20260306T103000
END:VEVENT
BEGIN:VEVENT
DTEND:20260313T120000
UID:69e9118417207
DTSTAMP:20260422T182052
LOCATION:Aula 2B Polo didattico San Basilio (Magazzino 5)
SUMMARY:STORIA DELLA FILOSOFIA E DELLE RELIGIONI DELLA CINA 2 [LT0480] - GALLINARO LUDOVICA\, Lezione
URL;VALUE=URI://www.unive.it/data/insegnamento/588705
DTSTART:20260313T103000
END:VEVENT
BEGIN:VEVENT
DTEND:20260320T120000
UID:69e911841725f
DTSTAMP:20260422T182052
LOCATION:Aula 2B Polo didattico San Basilio (Magazzino 5)
SUMMARY:STORIA DELLA FILOSOFIA E DELLE RELIGIONI DELLA CINA 2 [LT0480] - GALLINARO LUDOVICA\, Lezione
URL;VALUE=URI://www.unive.it/data/insegnamento/588705
DTSTART:20260320T103000
END:VEVENT
BEGIN:VEVENT
DTEND:20260327T120000
UID:69e91184172ae
DTSTAMP:20260422T182052
LOCATION:Aula 2B Polo didattico San Basilio (Magazzino 5)
SUMMARY:STORIA DELLA FILOSOFIA E DELLE RELIGIONI DELLA CINA 2 [LT0480] - GALLINARO LUDOVICA\, Lezione
URL;VALUE=URI://www.unive.it/data/insegnamento/588705
DTSTART:20260327T103000
END:VEVENT
BEGIN:VEVENT
DTEND:20260403T120000
UID:69e91184172fa
DTSTAMP:20260422T182052
LOCATION:Aula 2B Polo didattico San Basilio (Magazzino 5)
SUMMARY:STORIA DELLA FILOSOFIA E DELLE RELIGIONI DELLA CINA 2 [LT0480] - GALLINARO LUDOVICA\, Lezione
URL;VALUE=URI://www.unive.it/data/insegnamento/588705
DTSTART:20260403T103000
END:VEVENT
BEGIN:VEVENT
DTEND:20260410T120000
UID:69e911841734a
DTSTAMP:20260422T182052
LOCATION:Aula 2B Polo didattico San Basilio (Magazzino 5)
SUMMARY:STORIA DELLA FILOSOFIA E DELLE RELIGIONI DELLA CINA 2 [LT0480] - GALLINARO LUDOVICA\, Lezione
URL;VALUE=URI://www.unive.it/data/insegnamento/588705
DTSTART:20260410T103000
END:VEVENT
BEGIN:VEVENT
DTEND:20260417T120000
UID:69e9118417398
DTSTAMP:20260422T182052
LOCATION:Aula 2B Polo didattico San Basilio (Magazzino 5)
SUMMARY:STORIA DELLA FILOSOFIA E DELLE RELIGIONI DELLA CINA 2 [LT0480] - GALLINARO LUDOVICA\, Lezione
URL;VALUE=URI://www.unive.it/data/insegnamento/588705
DTSTART:20260417T103000
END:VEVENT
BEGIN:VEVENT
DTEND:20260424T120000
UID:69e91184173e4
DTSTAMP:20260422T182052
LOCATION:Aula 2B Polo didattico San Basilio (Magazzino 5)
SUMMARY:STORIA DELLA FILOSOFIA E DELLE RELIGIONI DELLA CINA 2 [LT0480] - GALLINARO LUDOVICA\, Lezione
URL;VALUE=URI://www.unive.it/data/insegnamento/588705
DTSTART:20260424T103000
END:VEVENT
BEGIN:VEVENT
DTEND:20260508T120000
UID:69e9118417431
DTSTAMP:20260422T182052
LOCATION:Aula 2B Polo didattico San Basilio (Magazzino 5)
SUMMARY:STORIA DELLA FILOSOFIA E DELLE RELIGIONI DELLA CINA 2 [LT0480] - GALLINARO LUDOVICA\, Lezione
URL;VALUE=URI://www.unive.it/data/insegnamento/588705
DTSTART:20260508T103000
END:VEVENT
BEGIN:VEVENT
DTEND:20260515T120000
UID:69e911841747d
DTSTAMP:20260422T182052
LOCATION:Aula 2B Polo didattico San Basilio (Magazzino 5)
SUMMARY:STORIA DELLA FILOSOFIA E DELLE RELIGIONI DELLA CINA 2 [LT0480] - GALLINARO LUDOVICA\, Lezione
URL;VALUE=URI://www.unive.it/data/insegnamento/588705
DTSTART:20260515T103000
END:VEVENT
BEGIN:VEVENT
DTEND:20260522T120000
UID:69e91184174ca
DTSTAMP:20260422T182052
LOCATION:Aula 2B Polo didattico San Basilio (Magazzino 5)
SUMMARY:STORIA DELLA FILOSOFIA E DELLE RELIGIONI DELLA CINA 2 [LT0480] - GALLINARO LUDOVICA\, Lezione
URL;VALUE=URI://www.unive.it/data/insegnamento/588705
DTSTART:20260522T103000
END:VEVENT
BEGIN:VEVENT
DTEND:20260529T120000
UID:69e9118417516
DTSTAMP:20260422T182052
LOCATION:Aula 2B Polo didattico San Basilio (Magazzino 5)
SUMMARY:STORIA DELLA FILOSOFIA E DELLE RELIGIONI DELLA CINA 2 [LT0480] - GALLINARO LUDOVICA\, Lezione
URL;VALUE=URI://www.unive.it/data/insegnamento/588705
DTSTART:20260529T103000
END:VEVENT
BEGIN:VEVENT
DTEND:20260603T120000
UID:69e9118417540
DTSTAMP:20260422T182052
LOCATION:Aula gradoni Santa Marta
SUMMARY:STORIA DELLA FILOSOFIA E DELLE RELIGIONI DELLA CINA 2 [LT0480] - GALLINARO LUDOVICA\, Lezione
URL;VALUE=URI://www.unive.it/data/insegnamento/588705
DTSTART:20260603T103000
END:VEVENT
BEGIN:VEVENT
DTEND:20260605T120000
UID:69e911841758b
DTSTAMP:20260422T182052
LOCATION:Aula 2B Polo didattico San Basilio (Magazzino 5)
SUMMARY:STORIA DELLA FILOSOFIA E DELLE RELIGIONI DELLA CINA 2 [LT0480] - GALLINARO LUDOVICA\, Lezione
URL;VALUE=URI://www.unive.it/data/insegnamento/588705
DTSTART:20260605T103000
END:VEVENT
END:VCALENDAR