BEGIN:VCALENDAR
VERSION:2.0
PRODID:-//hacksw/handcal//NONSGML v1.0//EN
CALSCALE:GREGORIAN
X-WR-CALNAME:PRINCIPLES OF CORRECT AND SECURE COMPILATION [PHD227]
DESCRIPTION:PRINCIPLES OF CORRECT AND SECURE COMPILATION [PHD227]
REFRESH-INTERVAL;VALUE=DURATION:P1D
X-WR-TIMEZONE:Europe/Rome
BEGIN:VEVENT
DTEND:20260225T134500
UID:69e8281c60053
DTSTAMP:20260422T014500
LOCATION:Meeting Room B Campus scientifico via Torino (edificio Zeta)
SUMMARY:PRINCIPLES OF CORRECT AND SECURE COMPILATION [PHD227] - BUSI Matteo\, Lezione
URL;VALUE=URI://www.unive.it/data/insegnamento/588774
DTSTART:20260225T103000
END:VEVENT
BEGIN:VEVENT
DTEND:20260226T120000
UID:69e8281c600d6
DTSTAMP:20260422T014500
LOCATION:Meeting Room B Campus scientifico via Torino (edificio Zeta)
SUMMARY:PRINCIPLES OF CORRECT AND SECURE COMPILATION [PHD227] - BUSI Matteo\, Lezione
URL;VALUE=URI://www.unive.it/data/insegnamento/588774
DTSTART:20260226T084500
END:VEVENT
BEGIN:VEVENT
DTEND:20260227T171500
UID:69e8281c6012a
DTSTAMP:20260422T014500
LOCATION:Meeting Room B Campus scientifico via Torino (edificio Zeta)
SUMMARY:PRINCIPLES OF CORRECT AND SECURE COMPILATION [PHD227] - BUSI Matteo\, Lezione
URL;VALUE=URI://www.unive.it/data/insegnamento/588774
DTSTART:20260227T154500
END:VEVENT
END:VCALENDAR