BEGIN:VCALENDAR
VERSION:2.0
PRODID:-//hacksw/handcal//NONSGML v1.0//EN
CALSCALE:GREGORIAN
X-WR-CALNAME:ESERCITAZIONI DI LINGUA HINDI 2 MOD.2A [LT006O]
DESCRIPTION:ESERCITAZIONI DI LINGUA HINDI 2 MOD.2A [LT006O]
REFRESH-INTERVAL;VALUE=DURATION:P1D
X-WR-TIMEZONE:Europe/Rome
BEGIN:VEVENT
DTEND:20260408T120000
UID:69e8edefe5649
DTSTAMP:20260422T154903
LOCATION:Aula E (Aula AM B) Ca' Cappello
SUMMARY:ESERCITAZIONI DI LINGUA HINDI 2 MOD.2A [LT006O] - MEDHEKAR Shyama\, Lezione
URL;VALUE=URI://www.unive.it/data/insegnamento/588838
DTSTART:20260408T103000
END:VEVENT
BEGIN:VEVENT
DTEND:20260409T134500
UID:69e8edefe56d5
DTSTAMP:20260422T154903
LOCATION:Aula C Ca' Cappello
SUMMARY:ESERCITAZIONI DI LINGUA HINDI 2 MOD.2A [LT006O] - MEDHEKAR Shyama\, Lezione
URL;VALUE=URI://www.unive.it/data/insegnamento/588838
DTSTART:20260409T121500
END:VEVENT
BEGIN:VEVENT
DTEND:20260415T120000
UID:69e8edefe5728
DTSTAMP:20260422T154903
LOCATION:Aula E (Aula AM B) Ca' Cappello
SUMMARY:ESERCITAZIONI DI LINGUA HINDI 2 MOD.2A [LT006O] - MEDHEKAR Shyama\, Lezione
URL;VALUE=URI://www.unive.it/data/insegnamento/588838
DTSTART:20260415T103000
END:VEVENT
BEGIN:VEVENT
DTEND:20260416T134500
UID:69e8edefe5776
DTSTAMP:20260422T154903
LOCATION:Aula C Ca' Cappello
SUMMARY:ESERCITAZIONI DI LINGUA HINDI 2 MOD.2A [LT006O] - MEDHEKAR Shyama\, Lezione
URL;VALUE=URI://www.unive.it/data/insegnamento/588838
DTSTART:20260416T121500
END:VEVENT
BEGIN:VEVENT
DTEND:20260421T120000
UID:69e8edefe57c2
DTSTAMP:20260422T154903
LOCATION:Aula C Ca' Cappello
SUMMARY:ESERCITAZIONI DI LINGUA HINDI 2 MOD.2A [LT006O] - MEDHEKAR Shyama\, Lezione
URL;VALUE=URI://www.unive.it/data/insegnamento/588838
DTSTART:20260421T103000
END:VEVENT
BEGIN:VEVENT
DTEND:20260422T120000
UID:69e8edefe580e
DTSTAMP:20260422T154903
LOCATION:Aula E (Aula AM B) Ca' Cappello
SUMMARY:ESERCITAZIONI DI LINGUA HINDI 2 MOD.2A [LT006O] - MEDHEKAR Shyama\, Lezione
URL;VALUE=URI://www.unive.it/data/insegnamento/588838
DTSTART:20260422T103000
END:VEVENT
BEGIN:VEVENT
DTEND:20260423T134500
UID:69e8edefe585c
DTSTAMP:20260422T154903
LOCATION:Aula C Ca' Cappello
SUMMARY:ESERCITAZIONI DI LINGUA HINDI 2 MOD.2A [LT006O] - MEDHEKAR Shyama\, Lezione
URL;VALUE=URI://www.unive.it/data/insegnamento/588838
DTSTART:20260423T121500
END:VEVENT
BEGIN:VEVENT
DTEND:20260428T120000
UID:69e8edefe58a6
DTSTAMP:20260422T154903
LOCATION:Aula C Ca' Cappello
SUMMARY:ESERCITAZIONI DI LINGUA HINDI 2 MOD.2A [LT006O] - MEDHEKAR Shyama\, Lezione
URL;VALUE=URI://www.unive.it/data/insegnamento/588838
DTSTART:20260428T103000
END:VEVENT
BEGIN:VEVENT
DTEND:20260429T120000
UID:69e8edefe58fd
DTSTAMP:20260422T154903
LOCATION:Aula E (Aula AM B) Ca' Cappello
SUMMARY:ESERCITAZIONI DI LINGUA HINDI 2 MOD.2A [LT006O] - MEDHEKAR Shyama\, Lezione
URL;VALUE=URI://www.unive.it/data/insegnamento/588838
DTSTART:20260429T103000
END:VEVENT
BEGIN:VEVENT
DTEND:20260430T134500
UID:69e8edefe594a
DTSTAMP:20260422T154903
LOCATION:Aula C Ca' Cappello
SUMMARY:ESERCITAZIONI DI LINGUA HINDI 2 MOD.2A [LT006O] - MEDHEKAR Shyama\, Lezione
URL;VALUE=URI://www.unive.it/data/insegnamento/588838
DTSTART:20260430T121500
END:VEVENT
BEGIN:VEVENT
DTEND:20260505T120000
UID:69e8edefe599c
DTSTAMP:20260422T154903
LOCATION:Aula C Ca' Cappello
SUMMARY:ESERCITAZIONI DI LINGUA HINDI 2 MOD.2A [LT006O] - MEDHEKAR Shyama\, Lezione
URL;VALUE=URI://www.unive.it/data/insegnamento/588838
DTSTART:20260505T103000
END:VEVENT
BEGIN:VEVENT
DTEND:20260506T120000
UID:69e8edefe59e7
DTSTAMP:20260422T154903
LOCATION:Aula E (Aula AM B) Ca' Cappello
SUMMARY:ESERCITAZIONI DI LINGUA HINDI 2 MOD.2A [LT006O] - MEDHEKAR Shyama\, Lezione
URL;VALUE=URI://www.unive.it/data/insegnamento/588838
DTSTART:20260506T103000
END:VEVENT
BEGIN:VEVENT
DTEND:20260507T134500
UID:69e8edefe7397
DTSTAMP:20260422T154903
LOCATION:Aula C Ca' Cappello
SUMMARY:ESERCITAZIONI DI LINGUA HINDI 2 MOD.2A [LT006O] - MEDHEKAR Shyama\, Lezione
URL;VALUE=URI://www.unive.it/data/insegnamento/588838
DTSTART:20260507T121500
END:VEVENT
BEGIN:VEVENT
DTEND:20260512T120000
UID:69e8edefe73f9
DTSTAMP:20260422T154903
LOCATION:Aula C Ca' Cappello
SUMMARY:ESERCITAZIONI DI LINGUA HINDI 2 MOD.2A [LT006O] - MEDHEKAR Shyama\, Lezione
URL;VALUE=URI://www.unive.it/data/insegnamento/588838
DTSTART:20260512T103000
END:VEVENT
BEGIN:VEVENT
DTEND:20260514T134500
UID:69e8edefe7447
DTSTAMP:20260422T154903
LOCATION:Aula C Ca' Cappello
SUMMARY:ESERCITAZIONI DI LINGUA HINDI 2 MOD.2A [LT006O] - MEDHEKAR Shyama\, Lezione
URL;VALUE=URI://www.unive.it/data/insegnamento/588838
DTSTART:20260514T121500
END:VEVENT
BEGIN:VEVENT
DTEND:20260519T120000
UID:69e8edefe749c
DTSTAMP:20260422T154903
LOCATION:Aula C Ca' Cappello
SUMMARY:ESERCITAZIONI DI LINGUA HINDI 2 MOD.2A [LT006O] - MEDHEKAR Shyama\, Lezione
URL;VALUE=URI://www.unive.it/data/insegnamento/588838
DTSTART:20260519T103000
END:VEVENT
BEGIN:VEVENT
DTEND:20260521T134500
UID:69e8edefe7513
DTSTAMP:20260422T154903
LOCATION:Aula C Ca' Cappello
SUMMARY:ESERCITAZIONI DI LINGUA HINDI 2 MOD.2A [LT006O] - MEDHEKAR Shyama\, Lezione
URL;VALUE=URI://www.unive.it/data/insegnamento/588838
DTSTART:20260521T121500
END:VEVENT
BEGIN:VEVENT
DTEND:20260526T120000
UID:69e8edefe7562
DTSTAMP:20260422T154903
LOCATION:Aula C Ca' Cappello
SUMMARY:ESERCITAZIONI DI LINGUA HINDI 2 MOD.2A [LT006O] - MEDHEKAR Shyama\, Lezione
URL;VALUE=URI://www.unive.it/data/insegnamento/588838
DTSTART:20260526T103000
END:VEVENT
BEGIN:VEVENT
DTEND:20260528T134500
UID:69e8edefe75bb
DTSTAMP:20260422T154903
LOCATION:Aula C Ca' Cappello
SUMMARY:ESERCITAZIONI DI LINGUA HINDI 2 MOD.2A [LT006O] - MEDHEKAR Shyama\, Lezione
URL;VALUE=URI://www.unive.it/data/insegnamento/588838
DTSTART:20260528T121500
END:VEVENT
BEGIN:VEVENT
DTEND:20260604T134500
UID:69e8edefe761e
DTSTAMP:20260422T154903
LOCATION:Aula C Ca' Cappello
SUMMARY:ESERCITAZIONI DI LINGUA HINDI 2 MOD.2A [LT006O] - MEDHEKAR Shyama\, Lezione
URL;VALUE=URI://www.unive.it/data/insegnamento/588838
DTSTART:20260604T121500
END:VEVENT
END:VCALENDAR