BEGIN:VCALENDAR
VERSION:2.0
PRODID:-//hacksw/handcal//NONSGML v1.0//EN
CALSCALE:GREGORIAN
X-WR-CALNAME:FINANCIAL POLICIES AND M&A STRATEGIES-1 [EM1607]
DESCRIPTION:FINANCIAL POLICIES AND M&A STRATEGIES-1 [EM1607]
REFRESH-INTERVAL;VALUE=DURATION:P1D
X-WR-TIMEZONE:Europe/Rome
BEGIN:VEVENT
DTEND:20250922T120000
UID:69e4cb09ca090
DTSTAMP:20260419T123105
LOCATION:Aula 10A San Giobbe
SUMMARY:FINANCIAL POLICIES AND M&A STRATEGIES-1 [EM1607] - KHAN Ashraf\, Lezione
URL;VALUE=URI://www.unive.it/data/insegnamento/590131
DTSTART:20250922T103000
END:VEVENT
BEGIN:VEVENT
DTEND:20250923T101500
UID:69e4cb09ca127
DTSTAMP:20260419T123105
LOCATION:Aula 10C San Giobbe
SUMMARY:FINANCIAL POLICIES AND M&A STRATEGIES-1 [EM1607] - KHAN Ashraf\, Lezione
URL;VALUE=URI://www.unive.it/data/insegnamento/590131
DTSTART:20250923T084500
END:VEVENT
BEGIN:VEVENT
DTEND:20250925T120000
UID:69e4cb09ca179
DTSTAMP:20260419T123105
LOCATION:Aula 10C San Giobbe
SUMMARY:FINANCIAL POLICIES AND M&A STRATEGIES-1 [EM1607] - KHAN Ashraf\, Lezione
URL;VALUE=URI://www.unive.it/data/insegnamento/590131
DTSTART:20250925T103000
END:VEVENT
BEGIN:VEVENT
DTEND:20250929T120000
UID:69e4cb09ca1c6
DTSTAMP:20260419T123105
LOCATION:Aula 10A San Giobbe
SUMMARY:FINANCIAL POLICIES AND M&A STRATEGIES-1 [EM1607] - KHAN Ashraf\, Lezione
URL;VALUE=URI://www.unive.it/data/insegnamento/590131
DTSTART:20250929T103000
END:VEVENT
BEGIN:VEVENT
DTEND:20250930T101500
UID:69e4cb09ca210
DTSTAMP:20260419T123105
LOCATION:Aula 10C San Giobbe
SUMMARY:FINANCIAL POLICIES AND M&A STRATEGIES-1 [EM1607] - KHAN Ashraf\, Lezione
URL;VALUE=URI://www.unive.it/data/insegnamento/590131
DTSTART:20250930T084500
END:VEVENT
BEGIN:VEVENT
DTEND:20251002T120000
UID:69e4cb09ca261
DTSTAMP:20260419T123105
LOCATION:Aula 10C San Giobbe
SUMMARY:FINANCIAL POLICIES AND M&A STRATEGIES-1 [EM1607] - KHAN Ashraf\, Lezione
URL;VALUE=URI://www.unive.it/data/insegnamento/590131
DTSTART:20251002T103000
END:VEVENT
BEGIN:VEVENT
DTEND:20251006T120000
UID:69e4cb09ca2ac
DTSTAMP:20260419T123105
LOCATION:Aula 10A San Giobbe
SUMMARY:FINANCIAL POLICIES AND M&A STRATEGIES-1 [EM1607] - KHAN Ashraf\, Lezione
URL;VALUE=URI://www.unive.it/data/insegnamento/590131
DTSTART:20251006T103000
END:VEVENT
BEGIN:VEVENT
DTEND:20251007T101500
UID:69e4cb09ca2f6
DTSTAMP:20260419T123105
LOCATION:Aula 10C San Giobbe
SUMMARY:FINANCIAL POLICIES AND M&A STRATEGIES-1 [EM1607] - KHAN Ashraf\, Lezione
URL;VALUE=URI://www.unive.it/data/insegnamento/590131
DTSTART:20251007T084500
END:VEVENT
BEGIN:VEVENT
DTEND:20251009T120000
UID:69e4cb09ca340
DTSTAMP:20260419T123105
LOCATION:Aula 10C San Giobbe
SUMMARY:FINANCIAL POLICIES AND M&A STRATEGIES-1 [EM1607] - KHAN Ashraf\, Lezione
URL;VALUE=URI://www.unive.it/data/insegnamento/590131
DTSTART:20251009T103000
END:VEVENT
BEGIN:VEVENT
DTEND:20251013T120000
UID:69e4cb09ca38b
DTSTAMP:20260419T123105
LOCATION:Aula 10A San Giobbe
SUMMARY:FINANCIAL POLICIES AND M&A STRATEGIES-1 [EM1607] - KHAN Ashraf\, Lezione
URL;VALUE=URI://www.unive.it/data/insegnamento/590131
DTSTART:20251013T103000
END:VEVENT
BEGIN:VEVENT
DTEND:20251014T101500
UID:69e4cb09ca3d4
DTSTAMP:20260419T123105
LOCATION:Aula 10C San Giobbe
SUMMARY:FINANCIAL POLICIES AND M&A STRATEGIES-1 [EM1607] - KHAN Ashraf\, Lezione
URL;VALUE=URI://www.unive.it/data/insegnamento/590131
DTSTART:20251014T084500
END:VEVENT
BEGIN:VEVENT
DTEND:20251016T120000
UID:69e4cb09ca41f
DTSTAMP:20260419T123105
LOCATION:Aula 10C San Giobbe
SUMMARY:FINANCIAL POLICIES AND M&A STRATEGIES-1 [EM1607] - KHAN Ashraf\, Lezione
URL;VALUE=URI://www.unive.it/data/insegnamento/590131
DTSTART:20251016T103000
END:VEVENT
BEGIN:VEVENT
DTEND:20251020T120000
UID:69e4cb09ca468
DTSTAMP:20260419T123105
LOCATION:Aula 10A San Giobbe
SUMMARY:FINANCIAL POLICIES AND M&A STRATEGIES-1 [EM1607] - KHAN Ashraf\, Lezione
URL;VALUE=URI://www.unive.it/data/insegnamento/590131
DTSTART:20251020T103000
END:VEVENT
BEGIN:VEVENT
DTEND:20251021T101500
UID:69e4cb09ca488
DTSTAMP:20260419T123105
LOCATION:Aula 10C San Giobbe
SUMMARY:FINANCIAL POLICIES AND M&A STRATEGIES-1 [EM1607] - KHAN Ashraf\, Lezione
URL;VALUE=URI://www.unive.it/data/insegnamento/590131
DTSTART:20251021T084500
END:VEVENT
BEGIN:VEVENT
DTEND:20251027T120000
UID:69e4cb09ca4d2
DTSTAMP:20260419T123105
LOCATION:Aula 10A San Giobbe
SUMMARY:FINANCIAL POLICIES AND M&A STRATEGIES-1 [EM1607] - KHAN Ashraf\, Lezione
URL;VALUE=URI://www.unive.it/data/insegnamento/590131
DTSTART:20251027T103000
END:VEVENT
BEGIN:VEVENT
DTEND:20251028T101500
UID:69e4cb09ca51c
DTSTAMP:20260419T123105
LOCATION:Aula 10C San Giobbe
SUMMARY:FINANCIAL POLICIES AND M&A STRATEGIES-1 [EM1607] - KHAN Ashraf\, Lezione
URL;VALUE=URI://www.unive.it/data/insegnamento/590131
DTSTART:20251028T084500
END:VEVENT
BEGIN:VEVENT
DTEND:20251030T120000
UID:69e4cb09ca565
DTSTAMP:20260419T123105
LOCATION:Aula 10C San Giobbe
SUMMARY:FINANCIAL POLICIES AND M&A STRATEGIES-1 [EM1607] - KHAN Ashraf\, Lezione
URL;VALUE=URI://www.unive.it/data/insegnamento/590131
DTSTART:20251030T103000
END:VEVENT
END:VCALENDAR