BEGIN:VCALENDAR
VERSION:2.0
PRODID:-//hacksw/handcal//NONSGML v1.0//EN
CALSCALE:GREGORIAN
X-WR-CALNAME:ESERCITAZIONI DI FONDAMENTI DI LINGUISTICA I [FT0090]
DESCRIPTION:ESERCITAZIONI DI FONDAMENTI DI LINGUISTICA I [FT0090]
REFRESH-INTERVAL;VALUE=DURATION:P1D
X-WR-TIMEZONE:Europe/Rome
BEGIN:VEVENT
DTEND:20251112T120000
UID:69e4ceb9e49bf
DTSTAMP:20260419T124649
LOCATION:Sala Giovanni Morelli Malcanton Marcorà
SUMMARY:ESERCITAZIONI DI FONDAMENTI DI LINGUISTICA I [FT0090] - D'ARGENIO Elisa\, Lezione
URL;VALUE=URI://www.unive.it/data/insegnamento/590761
DTSTART:20251112T103000
END:VEVENT
BEGIN:VEVENT
DTEND:20251118T134500
UID:69e4ceb9e4a43
DTSTAMP:20260419T124649
LOCATION:Sala Giovanni Morelli Malcanton Marcorà
SUMMARY:ESERCITAZIONI DI FONDAMENTI DI LINGUISTICA I [FT0090] - D'ARGENIO Elisa\, Lezione
URL;VALUE=URI://www.unive.it/data/insegnamento/590761
DTSTART:20251118T121500
END:VEVENT
BEGIN:VEVENT
DTEND:20251119T120000
UID:69e4ceb9e4aa3
DTSTAMP:20260419T124649
LOCATION:Sala Giovanni Morelli Malcanton Marcorà
SUMMARY:ESERCITAZIONI DI FONDAMENTI DI LINGUISTICA I [FT0090] - D'ARGENIO Elisa\, Lezione
URL;VALUE=URI://www.unive.it/data/insegnamento/590761
DTSTART:20251119T103000
END:VEVENT
BEGIN:VEVENT
DTEND:20251125T134500
UID:69e4ceb9e4af8
DTSTAMP:20260419T124649
LOCATION:Sala Giovanni Morelli Malcanton Marcorà
SUMMARY:ESERCITAZIONI DI FONDAMENTI DI LINGUISTICA I [FT0090] - D'ARGENIO Elisa\, Lezione
URL;VALUE=URI://www.unive.it/data/insegnamento/590761
DTSTART:20251125T121500
END:VEVENT
BEGIN:VEVENT
DTEND:20251126T120000
UID:69e4ceb9e4b4d
DTSTAMP:20260419T124649
LOCATION:Sala Giovanni Morelli Malcanton Marcorà
SUMMARY:ESERCITAZIONI DI FONDAMENTI DI LINGUISTICA I [FT0090] - D'ARGENIO Elisa\, Lezione
URL;VALUE=URI://www.unive.it/data/insegnamento/590761
DTSTART:20251126T103000
END:VEVENT
BEGIN:VEVENT
DTEND:20251202T134500
UID:69e4ceb9e4ba1
DTSTAMP:20260419T124649
LOCATION:Sala Giovanni Morelli Malcanton Marcorà
SUMMARY:ESERCITAZIONI DI FONDAMENTI DI LINGUISTICA I [FT0090] - D'ARGENIO Elisa\, Lezione
URL;VALUE=URI://www.unive.it/data/insegnamento/590761
DTSTART:20251202T121500
END:VEVENT
BEGIN:VEVENT
DTEND:20251203T120000
UID:69e4ceb9e4bfd
DTSTAMP:20260419T124649
LOCATION:Sala Giovanni Morelli Malcanton Marcorà
SUMMARY:ESERCITAZIONI DI FONDAMENTI DI LINGUISTICA I [FT0090] - D'ARGENIO Elisa\, Lezione
URL;VALUE=URI://www.unive.it/data/insegnamento/590761
DTSTART:20251203T103000
END:VEVENT
BEGIN:VEVENT
DTEND:20251209T134500
UID:69e4ceb9e4c51
DTSTAMP:20260419T124649
LOCATION:Sala Giovanni Morelli Malcanton Marcorà
SUMMARY:ESERCITAZIONI DI FONDAMENTI DI LINGUISTICA I [FT0090] - D'ARGENIO Elisa\, Lezione
URL;VALUE=URI://www.unive.it/data/insegnamento/590761
DTSTART:20251209T121500
END:VEVENT
BEGIN:VEVENT
DTEND:20251210T120000
UID:69e4ceb9e4ca6
DTSTAMP:20260419T124649
LOCATION:Sala Giovanni Morelli Malcanton Marcorà
SUMMARY:ESERCITAZIONI DI FONDAMENTI DI LINGUISTICA I [FT0090] - D'ARGENIO Elisa\, Lezione
URL;VALUE=URI://www.unive.it/data/insegnamento/590761
DTSTART:20251210T103000
END:VEVENT
BEGIN:VEVENT
DTEND:20251216T134500
UID:69e4ceb9e4cfb
DTSTAMP:20260419T124649
LOCATION:Sala Giovanni Morelli Malcanton Marcorà
SUMMARY:ESERCITAZIONI DI FONDAMENTI DI LINGUISTICA I [FT0090] - D'ARGENIO Elisa\, Lezione
URL;VALUE=URI://www.unive.it/data/insegnamento/590761
DTSTART:20251216T121500
END:VEVENT
END:VCALENDAR