BEGIN:VCALENDAR
VERSION:2.0
PRODID:-//hacksw/handcal//NONSGML v1.0//EN
CALSCALE:GREGORIAN
X-WR-CALNAME:STORIA DELLA CULTURA TEDESCA [LT2110]
DESCRIPTION:STORIA DELLA CULTURA TEDESCA [LT2110]
REFRESH-INTERVAL;VALUE=DURATION:P1D
X-WR-TIMEZONE:Europe/Rome
BEGIN:VEVENT
DTEND:20260305T171500
UID:69e9118788837
DTSTAMP:20260422T182055
LOCATION:Aula 7 Rio Novo
SUMMARY:STORIA DELLA CULTURA TEDESCA [LT2110] - SBARRA Stefania\, Lezione
URL;VALUE=URI://www.unive.it/data/insegnamento/592193
DTSTART:20260305T154500
END:VEVENT
BEGIN:VEVENT
DTEND:20260307T120000
UID:69e91187888bb
DTSTAMP:20260422T182055
LOCATION:Aula Padoan San Sebastiano
SUMMARY:STORIA DELLA CULTURA TEDESCA [LT2110] - SBARRA Stefania\, Lezione
URL;VALUE=URI://www.unive.it/data/insegnamento/592193
DTSTART:20260307T103000
END:VEVENT
BEGIN:VEVENT
DTEND:20260312T171500
UID:69e9118788910
DTSTAMP:20260422T182055
LOCATION:Aula 7 Rio Novo
SUMMARY:STORIA DELLA CULTURA TEDESCA [LT2110] - SBARRA Stefania\, Lezione
URL;VALUE=URI://www.unive.it/data/insegnamento/592193
DTSTART:20260312T154500
END:VEVENT
BEGIN:VEVENT
DTEND:20260319T171500
UID:69e9118788964
DTSTAMP:20260422T182055
LOCATION:Aula 7 Rio Novo
SUMMARY:STORIA DELLA CULTURA TEDESCA [LT2110] - SBARRA Stefania\, Lezione
URL;VALUE=URI://www.unive.it/data/insegnamento/592193
DTSTART:20260319T154500
END:VEVENT
BEGIN:VEVENT
DTEND:20260326T171500
UID:69e91187889bf
DTSTAMP:20260422T182055
LOCATION:Aula 7 Rio Novo
SUMMARY:STORIA DELLA CULTURA TEDESCA [LT2110] - SBARRA Stefania\, Lezione
URL;VALUE=URI://www.unive.it/data/insegnamento/592193
DTSTART:20260326T154500
END:VEVENT
BEGIN:VEVENT
DTEND:20260402T171500
UID:69e9118788a15
DTSTAMP:20260422T182055
LOCATION:Aula 7 Rio Novo
SUMMARY:STORIA DELLA CULTURA TEDESCA [LT2110] - SBARRA Stefania\, Lezione
URL;VALUE=URI://www.unive.it/data/insegnamento/592193
DTSTART:20260402T154500
END:VEVENT
BEGIN:VEVENT
DTEND:20260409T171500
UID:69e9118788a67
DTSTAMP:20260422T182055
LOCATION:Aula 7 Rio Novo
SUMMARY:STORIA DELLA CULTURA TEDESCA [LT2110] - SBARRA Stefania\, Lezione
URL;VALUE=URI://www.unive.it/data/insegnamento/592193
DTSTART:20260409T154500
END:VEVENT
BEGIN:VEVENT
DTEND:20260416T171500
UID:69e9118788ab9
DTSTAMP:20260422T182055
LOCATION:Aula 7 Rio Novo
SUMMARY:STORIA DELLA CULTURA TEDESCA [LT2110] - SBARRA Stefania\, Lezione
URL;VALUE=URI://www.unive.it/data/insegnamento/592193
DTSTART:20260416T154500
END:VEVENT
BEGIN:VEVENT
DTEND:20260423T171500
UID:69e9118788b0c
DTSTAMP:20260422T182055
LOCATION:Aula 7 Rio Novo
SUMMARY:STORIA DELLA CULTURA TEDESCA [LT2110] - SBARRA Stefania\, Lezione
URL;VALUE=URI://www.unive.it/data/insegnamento/592193
DTSTART:20260423T154500
END:VEVENT
BEGIN:VEVENT
DTEND:20260430T171500
UID:69e9118788b5d
DTSTAMP:20260422T182055
LOCATION:Aula 7 Rio Novo
SUMMARY:STORIA DELLA CULTURA TEDESCA [LT2110] - SBARRA Stefania\, Lezione
URL;VALUE=URI://www.unive.it/data/insegnamento/592193
DTSTART:20260430T154500
END:VEVENT
BEGIN:VEVENT
DTEND:20260507T171500
UID:69e9118788baf
DTSTAMP:20260422T182055
LOCATION:Aula 7 Rio Novo
SUMMARY:STORIA DELLA CULTURA TEDESCA [LT2110] - SBARRA Stefania\, Lezione
URL;VALUE=URI://www.unive.it/data/insegnamento/592193
DTSTART:20260507T154500
END:VEVENT
BEGIN:VEVENT
DTEND:20260514T171500
UID:69e9118788c02
DTSTAMP:20260422T182055
LOCATION:Aula 7 Rio Novo
SUMMARY:STORIA DELLA CULTURA TEDESCA [LT2110] - SBARRA Stefania\, Lezione
URL;VALUE=URI://www.unive.it/data/insegnamento/592193
DTSTART:20260514T154500
END:VEVENT
BEGIN:VEVENT
DTEND:20260521T171500
UID:69e9118788c56
DTSTAMP:20260422T182055
LOCATION:Aula 7 Rio Novo
SUMMARY:STORIA DELLA CULTURA TEDESCA [LT2110] - SBARRA Stefania\, Lezione
URL;VALUE=URI://www.unive.it/data/insegnamento/592193
DTSTART:20260521T154500
END:VEVENT
BEGIN:VEVENT
DTEND:20260528T171500
UID:69e9118788cb3
DTSTAMP:20260422T182055
LOCATION:Aula 7 Rio Novo
SUMMARY:STORIA DELLA CULTURA TEDESCA [LT2110] - SBARRA Stefania\, Lezione
URL;VALUE=URI://www.unive.it/data/insegnamento/592193
DTSTART:20260528T154500
END:VEVENT
BEGIN:VEVENT
DTEND:20260604T171500
UID:69e9118788d06
DTSTAMP:20260422T182055
LOCATION:Aula 7 Rio Novo
SUMMARY:STORIA DELLA CULTURA TEDESCA [LT2110] - SBARRA Stefania\, Lezione
URL;VALUE=URI://www.unive.it/data/insegnamento/592193
DTSTART:20260604T154500
END:VEVENT
END:VCALENDAR