BEGIN:VCALENDAR
VERSION:2.0
PRODID:-//hacksw/handcal//NONSGML v1.0//EN
CALSCALE:GREGORIAN
X-WR-CALNAME:LINGUISTICA GENERALE 2 [LT2300]
DESCRIPTION:LINGUISTICA GENERALE 2 [LT2300]
REFRESH-INTERVAL;VALUE=DURATION:P1D
X-WR-TIMEZONE:Europe/Rome
BEGIN:VEVENT
DTEND:20250923T171500
UID:69e7962e4d56b
DTSTAMP:20260421T152222
LOCATION:Aula 2C Polo didattico San Basilio (Magazzino 5)
SUMMARY:LINGUISTICA GENERALE 2 [LT2300] - BRUGE' Laura\, Lezione
URL;VALUE=URI://www.unive.it/data/insegnamento/592336
DTSTART:20250923T154500
END:VEVENT
BEGIN:VEVENT
DTEND:20250930T171500
UID:69e7962e4d5ee
DTSTAMP:20260421T152222
LOCATION:Aula 2C Polo didattico San Basilio (Magazzino 5)
SUMMARY:LINGUISTICA GENERALE 2 [LT2300] - BRUGE' Laura\, Lezione
URL;VALUE=URI://www.unive.it/data/insegnamento/592336
DTSTART:20250930T154500
END:VEVENT
BEGIN:VEVENT
DTEND:20251007T171500
UID:69e7962e4d640
DTSTAMP:20260421T152222
LOCATION:Aula 2C Polo didattico San Basilio (Magazzino 5)
SUMMARY:LINGUISTICA GENERALE 2 [LT2300] - BRUGE' Laura\, Lezione
URL;VALUE=URI://www.unive.it/data/insegnamento/592336
DTSTART:20251007T154500
END:VEVENT
BEGIN:VEVENT
DTEND:20251014T171500
UID:69e7962e4d68e
DTSTAMP:20260421T152222
LOCATION:Aula 2C Polo didattico San Basilio (Magazzino 5)
SUMMARY:LINGUISTICA GENERALE 2 [LT2300] - BRUGE' Laura\, Lezione
URL;VALUE=URI://www.unive.it/data/insegnamento/592336
DTSTART:20251014T154500
END:VEVENT
BEGIN:VEVENT
DTEND:20251021T171500
UID:69e7962e4d6d9
DTSTAMP:20260421T152222
LOCATION:Aula 2C Polo didattico San Basilio (Magazzino 5)
SUMMARY:LINGUISTICA GENERALE 2 [LT2300] - BRUGE' Laura\, Lezione
URL;VALUE=URI://www.unive.it/data/insegnamento/592336
DTSTART:20251021T154500
END:VEVENT
BEGIN:VEVENT
DTEND:20251028T171500
UID:69e7962e4d725
DTSTAMP:20260421T152222
LOCATION:Aula 2C Polo didattico San Basilio (Magazzino 5)
SUMMARY:LINGUISTICA GENERALE 2 [LT2300] - BRUGE' Laura\, Lezione
URL;VALUE=URI://www.unive.it/data/insegnamento/592336
DTSTART:20251028T154500
END:VEVENT
BEGIN:VEVENT
DTEND:20251104T171500
UID:69e7962e4d770
DTSTAMP:20260421T152222
LOCATION:Aula 2C Polo didattico San Basilio (Magazzino 5)
SUMMARY:LINGUISTICA GENERALE 2 [LT2300] - BRUGE' Laura\, Lezione
URL;VALUE=URI://www.unive.it/data/insegnamento/592336
DTSTART:20251104T154500
END:VEVENT
BEGIN:VEVENT
DTEND:20251111T171500
UID:69e7962e4d7ba
DTSTAMP:20260421T152222
LOCATION:Aula 2C Polo didattico San Basilio (Magazzino 5)
SUMMARY:LINGUISTICA GENERALE 2 [LT2300] - BRUGE' Laura\, Lezione
URL;VALUE=URI://www.unive.it/data/insegnamento/592336
DTSTART:20251111T154500
END:VEVENT
BEGIN:VEVENT
DTEND:20251118T171500
UID:69e7962e4d805
DTSTAMP:20260421T152222
LOCATION:Aula 2C Polo didattico San Basilio (Magazzino 5)
SUMMARY:LINGUISTICA GENERALE 2 [LT2300] - BRUGE' Laura\, Lezione
URL;VALUE=URI://www.unive.it/data/insegnamento/592336
DTSTART:20251118T154500
END:VEVENT
BEGIN:VEVENT
DTEND:20251125T171500
UID:69e7962e4d84f
DTSTAMP:20260421T152222
LOCATION:Aula 2C Polo didattico San Basilio (Magazzino 5)
SUMMARY:LINGUISTICA GENERALE 2 [LT2300] - BRUGE' Laura\, Lezione
URL;VALUE=URI://www.unive.it/data/insegnamento/592336
DTSTART:20251125T154500
END:VEVENT
BEGIN:VEVENT
DTEND:20251202T171500
UID:69e7962e4d876
DTSTAMP:20260421T152222
LOCATION:Aula 2C Polo didattico San Basilio (Magazzino 5)
SUMMARY:LINGUISTICA GENERALE 2 [LT2300] - BRUGE' Laura\, Lezione
URL;VALUE=URI://www.unive.it/data/insegnamento/592336
DTSTART:20251202T154500
END:VEVENT
BEGIN:VEVENT
DTEND:20251209T171500
UID:69e7962e4d8c0
DTSTAMP:20260421T152222
LOCATION:Aula 2C Polo didattico San Basilio (Magazzino 5)
SUMMARY:LINGUISTICA GENERALE 2 [LT2300] - BRUGE' Laura\, Lezione
URL;VALUE=URI://www.unive.it/data/insegnamento/592336
DTSTART:20251209T154500
END:VEVENT
BEGIN:VEVENT
DTEND:20251216T171500
UID:69e7962e4d90b
DTSTAMP:20260421T152222
LOCATION:Aula 2C Polo didattico San Basilio (Magazzino 5)
SUMMARY:LINGUISTICA GENERALE 2 [LT2300] - BRUGE' Laura\, Lezione
URL;VALUE=URI://www.unive.it/data/insegnamento/592336
DTSTART:20251216T154500
END:VEVENT
BEGIN:VEVENT
DTEND:20260113T171500
UID:69e7962e4d956
DTSTAMP:20260421T152222
LOCATION:Aula 2C Polo didattico San Basilio (Magazzino 5)
SUMMARY:LINGUISTICA GENERALE 2 [LT2300] - BRUGE' Laura\, Lezione
URL;VALUE=URI://www.unive.it/data/insegnamento/592336
DTSTART:20260113T154500
END:VEVENT
BEGIN:VEVENT
DTEND:20260120T171500
UID:69e7962e4d9a1
DTSTAMP:20260421T152222
LOCATION:Aula 2C Polo didattico San Basilio (Magazzino 5)
SUMMARY:LINGUISTICA GENERALE 2 [LT2300] - BRUGE' Laura\, Lezione
URL;VALUE=URI://www.unive.it/data/insegnamento/592336
DTSTART:20260120T154500
END:VEVENT
END:VCALENDAR