BEGIN:VCALENDAR
VERSION:2.0
PRODID:-//hacksw/handcal//NONSGML v1.0//EN
CALSCALE:GREGORIAN
X-WR-CALNAME:LINGUISTICA APPLICATA [LT2010]
DESCRIPTION:LINGUISTICA APPLICATA [LT2010]
REFRESH-INTERVAL;VALUE=DURATION:P1D
X-WR-TIMEZONE:Europe/Rome
BEGIN:VEVENT
DTEND:20250922T171500
UID:69e735f3eaac6
DTSTAMP:20260421T083147
LOCATION:Aula C Ca' Bembo
SUMMARY:LINGUISTICA APPLICATA [LT2010] - CARDINALETTI Anna\, Lezione
URL;VALUE=URI://www.unive.it/data/insegnamento/592337
DTSTART:20250922T154500
END:VEVENT
BEGIN:VEVENT
DTEND:20250929T171500
UID:69e735f3eab49
DTSTAMP:20260421T083147
LOCATION:Aula C Ca' Bembo
SUMMARY:LINGUISTICA APPLICATA [LT2010] - CARDINALETTI Anna\, Lezione
URL;VALUE=URI://www.unive.it/data/insegnamento/592337
DTSTART:20250929T154500
END:VEVENT
BEGIN:VEVENT
DTEND:20251006T171500
UID:69e735f3eab97
DTSTAMP:20260421T083147
LOCATION:Aula C Ca' Bembo
SUMMARY:LINGUISTICA APPLICATA [LT2010] - CARDINALETTI Anna\, Lezione
URL;VALUE=URI://www.unive.it/data/insegnamento/592337
DTSTART:20251006T154500
END:VEVENT
BEGIN:VEVENT
DTEND:20251013T171500
UID:69e735f3eabe1
DTSTAMP:20260421T083147
LOCATION:Aula C Ca' Bembo
SUMMARY:LINGUISTICA APPLICATA [LT2010] - CARDINALETTI Anna\, Lezione
URL;VALUE=URI://www.unive.it/data/insegnamento/592337
DTSTART:20251013T154500
END:VEVENT
BEGIN:VEVENT
DTEND:20251020T171500
UID:69e735f3eac1c
DTSTAMP:20260421T083147
LOCATION:Aula C Ca' Bembo
SUMMARY:LINGUISTICA APPLICATA [LT2010] - CARDINALETTI Anna\, Lezione
URL;VALUE=URI://www.unive.it/data/insegnamento/592337
DTSTART:20251020T154500
END:VEVENT
BEGIN:VEVENT
DTEND:20251027T171500
UID:69e735f3eac66
DTSTAMP:20260421T083147
LOCATION:Aula C Ca' Bembo
SUMMARY:LINGUISTICA APPLICATA [LT2010] - CARDINALETTI Anna\, Lezione
URL;VALUE=URI://www.unive.it/data/insegnamento/592337
DTSTART:20251027T154500
END:VEVENT
BEGIN:VEVENT
DTEND:20251103T171500
UID:69e735f3eacb2
DTSTAMP:20260421T083147
LOCATION:Aula C Ca' Bembo
SUMMARY:LINGUISTICA APPLICATA [LT2010] - CARDINALETTI Anna\, Lezione
URL;VALUE=URI://www.unive.it/data/insegnamento/592337
DTSTART:20251103T154500
END:VEVENT
BEGIN:VEVENT
DTEND:20251110T171500
UID:69e735f3ead06
DTSTAMP:20260421T083147
LOCATION:Aula C Ca' Bembo
SUMMARY:LINGUISTICA APPLICATA [LT2010] - CARDINALETTI Anna\, Lezione
URL;VALUE=URI://www.unive.it/data/insegnamento/592337
DTSTART:20251110T154500
END:VEVENT
BEGIN:VEVENT
DTEND:20251117T171500
UID:69e735f3ead50
DTSTAMP:20260421T083147
LOCATION:Aula C Ca' Bembo
SUMMARY:LINGUISTICA APPLICATA [LT2010] - CARDINALETTI Anna\, Lezione
URL;VALUE=URI://www.unive.it/data/insegnamento/592337
DTSTART:20251117T154500
END:VEVENT
BEGIN:VEVENT
DTEND:20251124T171500
UID:69e735f3ead9a
DTSTAMP:20260421T083147
LOCATION:Aula C Ca' Bembo
SUMMARY:LINGUISTICA APPLICATA [LT2010] - CARDINALETTI Anna\, Lezione
URL;VALUE=URI://www.unive.it/data/insegnamento/592337
DTSTART:20251124T154500
END:VEVENT
BEGIN:VEVENT
DTEND:20251201T171500
UID:69e735f3eade4
DTSTAMP:20260421T083147
LOCATION:Aula C Ca' Bembo
SUMMARY:LINGUISTICA APPLICATA [LT2010] - CARDINALETTI Anna\, Lezione
URL;VALUE=URI://www.unive.it/data/insegnamento/592337
DTSTART:20251201T154500
END:VEVENT
BEGIN:VEVENT
DTEND:20251215T171500
UID:69e735f3eae2d
DTSTAMP:20260421T083147
LOCATION:Aula C Ca' Bembo
SUMMARY:LINGUISTICA APPLICATA [LT2010] - CARDINALETTI Anna\, Lezione
URL;VALUE=URI://www.unive.it/data/insegnamento/592337
DTSTART:20251215T154500
END:VEVENT
BEGIN:VEVENT
DTEND:20260112T171500
UID:69e735f3eae81
DTSTAMP:20260421T083147
LOCATION:Aula C Ca' Bembo
SUMMARY:LINGUISTICA APPLICATA [LT2010] - CARDINALETTI Anna\, Lezione
URL;VALUE=URI://www.unive.it/data/insegnamento/592337
DTSTART:20260112T154500
END:VEVENT
BEGIN:VEVENT
DTEND:20260113T190000
UID:69e735f3eaeca
DTSTAMP:20260421T083147
LOCATION:Aula A Ca' Bembo
SUMMARY:LINGUISTICA APPLICATA [LT2010] - CARDINALETTI Anna\, Lezione
URL;VALUE=URI://www.unive.it/data/insegnamento/592337
DTSTART:20260113T173000
END:VEVENT
BEGIN:VEVENT
DTEND:20260119T171500
UID:69e735f3eaf15
DTSTAMP:20260421T083147
LOCATION:Aula C Ca' Bembo
SUMMARY:LINGUISTICA APPLICATA [LT2010] - CARDINALETTI Anna\, Lezione
URL;VALUE=URI://www.unive.it/data/insegnamento/592337
DTSTART:20260119T154500
END:VEVENT
END:VCALENDAR