BEGIN:VCALENDAR
VERSION:2.0
PRODID:-//hacksw/handcal//NONSGML v1.0//EN
CALSCALE:GREGORIAN
X-WR-CALNAME:ESERCITAZIONI DI LINGUA THAI 2 MOD.2A [LT7080]
DESCRIPTION:ESERCITAZIONI DI LINGUA THAI 2 MOD.2A [LT7080]
REFRESH-INTERVAL;VALUE=DURATION:P1D
X-WR-TIMEZONE:Europe/Rome
BEGIN:VEVENT
DTEND:20260223T120000
UID:69e91217832b0
DTSTAMP:20260422T182319
LOCATION:Aula MF3 Polo didattico San Basilio (MF - Magazzini Frigoriferi)
SUMMARY:ESERCITAZIONI DI LINGUA THAI 2 MOD.2A [LT7080] - JUNGSUKCHAROEN JUTARMAS\, Lezione
URL;VALUE=URI://www.unive.it/data/insegnamento/592536
DTSTART:20260223T103000
END:VEVENT
BEGIN:VEVENT
DTEND:20260224T120000
UID:69e9121783346
DTSTAMP:20260422T182319
LOCATION:Aula MF3 Polo didattico San Basilio (MF - Magazzini Frigoriferi)
SUMMARY:ESERCITAZIONI DI LINGUA THAI 2 MOD.2A [LT7080] - JUNGSUKCHAROEN JUTARMAS\, Lezione
URL;VALUE=URI://www.unive.it/data/insegnamento/592536
DTSTART:20260224T103000
END:VEVENT
BEGIN:VEVENT
DTEND:20260225T101500
UID:69e9121783398
DTSTAMP:20260422T182319
LOCATION:Aula 0C Polo didattico San Basilio (Magazzino 5)
SUMMARY:ESERCITAZIONI DI LINGUA THAI 2 MOD.2A [LT7080] - JUNGSUKCHAROEN JUTARMAS\, Lezione
URL;VALUE=URI://www.unive.it/data/insegnamento/592536
DTSTART:20260225T084500
END:VEVENT
BEGIN:VEVENT
DTEND:20260302T120000
UID:69e91217833df
DTSTAMP:20260422T182319
LOCATION:Aula MF3 Polo didattico San Basilio (MF - Magazzini Frigoriferi)
SUMMARY:ESERCITAZIONI DI LINGUA THAI 2 MOD.2A [LT7080] - JUNGSUKCHAROEN JUTARMAS\, Lezione
URL;VALUE=URI://www.unive.it/data/insegnamento/592536
DTSTART:20260302T103000
END:VEVENT
BEGIN:VEVENT
DTEND:20260303T120000
UID:69e912178342e
DTSTAMP:20260422T182319
LOCATION:Aula MF3 Polo didattico San Basilio (MF - Magazzini Frigoriferi)
SUMMARY:ESERCITAZIONI DI LINGUA THAI 2 MOD.2A [LT7080] - JUNGSUKCHAROEN JUTARMAS\, Lezione
URL;VALUE=URI://www.unive.it/data/insegnamento/592536
DTSTART:20260303T103000
END:VEVENT
BEGIN:VEVENT
DTEND:20260304T101500
UID:69e9121783485
DTSTAMP:20260422T182319
LOCATION:Aula 0C Polo didattico San Basilio (Magazzino 5)
SUMMARY:ESERCITAZIONI DI LINGUA THAI 2 MOD.2A [LT7080] - JUNGSUKCHAROEN JUTARMAS\, Lezione
URL;VALUE=URI://www.unive.it/data/insegnamento/592536
DTSTART:20260304T084500
END:VEVENT
BEGIN:VEVENT
DTEND:20260309T120000
UID:69e91217834d6
DTSTAMP:20260422T182319
LOCATION:Aula MF3 Polo didattico San Basilio (MF - Magazzini Frigoriferi)
SUMMARY:ESERCITAZIONI DI LINGUA THAI 2 MOD.2A [LT7080] - JUNGSUKCHAROEN JUTARMAS\, Lezione
URL;VALUE=URI://www.unive.it/data/insegnamento/592536
DTSTART:20260309T103000
END:VEVENT
BEGIN:VEVENT
DTEND:20260310T120000
UID:69e9121783528
DTSTAMP:20260422T182319
LOCATION:Aula MF3 Polo didattico San Basilio (MF - Magazzini Frigoriferi)
SUMMARY:ESERCITAZIONI DI LINGUA THAI 2 MOD.2A [LT7080] - JUNGSUKCHAROEN JUTARMAS\, Lezione
URL;VALUE=URI://www.unive.it/data/insegnamento/592536
DTSTART:20260310T103000
END:VEVENT
BEGIN:VEVENT
DTEND:20260311T101500
UID:69e912178357c
DTSTAMP:20260422T182319
LOCATION:Aula 0C Polo didattico San Basilio (Magazzino 5)
SUMMARY:ESERCITAZIONI DI LINGUA THAI 2 MOD.2A [LT7080] - JUNGSUKCHAROEN JUTARMAS\, Lezione
URL;VALUE=URI://www.unive.it/data/insegnamento/592536
DTSTART:20260311T084500
END:VEVENT
BEGIN:VEVENT
DTEND:20260316T120000
UID:69e91217835ca
DTSTAMP:20260422T182319
LOCATION:Aula MF3 Polo didattico San Basilio (MF - Magazzini Frigoriferi)
SUMMARY:ESERCITAZIONI DI LINGUA THAI 2 MOD.2A [LT7080] - JUNGSUKCHAROEN JUTARMAS\, Lezione
URL;VALUE=URI://www.unive.it/data/insegnamento/592536
DTSTART:20260316T103000
END:VEVENT
BEGIN:VEVENT
DTEND:20260317T120000
UID:69e9121783617
DTSTAMP:20260422T182319
LOCATION:Aula MF3 Polo didattico San Basilio (MF - Magazzini Frigoriferi)
SUMMARY:ESERCITAZIONI DI LINGUA THAI 2 MOD.2A [LT7080] - JUNGSUKCHAROEN JUTARMAS\, Lezione
URL;VALUE=URI://www.unive.it/data/insegnamento/592536
DTSTART:20260317T103000
END:VEVENT
BEGIN:VEVENT
DTEND:20260318T101500
UID:69e9121783664
DTSTAMP:20260422T182319
LOCATION:Aula 0C Polo didattico San Basilio (Magazzino 5)
SUMMARY:ESERCITAZIONI DI LINGUA THAI 2 MOD.2A [LT7080] - JUNGSUKCHAROEN JUTARMAS\, Lezione
URL;VALUE=URI://www.unive.it/data/insegnamento/592536
DTSTART:20260318T084500
END:VEVENT
BEGIN:VEVENT
DTEND:20260323T120000
UID:69e91217836af
DTSTAMP:20260422T182319
LOCATION:Aula MF3 Polo didattico San Basilio (MF - Magazzini Frigoriferi)
SUMMARY:ESERCITAZIONI DI LINGUA THAI 2 MOD.2A [LT7080] - JUNGSUKCHAROEN JUTARMAS\, Lezione
URL;VALUE=URI://www.unive.it/data/insegnamento/592536
DTSTART:20260323T103000
END:VEVENT
BEGIN:VEVENT
DTEND:20260324T120000
UID:69e9121783706
DTSTAMP:20260422T182319
LOCATION:Aula MF3 Polo didattico San Basilio (MF - Magazzini Frigoriferi)
SUMMARY:ESERCITAZIONI DI LINGUA THAI 2 MOD.2A [LT7080] - JUNGSUKCHAROEN JUTARMAS\, Lezione
URL;VALUE=URI://www.unive.it/data/insegnamento/592536
DTSTART:20260324T103000
END:VEVENT
BEGIN:VEVENT
DTEND:20260325T101500
UID:69e9121783752
DTSTAMP:20260422T182319
LOCATION:Aula 0C Polo didattico San Basilio (Magazzino 5)
SUMMARY:ESERCITAZIONI DI LINGUA THAI 2 MOD.2A [LT7080] - JUNGSUKCHAROEN JUTARMAS\, Lezione
URL;VALUE=URI://www.unive.it/data/insegnamento/592536
DTSTART:20260325T084500
END:VEVENT
BEGIN:VEVENT
DTEND:20260407T120000
UID:69e912178379e
DTSTAMP:20260422T182319
LOCATION:Aula MF3 Polo didattico San Basilio (MF - Magazzini Frigoriferi)
SUMMARY:ESERCITAZIONI DI LINGUA THAI 2 MOD.2A [LT7080] - JUNGSUKCHAROEN JUTARMAS\, Lezione
URL;VALUE=URI://www.unive.it/data/insegnamento/592536
DTSTART:20260407T103000
END:VEVENT
BEGIN:VEVENT
DTEND:20260408T101500
UID:69e91217837f4
DTSTAMP:20260422T182319
LOCATION:Aula 0C Polo didattico San Basilio (Magazzino 5)
SUMMARY:ESERCITAZIONI DI LINGUA THAI 2 MOD.2A [LT7080] - JUNGSUKCHAROEN JUTARMAS\, Lezione
URL;VALUE=URI://www.unive.it/data/insegnamento/592536
DTSTART:20260408T084500
END:VEVENT
BEGIN:VEVENT
DTEND:20260413T120000
UID:69e9121783841
DTSTAMP:20260422T182319
LOCATION:Aula MF3 Polo didattico San Basilio (MF - Magazzini Frigoriferi)
SUMMARY:ESERCITAZIONI DI LINGUA THAI 2 MOD.2A [LT7080] - JUNGSUKCHAROEN JUTARMAS\, Lezione
URL;VALUE=URI://www.unive.it/data/insegnamento/592536
DTSTART:20260413T103000
END:VEVENT
BEGIN:VEVENT
DTEND:20260414T120000
UID:69e912178388d
DTSTAMP:20260422T182319
LOCATION:Aula MF3 Polo didattico San Basilio (MF - Magazzini Frigoriferi)
SUMMARY:ESERCITAZIONI DI LINGUA THAI 2 MOD.2A [LT7080] - JUNGSUKCHAROEN JUTARMAS\, Lezione
URL;VALUE=URI://www.unive.it/data/insegnamento/592536
DTSTART:20260414T103000
END:VEVENT
BEGIN:VEVENT
DTEND:20260415T101500
UID:69e91217838da
DTSTAMP:20260422T182319
LOCATION:Aula 0C Polo didattico San Basilio (Magazzino 5)
SUMMARY:ESERCITAZIONI DI LINGUA THAI 2 MOD.2A [LT7080] - JUNGSUKCHAROEN JUTARMAS\, Lezione
URL;VALUE=URI://www.unive.it/data/insegnamento/592536
DTSTART:20260415T084500
END:VEVENT
BEGIN:VEVENT
DTEND:20260420T120000
UID:69e9121783925
DTSTAMP:20260422T182319
LOCATION:Aula MF3 Polo didattico San Basilio (MF - Magazzini Frigoriferi)
SUMMARY:ESERCITAZIONI DI LINGUA THAI 2 MOD.2A [LT7080] - JUNGSUKCHAROEN JUTARMAS\, Lezione
URL;VALUE=URI://www.unive.it/data/insegnamento/592536
DTSTART:20260420T103000
END:VEVENT
BEGIN:VEVENT
DTEND:20260421T120000
UID:69e9121783972
DTSTAMP:20260422T182319
LOCATION:Aula MF3 Polo didattico San Basilio (MF - Magazzini Frigoriferi)
SUMMARY:ESERCITAZIONI DI LINGUA THAI 2 MOD.2A [LT7080] - JUNGSUKCHAROEN JUTARMAS\, Lezione
URL;VALUE=URI://www.unive.it/data/insegnamento/592536
DTSTART:20260421T103000
END:VEVENT
BEGIN:VEVENT
DTEND:20260422T101500
UID:69e91217839be
DTSTAMP:20260422T182319
LOCATION:Aula 0C Polo didattico San Basilio (Magazzino 5)
SUMMARY:ESERCITAZIONI DI LINGUA THAI 2 MOD.2A [LT7080] - JUNGSUKCHAROEN JUTARMAS\, Lezione
URL;VALUE=URI://www.unive.it/data/insegnamento/592536
DTSTART:20260422T084500
END:VEVENT
BEGIN:VEVENT
DTEND:20260427T120000
UID:69e9121783a0a
DTSTAMP:20260422T182319
LOCATION:Aula MF3 Polo didattico San Basilio (MF - Magazzini Frigoriferi)
SUMMARY:ESERCITAZIONI DI LINGUA THAI 2 MOD.2A [LT7080] - JUNGSUKCHAROEN JUTARMAS\, Lezione
URL;VALUE=URI://www.unive.it/data/insegnamento/592536
DTSTART:20260427T103000
END:VEVENT
BEGIN:VEVENT
DTEND:20260428T120000
UID:69e9121783a58
DTSTAMP:20260422T182319
LOCATION:Aula MF3 Polo didattico San Basilio (MF - Magazzini Frigoriferi)
SUMMARY:ESERCITAZIONI DI LINGUA THAI 2 MOD.2A [LT7080] - JUNGSUKCHAROEN JUTARMAS\, Lezione
URL;VALUE=URI://www.unive.it/data/insegnamento/592536
DTSTART:20260428T103000
END:VEVENT
BEGIN:VEVENT
DTEND:20260429T101500
UID:69e9121783aa4
DTSTAMP:20260422T182319
LOCATION:Aula 0C Polo didattico San Basilio (Magazzino 5)
SUMMARY:ESERCITAZIONI DI LINGUA THAI 2 MOD.2A [LT7080] - JUNGSUKCHAROEN JUTARMAS\, Lezione
URL;VALUE=URI://www.unive.it/data/insegnamento/592536
DTSTART:20260429T084500
END:VEVENT
BEGIN:VEVENT
DTEND:20260430T134500
UID:69e9121783af0
DTSTAMP:20260422T182319
LOCATION:Sala audio 2 Palazzo Cosulich
SUMMARY:ESERCITAZIONI DI LINGUA THAI 2 MOD.2A [LT7080] - JUNGSUKCHAROEN JUTARMAS\, Esercitazione
URL;VALUE=URI://www.unive.it/data/insegnamento/592536
DTSTART:20260430T121500
END:VEVENT
BEGIN:VEVENT
DTEND:20260504T120000
UID:69e9121783b3c
DTSTAMP:20260422T182319
LOCATION:Aula MF3 Polo didattico San Basilio (MF - Magazzini Frigoriferi)
SUMMARY:ESERCITAZIONI DI LINGUA THAI 2 MOD.2A [LT7080] - JUNGSUKCHAROEN JUTARMAS\, Lezione
URL;VALUE=URI://www.unive.it/data/insegnamento/592536
DTSTART:20260504T103000
END:VEVENT
BEGIN:VEVENT
DTEND:20260505T120000
UID:69e9121783b88
DTSTAMP:20260422T182319
LOCATION:Aula MF3 Polo didattico San Basilio (MF - Magazzini Frigoriferi)
SUMMARY:ESERCITAZIONI DI LINGUA THAI 2 MOD.2A [LT7080] - JUNGSUKCHAROEN JUTARMAS\, Lezione
URL;VALUE=URI://www.unive.it/data/insegnamento/592536
DTSTART:20260505T103000
END:VEVENT
BEGIN:VEVENT
DTEND:20260506T101500
UID:69e9121783bde
DTSTAMP:20260422T182319
LOCATION:Aula 0C Polo didattico San Basilio (Magazzino 5)
SUMMARY:ESERCITAZIONI DI LINGUA THAI 2 MOD.2A [LT7080] - JUNGSUKCHAROEN JUTARMAS\, Lezione
URL;VALUE=URI://www.unive.it/data/insegnamento/592536
DTSTART:20260506T084500
END:VEVENT
BEGIN:VEVENT
DTEND:20260507T134500
UID:69e9121783c2a
DTSTAMP:20260422T182319
LOCATION:Sala audio 2 Palazzo Cosulich
SUMMARY:ESERCITAZIONI DI LINGUA THAI 2 MOD.2A [LT7080] - JUNGSUKCHAROEN JUTARMAS\, Esercitazione
URL;VALUE=URI://www.unive.it/data/insegnamento/592536
DTSTART:20260507T121500
END:VEVENT
BEGIN:VEVENT
DTEND:20260511T120000
UID:69e9121783c75
DTSTAMP:20260422T182319
LOCATION:Aula MF3 Polo didattico San Basilio (MF - Magazzini Frigoriferi)
SUMMARY:ESERCITAZIONI DI LINGUA THAI 2 MOD.2A [LT7080] - JUNGSUKCHAROEN JUTARMAS\, Lezione
URL;VALUE=URI://www.unive.it/data/insegnamento/592536
DTSTART:20260511T103000
END:VEVENT
BEGIN:VEVENT
DTEND:20260512T120000
UID:69e9121783cc3
DTSTAMP:20260422T182319
LOCATION:Aula MF3 Polo didattico San Basilio (MF - Magazzini Frigoriferi)
SUMMARY:ESERCITAZIONI DI LINGUA THAI 2 MOD.2A [LT7080] - JUNGSUKCHAROEN JUTARMAS\, Lezione
URL;VALUE=URI://www.unive.it/data/insegnamento/592536
DTSTART:20260512T103000
END:VEVENT
BEGIN:VEVENT
DTEND:20260513T101500
UID:69e9121783d10
DTSTAMP:20260422T182319
LOCATION:Aula 0C Polo didattico San Basilio (Magazzino 5)
SUMMARY:ESERCITAZIONI DI LINGUA THAI 2 MOD.2A [LT7080] - JUNGSUKCHAROEN JUTARMAS\, Lezione
URL;VALUE=URI://www.unive.it/data/insegnamento/592536
DTSTART:20260513T084500
END:VEVENT
BEGIN:VEVENT
DTEND:20260514T134500
UID:69e9121783d5d
DTSTAMP:20260422T182319
LOCATION:Sala audio 2 Palazzo Cosulich
SUMMARY:ESERCITAZIONI DI LINGUA THAI 2 MOD.2A [LT7080] - JUNGSUKCHAROEN JUTARMAS\, Esercitazione
URL;VALUE=URI://www.unive.it/data/insegnamento/592536
DTSTART:20260514T121500
END:VEVENT
BEGIN:VEVENT
DTEND:20260518T120000
UID:69e9121783da8
DTSTAMP:20260422T182319
LOCATION:Aula MF3 Polo didattico San Basilio (MF - Magazzini Frigoriferi)
SUMMARY:ESERCITAZIONI DI LINGUA THAI 2 MOD.2A [LT7080] - JUNGSUKCHAROEN JUTARMAS\, Lezione
URL;VALUE=URI://www.unive.it/data/insegnamento/592536
DTSTART:20260518T103000
END:VEVENT
BEGIN:VEVENT
DTEND:20260519T120000
UID:69e9121783df6
DTSTAMP:20260422T182319
LOCATION:Aula MF3 Polo didattico San Basilio (MF - Magazzini Frigoriferi)
SUMMARY:ESERCITAZIONI DI LINGUA THAI 2 MOD.2A [LT7080] - JUNGSUKCHAROEN JUTARMAS\, Lezione
URL;VALUE=URI://www.unive.it/data/insegnamento/592536
DTSTART:20260519T103000
END:VEVENT
BEGIN:VEVENT
DTEND:20260520T101500
UID:69e9121783e41
DTSTAMP:20260422T182319
LOCATION:Aula 0C Polo didattico San Basilio (Magazzino 5)
SUMMARY:ESERCITAZIONI DI LINGUA THAI 2 MOD.2A [LT7080] - JUNGSUKCHAROEN JUTARMAS\, Lezione
URL;VALUE=URI://www.unive.it/data/insegnamento/592536
DTSTART:20260520T084500
END:VEVENT
BEGIN:VEVENT
DTEND:20260521T134500
UID:69e9121783e8e
DTSTAMP:20260422T182319
LOCATION:Sala audio 2 Palazzo Cosulich
SUMMARY:ESERCITAZIONI DI LINGUA THAI 2 MOD.2A [LT7080] - JUNGSUKCHAROEN JUTARMAS\, Esercitazione
URL;VALUE=URI://www.unive.it/data/insegnamento/592536
DTSTART:20260521T121500
END:VEVENT
BEGIN:VEVENT
DTEND:20260525T120000
UID:69e9121783ee4
DTSTAMP:20260422T182319
LOCATION:Aula MF3 Polo didattico San Basilio (MF - Magazzini Frigoriferi)
SUMMARY:ESERCITAZIONI DI LINGUA THAI 2 MOD.2A [LT7080] - JUNGSUKCHAROEN JUTARMAS\, Lezione
URL;VALUE=URI://www.unive.it/data/insegnamento/592536
DTSTART:20260525T103000
END:VEVENT
BEGIN:VEVENT
DTEND:20260526T120000
UID:69e9121783f31
DTSTAMP:20260422T182319
LOCATION:Aula MF3 Polo didattico San Basilio (MF - Magazzini Frigoriferi)
SUMMARY:ESERCITAZIONI DI LINGUA THAI 2 MOD.2A [LT7080] - JUNGSUKCHAROEN JUTARMAS\, Lezione
URL;VALUE=URI://www.unive.it/data/insegnamento/592536
DTSTART:20260526T103000
END:VEVENT
BEGIN:VEVENT
DTEND:20260527T101500
UID:69e9121783f7d
DTSTAMP:20260422T182319
LOCATION:Aula 0C Polo didattico San Basilio (Magazzino 5)
SUMMARY:ESERCITAZIONI DI LINGUA THAI 2 MOD.2A [LT7080] - JUNGSUKCHAROEN JUTARMAS\, Lezione
URL;VALUE=URI://www.unive.it/data/insegnamento/592536
DTSTART:20260527T084500
END:VEVENT
BEGIN:VEVENT
DTEND:20260528T134500
UID:69e9121783fd1
DTSTAMP:20260422T182319
LOCATION:Sala audio 2 Palazzo Cosulich
SUMMARY:ESERCITAZIONI DI LINGUA THAI 2 MOD.2A [LT7080] - JUNGSUKCHAROEN JUTARMAS\, Esercitazione
URL;VALUE=URI://www.unive.it/data/insegnamento/592536
DTSTART:20260528T121500
END:VEVENT
BEGIN:VEVENT
DTEND:20260603T101500
UID:69e912178401c
DTSTAMP:20260422T182319
LOCATION:Aula 0C Polo didattico San Basilio (Magazzino 5)
SUMMARY:ESERCITAZIONI DI LINGUA THAI 2 MOD.2A [LT7080] - JUNGSUKCHAROEN JUTARMAS\, Lezione
URL;VALUE=URI://www.unive.it/data/insegnamento/592536
DTSTART:20260603T084500
END:VEVENT
BEGIN:VEVENT
DTEND:20260604T134500
UID:69e9121784067
DTSTAMP:20260422T182319
LOCATION:Sala audio 2 Palazzo Cosulich
SUMMARY:ESERCITAZIONI DI LINGUA THAI 2 MOD.2A [LT7080] - JUNGSUKCHAROEN JUTARMAS\, Esercitazione
URL;VALUE=URI://www.unive.it/data/insegnamento/592536
DTSTART:20260604T121500
END:VEVENT
END:VCALENDAR