BEGIN:VCALENDAR
VERSION:2.0
PRODID:-//hacksw/handcal//NONSGML v1.0//EN
CALSCALE:GREGORIAN
X-WR-CALNAME:ESERCITAZIONI DI LINGUA TURCA 3 MOD.2B [LT0074]
DESCRIPTION:ESERCITAZIONI DI LINGUA TURCA 3 MOD.2B [LT0074]
REFRESH-INTERVAL;VALUE=DURATION:P1D
X-WR-TIMEZONE:Europe/Rome
BEGIN:VEVENT
DTEND:20260227T134500
UID:69e4cefd2762e
DTSTAMP:20260419T124757
LOCATION:Aula F (Aula AM C) Ca' Cappello
SUMMARY:ESERCITAZIONI DI LINGUA TURCA 3 MOD.2B [LT0074] - OZKAN GURSES MERAL\, Lezione
URL;VALUE=URI://www.unive.it/data/insegnamento/592550
DTSTART:20260227T121500
END:VEVENT
BEGIN:VEVENT
DTEND:20260306T134500
UID:69e4cefd276be
DTSTAMP:20260419T124757
LOCATION:Aula F (Aula AM C) Ca' Cappello
SUMMARY:ESERCITAZIONI DI LINGUA TURCA 3 MOD.2B [LT0074] - OZKAN GURSES MERAL\, Lezione
URL;VALUE=URI://www.unive.it/data/insegnamento/592550
DTSTART:20260306T121500
END:VEVENT
BEGIN:VEVENT
DTEND:20260313T134500
UID:69e4cefd27713
DTSTAMP:20260419T124757
LOCATION:Aula F (Aula AM C) Ca' Cappello
SUMMARY:ESERCITAZIONI DI LINGUA TURCA 3 MOD.2B [LT0074] - OZKAN GURSES MERAL\, Lezione
URL;VALUE=URI://www.unive.it/data/insegnamento/592550
DTSTART:20260313T121500
END:VEVENT
BEGIN:VEVENT
DTEND:20260320T134500
UID:69e4cefd27764
DTSTAMP:20260419T124757
LOCATION:Aula F (Aula AM C) Ca' Cappello
SUMMARY:ESERCITAZIONI DI LINGUA TURCA 3 MOD.2B [LT0074] - OZKAN GURSES MERAL\, Lezione
URL;VALUE=URI://www.unive.it/data/insegnamento/592550
DTSTART:20260320T121500
END:VEVENT
BEGIN:VEVENT
DTEND:20260327T134500
UID:69e4cefd277b1
DTSTAMP:20260419T124757
LOCATION:Aula F (Aula AM C) Ca' Cappello
SUMMARY:ESERCITAZIONI DI LINGUA TURCA 3 MOD.2B [LT0074] - OZKAN GURSES MERAL\, Lezione
URL;VALUE=URI://www.unive.it/data/insegnamento/592550
DTSTART:20260327T121500
END:VEVENT
BEGIN:VEVENT
DTEND:20260331T101500
UID:69e4cefd277fc
DTSTAMP:20260419T124757
LOCATION:Aula D Ca' Cappello
SUMMARY:ESERCITAZIONI DI LINGUA TURCA 3 MOD.2B [LT0074] - OZKAN GURSES MERAL\, Esercitazione
URL;VALUE=URI://www.unive.it/data/insegnamento/592550
DTSTART:20260331T084500
END:VEVENT
BEGIN:VEVENT
DTEND:20260407T101500
UID:69e4cefd27847
DTSTAMP:20260419T124757
LOCATION:Aula D Ca' Cappello
SUMMARY:ESERCITAZIONI DI LINGUA TURCA 3 MOD.2B [LT0074] - OZKAN GURSES MERAL\, Esercitazione
URL;VALUE=URI://www.unive.it/data/insegnamento/592550
DTSTART:20260407T084500
END:VEVENT
BEGIN:VEVENT
DTEND:20260413T171500
UID:69e4cefd27891
DTSTAMP:20260419T124757
LOCATION:Aula C Ca' Cappello
SUMMARY:ESERCITAZIONI DI LINGUA TURCA 3 MOD.2B [LT0074] - OZKAN GURSES MERAL\, Lezione
URL;VALUE=URI://www.unive.it/data/insegnamento/592550
DTSTART:20260413T154500
END:VEVENT
BEGIN:VEVENT
DTEND:20260414T101500
UID:69e4cefd278e1
DTSTAMP:20260419T124757
LOCATION:Aula D Ca' Cappello
SUMMARY:ESERCITAZIONI DI LINGUA TURCA 3 MOD.2B [LT0074] - OZKAN GURSES MERAL\, Esercitazione
URL;VALUE=URI://www.unive.it/data/insegnamento/592550
DTSTART:20260414T084500
END:VEVENT
BEGIN:VEVENT
DTEND:20260421T101500
UID:69e4cefd2792c
DTSTAMP:20260419T124757
LOCATION:Aula D Ca' Cappello
SUMMARY:ESERCITAZIONI DI LINGUA TURCA 3 MOD.2B [LT0074] - OZKAN GURSES MERAL\, Esercitazione
URL;VALUE=URI://www.unive.it/data/insegnamento/592550
DTSTART:20260421T084500
END:VEVENT
BEGIN:VEVENT
DTEND:20260428T101500
UID:69e4cefd27976
DTSTAMP:20260419T124757
LOCATION:Aula D Ca' Cappello
SUMMARY:ESERCITAZIONI DI LINGUA TURCA 3 MOD.2B [LT0074] - OZKAN GURSES MERAL\, Esercitazione
URL;VALUE=URI://www.unive.it/data/insegnamento/592550
DTSTART:20260428T084500
END:VEVENT
BEGIN:VEVENT
DTEND:20260505T101500
UID:69e4cefd279c0
DTSTAMP:20260419T124757
LOCATION:Aula D Ca' Cappello
SUMMARY:ESERCITAZIONI DI LINGUA TURCA 3 MOD.2B [LT0074] - OZKAN GURSES MERAL\, Esercitazione
URL;VALUE=URI://www.unive.it/data/insegnamento/592550
DTSTART:20260505T084500
END:VEVENT
BEGIN:VEVENT
DTEND:20260512T101500
UID:69e4cefd27a0a
DTSTAMP:20260419T124757
LOCATION:Aula D Ca' Cappello
SUMMARY:ESERCITAZIONI DI LINGUA TURCA 3 MOD.2B [LT0074] - OZKAN GURSES MERAL\, Esercitazione
URL;VALUE=URI://www.unive.it/data/insegnamento/592550
DTSTART:20260512T084500
END:VEVENT
BEGIN:VEVENT
DTEND:20260519T101500
UID:69e4cefd27a55
DTSTAMP:20260419T124757
LOCATION:Aula D Ca' Cappello
SUMMARY:ESERCITAZIONI DI LINGUA TURCA 3 MOD.2B [LT0074] - OZKAN GURSES MERAL\, Esercitazione
URL;VALUE=URI://www.unive.it/data/insegnamento/592550
DTSTART:20260519T084500
END:VEVENT
BEGIN:VEVENT
DTEND:20260526T101500
UID:69e4cefd27aa0
DTSTAMP:20260419T124757
LOCATION:Aula D Ca' Cappello
SUMMARY:ESERCITAZIONI DI LINGUA TURCA 3 MOD.2B [LT0074] - OZKAN GURSES MERAL\, Esercitazione
URL;VALUE=URI://www.unive.it/data/insegnamento/592550
DTSTART:20260526T084500
END:VEVENT
END:VCALENDAR