BEGIN:VCALENDAR
VERSION:2.0
PRODID:-//hacksw/handcal//NONSGML v1.0//EN
CALSCALE:GREGORIAN
X-WR-CALNAME:TEORIE SOCIOLOGICHE [FT0266]
DESCRIPTION:TEORIE SOCIOLOGICHE [FT0266]
REFRESH-INTERVAL;VALUE=DURATION:P1D
X-WR-TIMEZONE:Europe/Rome
BEGIN:VEVENT
DTEND:20251001T120000
UID:69e905b7a1a53
DTSTAMP:20260422T173031
LOCATION:Aula nuova Santa Marta
SUMMARY:TEORIE SOCIOLOGICHE [FT0266] - DELLA PUPPA Francesco\, Lezione
URL;VALUE=URI://www.unive.it/data/insegnamento/593338
DTSTART:20251001T103000
END:VEVENT
BEGIN:VEVENT
DTEND:20251008T120000
UID:69e905b7a1ae2
DTSTAMP:20260422T173031
LOCATION:Aula nuova Santa Marta
SUMMARY:TEORIE SOCIOLOGICHE [FT0266] - DELLA PUPPA Francesco\, Lezione
URL;VALUE=URI://www.unive.it/data/insegnamento/593338
DTSTART:20251008T103000
END:VEVENT
BEGIN:VEVENT
DTEND:20251015T120000
UID:69e905b7a1b34
DTSTAMP:20260422T173031
LOCATION:Aula nuova Santa Marta
SUMMARY:TEORIE SOCIOLOGICHE [FT0266] - DELLA PUPPA Francesco\, Lezione
URL;VALUE=URI://www.unive.it/data/insegnamento/593338
DTSTART:20251015T103000
END:VEVENT
BEGIN:VEVENT
DTEND:20251022T120000
UID:69e905b7a1b82
DTSTAMP:20260422T173031
LOCATION:Aula nuova Santa Marta
SUMMARY:TEORIE SOCIOLOGICHE [FT0266] - DELLA PUPPA Francesco\, Lezione
URL;VALUE=URI://www.unive.it/data/insegnamento/593338
DTSTART:20251022T103000
END:VEVENT
BEGIN:VEVENT
DTEND:20251029T120000
UID:69e905b7a1bce
DTSTAMP:20260422T173031
LOCATION:Aula nuova Santa Marta
SUMMARY:TEORIE SOCIOLOGICHE [FT0266] - DELLA PUPPA Francesco\, Lezione
URL;VALUE=URI://www.unive.it/data/insegnamento/593338
DTSTART:20251029T103000
END:VEVENT
END:VCALENDAR