BEGIN:VCALENDAR
VERSION:2.0
PRODID:-//hacksw/handcal//NONSGML v1.0//EN
CALSCALE:GREGORIAN
X-WR-CALNAME:AMERICAN LITERATURE 2 [LMJ030]
DESCRIPTION:AMERICAN LITERATURE 2 [LMJ030]
REFRESH-INTERVAL;VALUE=DURATION:P1D
X-WR-TIMEZONE:Europe/Rome
BEGIN:VEVENT
DTEND:20250922T134500
UID:69e91f24ed983
DTSTAMP:20260422T191900
LOCATION:Aula 5 Rio Novo
SUMMARY:AMERICAN LITERATURE 2 [LMJ030] - MASIERO Pia\, Lezione
URL;VALUE=URI://www.unive.it/data/insegnamento/593527
DTSTART:20250922T121500
END:VEVENT
BEGIN:VEVENT
DTEND:20250923T134500
UID:69e91f24eda1c
DTSTAMP:20260422T191900
LOCATION:Sala audio 1 Palazzo Cosulich
SUMMARY:AMERICAN LITERATURE 2 [LMJ030] - MASIERO Pia\, Lezione
URL;VALUE=URI://www.unive.it/data/insegnamento/593527
DTSTART:20250923T121500
END:VEVENT
BEGIN:VEVENT
DTEND:20250929T134500
UID:69e91f24eda6e
DTSTAMP:20260422T191900
LOCATION:Aula 5 Rio Novo
SUMMARY:AMERICAN LITERATURE 2 [LMJ030] - MASIERO Pia\, Lezione
URL;VALUE=URI://www.unive.it/data/insegnamento/593527
DTSTART:20250929T121500
END:VEVENT
BEGIN:VEVENT
DTEND:20250930T134500
UID:69e91f24edac0
DTSTAMP:20260422T191900
LOCATION:Sala audio 1 Palazzo Cosulich
SUMMARY:AMERICAN LITERATURE 2 [LMJ030] - MASIERO Pia\, Lezione
URL;VALUE=URI://www.unive.it/data/insegnamento/593527
DTSTART:20250930T121500
END:VEVENT
BEGIN:VEVENT
DTEND:20251006T134500
UID:69e91f24edaf2
DTSTAMP:20260422T191900
LOCATION:Aula 5 Rio Novo
SUMMARY:AMERICAN LITERATURE 2 [LMJ030] - MASIERO Pia\, Lezione
URL;VALUE=URI://www.unive.it/data/insegnamento/593527
DTSTART:20251006T121500
END:VEVENT
BEGIN:VEVENT
DTEND:20251007T134500
UID:69e91f24edb3c
DTSTAMP:20260422T191900
LOCATION:Sala audio 1 Palazzo Cosulich
SUMMARY:AMERICAN LITERATURE 2 [LMJ030] - MASIERO Pia\, Lezione
URL;VALUE=URI://www.unive.it/data/insegnamento/593527
DTSTART:20251007T121500
END:VEVENT
BEGIN:VEVENT
DTEND:20251013T134500
UID:69e91f24edb87
DTSTAMP:20260422T191900
LOCATION:Aula 5 Rio Novo
SUMMARY:AMERICAN LITERATURE 2 [LMJ030] - MASIERO Pia\, Lezione
URL;VALUE=URI://www.unive.it/data/insegnamento/593527
DTSTART:20251013T121500
END:VEVENT
BEGIN:VEVENT
DTEND:20251014T134500
UID:69e91f24edbd0
DTSTAMP:20260422T191900
LOCATION:Sala audio 1 Palazzo Cosulich
SUMMARY:AMERICAN LITERATURE 2 [LMJ030] - MASIERO Pia\, Lezione
URL;VALUE=URI://www.unive.it/data/insegnamento/593527
DTSTART:20251014T121500
END:VEVENT
BEGIN:VEVENT
DTEND:20251020T134500
UID:69e91f24edc1a
DTSTAMP:20260422T191900
LOCATION:Aula 5 Rio Novo
SUMMARY:AMERICAN LITERATURE 2 [LMJ030] - MASIERO Pia\, Lezione
URL;VALUE=URI://www.unive.it/data/insegnamento/593527
DTSTART:20251020T121500
END:VEVENT
BEGIN:VEVENT
DTEND:20251021T134500
UID:69e91f24edc64
DTSTAMP:20260422T191900
LOCATION:Sala audio 1 Palazzo Cosulich
SUMMARY:AMERICAN LITERATURE 2 [LMJ030] - MASIERO Pia\, Lezione
URL;VALUE=URI://www.unive.it/data/insegnamento/593527
DTSTART:20251021T121500
END:VEVENT
BEGIN:VEVENT
DTEND:20251027T134500
UID:69e91f24edcae
DTSTAMP:20260422T191900
LOCATION:Aula 5 Rio Novo
SUMMARY:AMERICAN LITERATURE 2 [LMJ030] - MASIERO Pia\, Lezione
URL;VALUE=URI://www.unive.it/data/insegnamento/593527
DTSTART:20251027T121500
END:VEVENT
BEGIN:VEVENT
DTEND:20251028T134500
UID:69e91f24edcf8
DTSTAMP:20260422T191900
LOCATION:Sala audio 1 Palazzo Cosulich
SUMMARY:AMERICAN LITERATURE 2 [LMJ030] - MASIERO Pia\, Lezione
URL;VALUE=URI://www.unive.it/data/insegnamento/593527
DTSTART:20251028T121500
END:VEVENT
BEGIN:VEVENT
DTEND:20251103T134500
UID:69e91f24edd43
DTSTAMP:20260422T191900
LOCATION:Aula 5 Rio Novo
SUMMARY:AMERICAN LITERATURE 2 [LMJ030] - MASIERO Pia\, Lezione
URL;VALUE=URI://www.unive.it/data/insegnamento/593527
DTSTART:20251103T121500
END:VEVENT
BEGIN:VEVENT
DTEND:20251104T134500
UID:69e91f24edd8d
DTSTAMP:20260422T191900
LOCATION:Sala audio 1 Palazzo Cosulich
SUMMARY:AMERICAN LITERATURE 2 [LMJ030] - MASIERO Pia\, Lezione
URL;VALUE=URI://www.unive.it/data/insegnamento/593527
DTSTART:20251104T121500
END:VEVENT
BEGIN:VEVENT
DTEND:20251110T134500
UID:69e91f24eddd6
DTSTAMP:20260422T191900
LOCATION:Aula 5 Rio Novo
SUMMARY:AMERICAN LITERATURE 2 [LMJ030] - MASIERO Pia\, Lezione
URL;VALUE=URI://www.unive.it/data/insegnamento/593527
DTSTART:20251110T121500
END:VEVENT
BEGIN:VEVENT
DTEND:20251111T134500
UID:69e91f24ede20
DTSTAMP:20260422T191900
LOCATION:Sala audio 1 Palazzo Cosulich
SUMMARY:AMERICAN LITERATURE 2 [LMJ030] - MASIERO Pia\, Lezione
URL;VALUE=URI://www.unive.it/data/insegnamento/593527
DTSTART:20251111T121500
END:VEVENT
BEGIN:VEVENT
DTEND:20251117T134500
UID:69e91f24ede6a
DTSTAMP:20260422T191900
LOCATION:Aula 5 Rio Novo
SUMMARY:AMERICAN LITERATURE 2 [LMJ030] - MASIERO Pia\, Lezione
URL;VALUE=URI://www.unive.it/data/insegnamento/593527
DTSTART:20251117T121500
END:VEVENT
BEGIN:VEVENT
DTEND:20251118T134500
UID:69e91f24edeb5
DTSTAMP:20260422T191900
LOCATION:Sala audio 1 Palazzo Cosulich
SUMMARY:AMERICAN LITERATURE 2 [LMJ030] - MASIERO Pia\, Lezione
URL;VALUE=URI://www.unive.it/data/insegnamento/593527
DTSTART:20251118T121500
END:VEVENT
BEGIN:VEVENT
DTEND:20251125T134500
UID:69e91f24eded8
DTSTAMP:20260422T191900
LOCATION:Sala audio 1 Palazzo Cosulich
SUMMARY:AMERICAN LITERATURE 2 [LMJ030] - MASIERO Pia\, Lezione
URL;VALUE=URI://www.unive.it/data/insegnamento/593527
DTSTART:20251125T121500
END:VEVENT
BEGIN:VEVENT
DTEND:20251201T134500
UID:69e91f24edf22
DTSTAMP:20260422T191900
LOCATION:Aula 5 Rio Novo
SUMMARY:AMERICAN LITERATURE 2 [LMJ030] - MASIERO Pia\, Lezione
URL;VALUE=URI://www.unive.it/data/insegnamento/593527
DTSTART:20251201T121500
END:VEVENT
BEGIN:VEVENT
DTEND:20251202T134500
UID:69e91f24edf6c
DTSTAMP:20260422T191900
LOCATION:Sala audio 1 Palazzo Cosulich
SUMMARY:AMERICAN LITERATURE 2 [LMJ030] - MASIERO Pia\, Lezione
URL;VALUE=URI://www.unive.it/data/insegnamento/593527
DTSTART:20251202T121500
END:VEVENT
BEGIN:VEVENT
DTEND:20251205T134500
UID:69e91f24edfb5
DTSTAMP:20260422T191900
LOCATION:Sala audio 1 Palazzo Cosulich
SUMMARY:AMERICAN LITERATURE 2 [LMJ030] - MASIERO Pia\, Recupero Lezioni
URL;VALUE=URI://www.unive.it/data/insegnamento/593527
DTSTART:20251205T121500
END:VEVENT
BEGIN:VEVENT
DTEND:20251209T134500
UID:69e91f24ee000
DTSTAMP:20260422T191900
LOCATION:Sala audio 1 Palazzo Cosulich
SUMMARY:AMERICAN LITERATURE 2 [LMJ030] - MASIERO Pia\, Lezione
URL;VALUE=URI://www.unive.it/data/insegnamento/593527
DTSTART:20251209T121500
END:VEVENT
BEGIN:VEVENT
DTEND:20251215T134500
UID:69e91f24ee049
DTSTAMP:20260422T191900
LOCATION:Aula 5 Rio Novo
SUMMARY:AMERICAN LITERATURE 2 [LMJ030] - MASIERO Pia\, Lezione
URL;VALUE=URI://www.unive.it/data/insegnamento/593527
DTSTART:20251215T121500
END:VEVENT
BEGIN:VEVENT
DTEND:20251216T134500
UID:69e91f24ee093
DTSTAMP:20260422T191900
LOCATION:Sala audio 1 Palazzo Cosulich
SUMMARY:AMERICAN LITERATURE 2 [LMJ030] - MASIERO Pia\, Lezione
URL;VALUE=URI://www.unive.it/data/insegnamento/593527
DTSTART:20251216T121500
END:VEVENT
BEGIN:VEVENT
DTEND:20251219T134500
UID:69e91f24ee0dd
DTSTAMP:20260422T191900
LOCATION:Sala audio 1 Palazzo Cosulich
SUMMARY:AMERICAN LITERATURE 2 [LMJ030] - MASIERO Pia\, Recupero Lezioni
URL;VALUE=URI://www.unive.it/data/insegnamento/593527
DTSTART:20251219T121500
END:VEVENT
BEGIN:VEVENT
DTEND:20260112T134500
UID:69e91f24ee129
DTSTAMP:20260422T191900
LOCATION:Aula 5 Rio Novo
SUMMARY:AMERICAN LITERATURE 2 [LMJ030] - MASIERO Pia\, Lezione
URL;VALUE=URI://www.unive.it/data/insegnamento/593527
DTSTART:20260112T121500
END:VEVENT
BEGIN:VEVENT
DTEND:20260113T134500
UID:69e91f24ee172
DTSTAMP:20260422T191900
LOCATION:Sala audio 1 Palazzo Cosulich
SUMMARY:AMERICAN LITERATURE 2 [LMJ030] - MASIERO Pia\, Lezione
URL;VALUE=URI://www.unive.it/data/insegnamento/593527
DTSTART:20260113T121500
END:VEVENT
BEGIN:VEVENT
DTEND:20260119T134500
UID:69e91f24ee1bc
DTSTAMP:20260422T191900
LOCATION:Aula 5 Rio Novo
SUMMARY:AMERICAN LITERATURE 2 [LMJ030] - MASIERO Pia\, Lezione
URL;VALUE=URI://www.unive.it/data/insegnamento/593527
DTSTART:20260119T121500
END:VEVENT
BEGIN:VEVENT
DTEND:20260120T134500
UID:69e91f24ee205
DTSTAMP:20260422T191900
LOCATION:Sala audio 1 Palazzo Cosulich
SUMMARY:AMERICAN LITERATURE 2 [LMJ030] - MASIERO Pia\, Lezione
URL;VALUE=URI://www.unive.it/data/insegnamento/593527
DTSTART:20260120T121500
END:VEVENT
END:VCALENDAR