BEGIN:VCALENDAR
VERSION:2.0
PRODID:-//hacksw/handcal//NONSGML v1.0//EN
CALSCALE:GREGORIAN
X-WR-CALNAME:LENGUAJES ARTÍSTICOS POPULARES DE LA AMÉRICA HISPÁNICA [LM6540]
DESCRIPTION:LENGUAJES ARTÍSTICOS POPULARES DE LA AMÉRICA HISPÁNICA [LM6540]
REFRESH-INTERVAL;VALUE=DURATION:P1D
X-WR-TIMEZONE:Europe/Rome
BEGIN:VEVENT
DTEND:20250926T134500
UID:69e91212b94c8
DTSTAMP:20260422T182314
LOCATION:Aula 4 Rio Novo
SUMMARY:LENGUAJES ARTÍSTICOS POPULARES DE LA AMÉRICA HISPÁNICA [LM6540] - FAVARO ALICE\, Lezione
URL;VALUE=URI://www.unive.it/data/insegnamento/594161
DTSTART:20250926T121500
END:VEVENT
BEGIN:VEVENT
DTEND:20251003T134500
UID:69e91212b9590
DTSTAMP:20260422T182314
LOCATION:Aula 4 Rio Novo
SUMMARY:LENGUAJES ARTÍSTICOS POPULARES DE LA AMÉRICA HISPÁNICA [LM6540] - FAVARO ALICE\, Lezione
URL;VALUE=URI://www.unive.it/data/insegnamento/594161
DTSTART:20251003T121500
END:VEVENT
BEGIN:VEVENT
DTEND:20251017T134500
UID:69e91212b95e4
DTSTAMP:20260422T182314
LOCATION:Aula 4 Rio Novo
SUMMARY:LENGUAJES ARTÍSTICOS POPULARES DE LA AMÉRICA HISPÁNICA [LM6540] - FAVARO ALICE\, Lezione
URL;VALUE=URI://www.unive.it/data/insegnamento/594161
DTSTART:20251017T121500
END:VEVENT
BEGIN:VEVENT
DTEND:20251017T171500
UID:69e91212b9632
DTSTAMP:20260422T182314
LOCATION:Aula 4 Rio Novo
SUMMARY:LENGUAJES ARTÍSTICOS POPULARES DE LA AMÉRICA HISPÁNICA [LM6540] - FAVARO ALICE\, Lezione
URL;VALUE=URI://www.unive.it/data/insegnamento/594161
DTSTART:20251017T154500
END:VEVENT
BEGIN:VEVENT
DTEND:20251024T134500
UID:69e91212b967e
DTSTAMP:20260422T182314
LOCATION:Aula 4 Rio Novo
SUMMARY:LENGUAJES ARTÍSTICOS POPULARES DE LA AMÉRICA HISPÁNICA [LM6540] - FAVARO ALICE\, Lezione
URL;VALUE=URI://www.unive.it/data/insegnamento/594161
DTSTART:20251024T121500
END:VEVENT
BEGIN:VEVENT
DTEND:20251031T134500
UID:69e91212b96c9
DTSTAMP:20260422T182314
LOCATION:Aula 4 Rio Novo
SUMMARY:LENGUAJES ARTÍSTICOS POPULARES DE LA AMÉRICA HISPÁNICA [LM6540] - FAVARO ALICE\, Lezione
URL;VALUE=URI://www.unive.it/data/insegnamento/594161
DTSTART:20251031T121500
END:VEVENT
BEGIN:VEVENT
DTEND:20251107T134500
UID:69e91212b9702
DTSTAMP:20260422T182314
LOCATION:Aula 4 Rio Novo
SUMMARY:LENGUAJES ARTÍSTICOS POPULARES DE LA AMÉRICA HISPÁNICA [LM6540] - FAVARO ALICE\, Lezione
URL;VALUE=URI://www.unive.it/data/insegnamento/594161
DTSTART:20251107T121500
END:VEVENT
BEGIN:VEVENT
DTEND:20251114T134500
UID:69e91212b9755
DTSTAMP:20260422T182314
LOCATION:Aula 4 Rio Novo
SUMMARY:LENGUAJES ARTÍSTICOS POPULARES DE LA AMÉRICA HISPÁNICA [LM6540] - FAVARO ALICE\, Lezione
URL;VALUE=URI://www.unive.it/data/insegnamento/594161
DTSTART:20251114T121500
END:VEVENT
BEGIN:VEVENT
DTEND:20251128T134500
UID:69e91212b97a2
DTSTAMP:20260422T182314
LOCATION:Aula 4 Rio Novo
SUMMARY:LENGUAJES ARTÍSTICOS POPULARES DE LA AMÉRICA HISPÁNICA [LM6540] - FAVARO ALICE\, Lezione
URL;VALUE=URI://www.unive.it/data/insegnamento/594161
DTSTART:20251128T121500
END:VEVENT
BEGIN:VEVENT
DTEND:20251204T120000
UID:69e91212b97ed
DTSTAMP:20260422T182314
LOCATION:Aula Azzurra Ca' Bernardo
SUMMARY:LENGUAJES ARTÍSTICOS POPULARES DE LA AMÉRICA HISPÁNICA [LM6540] - FAVARO ALICE\, Lezione
URL;VALUE=URI://www.unive.it/data/insegnamento/594161
DTSTART:20251204T103000
END:VEVENT
BEGIN:VEVENT
DTEND:20251205T134500
UID:69e91212b9839
DTSTAMP:20260422T182314
LOCATION:Aula 4 Rio Novo
SUMMARY:LENGUAJES ARTÍSTICOS POPULARES DE LA AMÉRICA HISPÁNICA [LM6540] - FAVARO ALICE\, Lezione
URL;VALUE=URI://www.unive.it/data/insegnamento/594161
DTSTART:20251205T121500
END:VEVENT
BEGIN:VEVENT
DTEND:20251212T134500
UID:69e91212b9884
DTSTAMP:20260422T182314
LOCATION:Aula 4 Rio Novo
SUMMARY:LENGUAJES ARTÍSTICOS POPULARES DE LA AMÉRICA HISPÁNICA [LM6540] - FAVARO ALICE\, Lezione
URL;VALUE=URI://www.unive.it/data/insegnamento/594161
DTSTART:20251212T121500
END:VEVENT
BEGIN:VEVENT
DTEND:20251218T153000
UID:69e91212b98d0
DTSTAMP:20260422T182314
LOCATION:ALTRO Altro
SUMMARY:LENGUAJES ARTÍSTICOS POPULARES DE LA AMÉRICA HISPÁNICA [LM6540] - FAVARO ALICE\, Lezione
URL;VALUE=URI://www.unive.it/data/insegnamento/594161
DTSTART:20251218T140000
END:VEVENT
BEGIN:VEVENT
DTEND:20251219T134500
UID:69e91212b9927
DTSTAMP:20260422T182314
LOCATION:Aula 4 Rio Novo
SUMMARY:LENGUAJES ARTÍSTICOS POPULARES DE LA AMÉRICA HISPÁNICA [LM6540] - FAVARO ALICE\, Lezione
URL;VALUE=URI://www.unive.it/data/insegnamento/594161
DTSTART:20251219T121500
END:VEVENT
BEGIN:VEVENT
DTEND:20260116T134500
UID:69e91212b9973
DTSTAMP:20260422T182314
LOCATION:Aula 4 Rio Novo
SUMMARY:LENGUAJES ARTÍSTICOS POPULARES DE LA AMÉRICA HISPÁNICA [LM6540] - FAVARO ALICE\, Lezione
URL;VALUE=URI://www.unive.it/data/insegnamento/594161
DTSTART:20260116T121500
END:VEVENT
BEGIN:VEVENT
DTEND:20260122T120000
UID:69e91212b99bc
DTSTAMP:20260422T182314
LOCATION:Aula Padoan San Sebastiano
SUMMARY:LENGUAJES ARTÍSTICOS POPULARES DE LA AMÉRICA HISPÁNICA [LM6540] - FAVARO ALICE\, Lezione
URL;VALUE=URI://www.unive.it/data/insegnamento/594161
DTSTART:20260122T103000
END:VEVENT
BEGIN:VEVENT
DTEND:20260123T134500
UID:69e91212b9a07
DTSTAMP:20260422T182314
LOCATION:Aula 4 Rio Novo
SUMMARY:LENGUAJES ARTÍSTICOS POPULARES DE LA AMÉRICA HISPÁNICA [LM6540] - FAVARO ALICE\, Lezione
URL;VALUE=URI://www.unive.it/data/insegnamento/594161
DTSTART:20260123T121500
END:VEVENT
END:VCALENDAR