BEGIN:VCALENDAR
VERSION:2.0
PRODID:-//hacksw/handcal//NONSGML v1.0//EN
CALSCALE:GREGORIAN
X-WR-CALNAME:STORIA DELLA CULTURA ALBANESE [LM3210]
DESCRIPTION:STORIA DELLA CULTURA ALBANESE [LM3210]
REFRESH-INTERVAL;VALUE=DURATION:P1D
X-WR-TIMEZONE:Europe/Rome
BEGIN:VEVENT
DTEND:20260225T120000
UID:69e8193264f16
DTSTAMP:20260422T004122
LOCATION:Aula 6 Rio Novo
SUMMARY:STORIA DELLA CULTURA ALBANESE [LM3210] - TURANO Giuseppina\, Lezione
URL;VALUE=URI://www.unive.it/data/insegnamento/594330
DTSTART:20260225T103000
END:VEVENT
BEGIN:VEVENT
DTEND:20260304T120000
UID:69e8193264fae
DTSTAMP:20260422T004122
LOCATION:Aula 6 Rio Novo
SUMMARY:STORIA DELLA CULTURA ALBANESE [LM3210] - TURANO Giuseppina\, Lezione
URL;VALUE=URI://www.unive.it/data/insegnamento/594330
DTSTART:20260304T103000
END:VEVENT
BEGIN:VEVENT
DTEND:20260311T120000
UID:69e8193265006
DTSTAMP:20260422T004122
LOCATION:Aula 6 Rio Novo
SUMMARY:STORIA DELLA CULTURA ALBANESE [LM3210] - TURANO Giuseppina\, Lezione
URL;VALUE=URI://www.unive.it/data/insegnamento/594330
DTSTART:20260311T103000
END:VEVENT
BEGIN:VEVENT
DTEND:20260318T120000
UID:69e819326505a
DTSTAMP:20260422T004122
LOCATION:Aula 6 Rio Novo
SUMMARY:STORIA DELLA CULTURA ALBANESE [LM3210] - TURANO Giuseppina\, Lezione
URL;VALUE=URI://www.unive.it/data/insegnamento/594330
DTSTART:20260318T103000
END:VEVENT
BEGIN:VEVENT
DTEND:20260325T120000
UID:69e81932650af
DTSTAMP:20260422T004122
LOCATION:Aula 6 Rio Novo
SUMMARY:STORIA DELLA CULTURA ALBANESE [LM3210] - TURANO Giuseppina\, Lezione
URL;VALUE=URI://www.unive.it/data/insegnamento/594330
DTSTART:20260325T103000
END:VEVENT
BEGIN:VEVENT
DTEND:20260401T120000
UID:69e8193265102
DTSTAMP:20260422T004122
LOCATION:Aula 6 Rio Novo
SUMMARY:STORIA DELLA CULTURA ALBANESE [LM3210] - TURANO Giuseppina\, Lezione
URL;VALUE=URI://www.unive.it/data/insegnamento/594330
DTSTART:20260401T103000
END:VEVENT
BEGIN:VEVENT
DTEND:20260408T120000
UID:69e8193265155
DTSTAMP:20260422T004122
LOCATION:Aula 6 Rio Novo
SUMMARY:STORIA DELLA CULTURA ALBANESE [LM3210] - TURANO Giuseppina\, Lezione
URL;VALUE=URI://www.unive.it/data/insegnamento/594330
DTSTART:20260408T103000
END:VEVENT
BEGIN:VEVENT
DTEND:20260415T120000
UID:69e81932651a8
DTSTAMP:20260422T004122
LOCATION:Aula 6 Rio Novo
SUMMARY:STORIA DELLA CULTURA ALBANESE [LM3210] - TURANO Giuseppina\, Lezione
URL;VALUE=URI://www.unive.it/data/insegnamento/594330
DTSTART:20260415T103000
END:VEVENT
BEGIN:VEVENT
DTEND:20260422T120000
UID:69e8193265205
DTSTAMP:20260422T004122
LOCATION:Aula 6 Rio Novo
SUMMARY:STORIA DELLA CULTURA ALBANESE [LM3210] - TURANO Giuseppina\, Lezione
URL;VALUE=URI://www.unive.it/data/insegnamento/594330
DTSTART:20260422T103000
END:VEVENT
BEGIN:VEVENT
DTEND:20260429T120000
UID:69e8193265257
DTSTAMP:20260422T004122
LOCATION:Aula 6 Rio Novo
SUMMARY:STORIA DELLA CULTURA ALBANESE [LM3210] - TURANO Giuseppina\, Lezione
URL;VALUE=URI://www.unive.it/data/insegnamento/594330
DTSTART:20260429T103000
END:VEVENT
BEGIN:VEVENT
DTEND:20260506T120000
UID:69e81932652aa
DTSTAMP:20260422T004122
LOCATION:Aula 6 Rio Novo
SUMMARY:STORIA DELLA CULTURA ALBANESE [LM3210] - TURANO Giuseppina\, Lezione
URL;VALUE=URI://www.unive.it/data/insegnamento/594330
DTSTART:20260506T103000
END:VEVENT
BEGIN:VEVENT
DTEND:20260513T120000
UID:69e81932652fc
DTSTAMP:20260422T004122
LOCATION:Aula 6 Rio Novo
SUMMARY:STORIA DELLA CULTURA ALBANESE [LM3210] - TURANO Giuseppina\, Lezione
URL;VALUE=URI://www.unive.it/data/insegnamento/594330
DTSTART:20260513T103000
END:VEVENT
BEGIN:VEVENT
DTEND:20260520T120000
UID:69e8193265358
DTSTAMP:20260422T004122
LOCATION:Aula 6 Rio Novo
SUMMARY:STORIA DELLA CULTURA ALBANESE [LM3210] - TURANO Giuseppina\, Lezione
URL;VALUE=URI://www.unive.it/data/insegnamento/594330
DTSTART:20260520T103000
END:VEVENT
BEGIN:VEVENT
DTEND:20260527T120000
UID:69e81932653ac
DTSTAMP:20260422T004122
LOCATION:Aula 6 Rio Novo
SUMMARY:STORIA DELLA CULTURA ALBANESE [LM3210] - TURANO Giuseppina\, Lezione
URL;VALUE=URI://www.unive.it/data/insegnamento/594330
DTSTART:20260527T103000
END:VEVENT
BEGIN:VEVENT
DTEND:20260603T120000
UID:69e81932653fe
DTSTAMP:20260422T004122
LOCATION:Aula 6 Rio Novo
SUMMARY:STORIA DELLA CULTURA ALBANESE [LM3210] - TURANO Giuseppina\, Lezione
URL;VALUE=URI://www.unive.it/data/insegnamento/594330
DTSTART:20260603T103000
END:VEVENT
END:VCALENDAR