BEGIN:VCALENDAR
VERSION:2.0
PRODID:-//hacksw/handcal//NONSGML v1.0//EN
CALSCALE:GREGORIAN
X-WR-CALNAME:POLITICA INTERNAZIONALE [LM6380]
DESCRIPTION:POLITICA INTERNAZIONALE [LM6380]
REFRESH-INTERVAL;VALUE=DURATION:P1D
X-WR-TIMEZONE:Europe/Rome
BEGIN:VEVENT
DTEND:20250922T120000
UID:69e55d5ac6028
DTSTAMP:20260419T225522
LOCATION:Aula Azzurra Ca' Bernardo
SUMMARY:POLITICA INTERNAZIONALE [LM6380] - PROCACCI STEFANO\, Lezione
URL;VALUE=URI://www.unive.it/data/insegnamento/594531
DTSTART:20250922T103000
END:VEVENT
BEGIN:VEVENT
DTEND:20250929T120000
UID:69e55d5ac60c8
DTSTAMP:20260419T225522
LOCATION:Aula Azzurra Ca' Bernardo
SUMMARY:POLITICA INTERNAZIONALE [LM6380] - PROCACCI STEFANO\, Lezione
URL;VALUE=URI://www.unive.it/data/insegnamento/594531
DTSTART:20250929T103000
END:VEVENT
BEGIN:VEVENT
DTEND:20251006T120000
UID:69e55d5ac611c
DTSTAMP:20260419T225522
LOCATION:Aula Azzurra Ca' Bernardo
SUMMARY:POLITICA INTERNAZIONALE [LM6380] - PROCACCI STEFANO\, Lezione
URL;VALUE=URI://www.unive.it/data/insegnamento/594531
DTSTART:20251006T103000
END:VEVENT
BEGIN:VEVENT
DTEND:20251013T120000
UID:69e55d5ac616d
DTSTAMP:20260419T225522
LOCATION:Aula Azzurra Ca' Bernardo
SUMMARY:POLITICA INTERNAZIONALE [LM6380] - PROCACCI STEFANO\, Lezione
URL;VALUE=URI://www.unive.it/data/insegnamento/594531
DTSTART:20251013T103000
END:VEVENT
BEGIN:VEVENT
DTEND:20251020T120000
UID:69e55d5ac61ba
DTSTAMP:20260419T225522
LOCATION:Aula Azzurra Ca' Bernardo
SUMMARY:POLITICA INTERNAZIONALE [LM6380] - PROCACCI STEFANO\, Lezione
URL;VALUE=URI://www.unive.it/data/insegnamento/594531
DTSTART:20251020T103000
END:VEVENT
BEGIN:VEVENT
DTEND:20251027T120000
UID:69e55d5ac6204
DTSTAMP:20260419T225522
LOCATION:Aula Azzurra Ca' Bernardo
SUMMARY:POLITICA INTERNAZIONALE [LM6380] - PROCACCI STEFANO\, Lezione
URL;VALUE=URI://www.unive.it/data/insegnamento/594531
DTSTART:20251027T103000
END:VEVENT
BEGIN:VEVENT
DTEND:20251103T120000
UID:69e55d5ac6228
DTSTAMP:20260419T225522
LOCATION:Aula Azzurra Ca' Bernardo
SUMMARY:POLITICA INTERNAZIONALE [LM6380] - PROCACCI STEFANO\, Lezione
URL;VALUE=URI://www.unive.it/data/insegnamento/594531
DTSTART:20251103T103000
END:VEVENT
BEGIN:VEVENT
DTEND:20251110T120000
UID:69e55d5ac6273
DTSTAMP:20260419T225522
LOCATION:Aula Azzurra Ca' Bernardo
SUMMARY:POLITICA INTERNAZIONALE [LM6380] - PROCACCI STEFANO\, Lezione
URL;VALUE=URI://www.unive.it/data/insegnamento/594531
DTSTART:20251110T103000
END:VEVENT
BEGIN:VEVENT
DTEND:20251117T120000
UID:69e55d5ac62bc
DTSTAMP:20260419T225522
LOCATION:Aula Azzurra Ca' Bernardo
SUMMARY:POLITICA INTERNAZIONALE [LM6380] - PROCACCI STEFANO\, Lezione
URL;VALUE=URI://www.unive.it/data/insegnamento/594531
DTSTART:20251117T103000
END:VEVENT
BEGIN:VEVENT
DTEND:20251124T120000
UID:69e55d5ac6307
DTSTAMP:20260419T225522
LOCATION:Aula Azzurra Ca' Bernardo
SUMMARY:POLITICA INTERNAZIONALE [LM6380] - PROCACCI STEFANO\, Lezione
URL;VALUE=URI://www.unive.it/data/insegnamento/594531
DTSTART:20251124T103000
END:VEVENT
BEGIN:VEVENT
DTEND:20251201T120000
UID:69e55d5ac6351
DTSTAMP:20260419T225522
LOCATION:Aula Azzurra Ca' Bernardo
SUMMARY:POLITICA INTERNAZIONALE [LM6380] - PROCACCI STEFANO\, Lezione
URL;VALUE=URI://www.unive.it/data/insegnamento/594531
DTSTART:20251201T103000
END:VEVENT
BEGIN:VEVENT
DTEND:20251213T120000
UID:69e55d5ac639b
DTSTAMP:20260419T225522
LOCATION:Aula Padoan San Sebastiano
SUMMARY:POLITICA INTERNAZIONALE [LM6380] - PROCACCI STEFANO\, Lezione
URL;VALUE=URI://www.unive.it/data/insegnamento/594531
DTSTART:20251213T103000
END:VEVENT
BEGIN:VEVENT
DTEND:20251215T120000
UID:69e55d5ac63e7
DTSTAMP:20260419T225522
LOCATION:Aula Azzurra Ca' Bernardo
SUMMARY:POLITICA INTERNAZIONALE [LM6380] - PROCACCI STEFANO\, Lezione
URL;VALUE=URI://www.unive.it/data/insegnamento/594531
DTSTART:20251215T103000
END:VEVENT
BEGIN:VEVENT
DTEND:20260112T120000
UID:69e55d5ac6431
DTSTAMP:20260419T225522
LOCATION:Aula Azzurra Ca' Bernardo
SUMMARY:POLITICA INTERNAZIONALE [LM6380] - PROCACCI STEFANO\, Lezione
URL;VALUE=URI://www.unive.it/data/insegnamento/594531
DTSTART:20260112T103000
END:VEVENT
BEGIN:VEVENT
DTEND:20260119T120000
UID:69e55d5ac647c
DTSTAMP:20260419T225522
LOCATION:Aula Azzurra Ca' Bernardo
SUMMARY:POLITICA INTERNAZIONALE [LM6380] - PROCACCI STEFANO\, Lezione
URL;VALUE=URI://www.unive.it/data/insegnamento/594531
DTSTART:20260119T103000
END:VEVENT
END:VCALENDAR