BEGIN:VCALENDAR
VERSION:2.0
PRODID:-//hacksw/handcal//NONSGML v1.0//EN
CALSCALE:GREGORIAN
X-WR-CALNAME:CONCETTI E METODI DELLA POLITICA [LM6340]
DESCRIPTION:CONCETTI E METODI DELLA POLITICA [LM6340]
REFRESH-INTERVAL;VALUE=DURATION:P1D
X-WR-TIMEZONE:Europe/Rome
BEGIN:VEVENT
DTEND:20250929T134500
UID:69e577a597d66
DTSTAMP:20260420T004733
LOCATION:Sala audio 1 Palazzo Cosulich
SUMMARY:CONCETTI E METODI DELLA POLITICA [LM6340] - CESARALE Giorgio\, Lezione
URL;VALUE=URI://www.unive.it/data/insegnamento/594535
DTSTART:20250929T121500
END:VEVENT
BEGIN:VEVENT
DTEND:20251006T134500
UID:69e577a597de3
DTSTAMP:20260420T004733
LOCATION:Sala audio 1 Palazzo Cosulich
SUMMARY:CONCETTI E METODI DELLA POLITICA [LM6340] - CESARALE Giorgio\, Lezione
URL;VALUE=URI://www.unive.it/data/insegnamento/594535
DTSTART:20251006T121500
END:VEVENT
BEGIN:VEVENT
DTEND:20251013T134500
UID:69e577a597e34
DTSTAMP:20260420T004733
LOCATION:Sala audio 1 Palazzo Cosulich
SUMMARY:CONCETTI E METODI DELLA POLITICA [LM6340] - CESARALE Giorgio\, Lezione
URL;VALUE=URI://www.unive.it/data/insegnamento/594535
DTSTART:20251013T121500
END:VEVENT
BEGIN:VEVENT
DTEND:20251020T134500
UID:69e577a597e80
DTSTAMP:20260420T004733
LOCATION:Sala audio 1 Palazzo Cosulich
SUMMARY:CONCETTI E METODI DELLA POLITICA [LM6340] - CESARALE Giorgio\, Lezione
URL;VALUE=URI://www.unive.it/data/insegnamento/594535
DTSTART:20251020T121500
END:VEVENT
BEGIN:VEVENT
DTEND:20251027T134500
UID:69e577a597ecb
DTSTAMP:20260420T004733
LOCATION:Sala audio 1 Palazzo Cosulich
SUMMARY:CONCETTI E METODI DELLA POLITICA [LM6340] - CESARALE Giorgio\, Lezione
URL;VALUE=URI://www.unive.it/data/insegnamento/594535
DTSTART:20251027T121500
END:VEVENT
BEGIN:VEVENT
DTEND:20251103T134500
UID:69e577a597f16
DTSTAMP:20260420T004733
LOCATION:Sala audio 1 Palazzo Cosulich
SUMMARY:CONCETTI E METODI DELLA POLITICA [LM6340] - CESARALE Giorgio\, Lezione
URL;VALUE=URI://www.unive.it/data/insegnamento/594535
DTSTART:20251103T121500
END:VEVENT
BEGIN:VEVENT
DTEND:20251110T134500
UID:69e577a597f60
DTSTAMP:20260420T004733
LOCATION:Sala audio 1 Palazzo Cosulich
SUMMARY:CONCETTI E METODI DELLA POLITICA [LM6340] - CESARALE Giorgio\, Lezione
URL;VALUE=URI://www.unive.it/data/insegnamento/594535
DTSTART:20251110T121500
END:VEVENT
BEGIN:VEVENT
DTEND:20251117T134500
UID:69e577a597fab
DTSTAMP:20260420T004733
LOCATION:Sala audio 1 Palazzo Cosulich
SUMMARY:CONCETTI E METODI DELLA POLITICA [LM6340] - CESARALE Giorgio\, Lezione
URL;VALUE=URI://www.unive.it/data/insegnamento/594535
DTSTART:20251117T121500
END:VEVENT
BEGIN:VEVENT
DTEND:20251124T134500
UID:69e577a597fe9
DTSTAMP:20260420T004733
LOCATION:Sala audio 1 Palazzo Cosulich
SUMMARY:CONCETTI E METODI DELLA POLITICA [LM6340] - CESARALE Giorgio\, Lezione
URL;VALUE=URI://www.unive.it/data/insegnamento/594535
DTSTART:20251124T121500
END:VEVENT
BEGIN:VEVENT
DTEND:20251205T171500
UID:69e577a598035
DTSTAMP:20260420T004733
LOCATION:Sala audio 1 Palazzo Cosulich
SUMMARY:CONCETTI E METODI DELLA POLITICA [LM6340] - CESARALE Giorgio\, Recupero Lezioni
URL;VALUE=URI://www.unive.it/data/insegnamento/594535
DTSTART:20251205T154500
END:VEVENT
BEGIN:VEVENT
DTEND:20251215T134500
UID:69e577a598080
DTSTAMP:20260420T004733
LOCATION:Sala audio 1 Palazzo Cosulich
SUMMARY:CONCETTI E METODI DELLA POLITICA [LM6340] - CESARALE Giorgio\, Lezione
URL;VALUE=URI://www.unive.it/data/insegnamento/594535
DTSTART:20251215T121500
END:VEVENT
BEGIN:VEVENT
DTEND:20251218T120000
UID:69e577a5980d2
DTSTAMP:20260420T004733
LOCATION:Aula 0D Polo didattico San Basilio (Magazzino 5)
SUMMARY:CONCETTI E METODI DELLA POLITICA [LM6340] - CESARALE Giorgio\, Lezione
URL;VALUE=URI://www.unive.it/data/insegnamento/594535
DTSTART:20251218T103000
END:VEVENT
BEGIN:VEVENT
DTEND:20251218T134500
UID:69e577a598123
DTSTAMP:20260420T004733
LOCATION:Aula 0D Polo didattico San Basilio (Magazzino 5)
SUMMARY:CONCETTI E METODI DELLA POLITICA [LM6340] - CESARALE Giorgio\, Lezione
URL;VALUE=URI://www.unive.it/data/insegnamento/594535
DTSTART:20251218T121500
END:VEVENT
BEGIN:VEVENT
DTEND:20251219T120000
UID:69e577a59816e
DTSTAMP:20260420T004733
LOCATION:Aula 1D Polo didattico San Basilio (Magazzino 5)
SUMMARY:CONCETTI E METODI DELLA POLITICA [LM6340] - CESARALE Giorgio\, Lezione
URL;VALUE=URI://www.unive.it/data/insegnamento/594535
DTSTART:20251219T103000
END:VEVENT
BEGIN:VEVENT
DTEND:20260112T134500
UID:69e577a5981b9
DTSTAMP:20260420T004733
LOCATION:Sala audio 1 Palazzo Cosulich
SUMMARY:CONCETTI E METODI DELLA POLITICA [LM6340] - CESARALE Giorgio\, Lezione
URL;VALUE=URI://www.unive.it/data/insegnamento/594535
DTSTART:20260112T121500
END:VEVENT
END:VCALENDAR