BEGIN:VCALENDAR
VERSION:2.0
PRODID:-//hacksw/handcal//NONSGML v1.0//EN
CALSCALE:GREGORIAN
X-WR-CALNAME:FINANCING HIGH GROWTH FIRMS [ET7012]
DESCRIPTION:FINANCING HIGH GROWTH FIRMS [ET7012]
REFRESH-INTERVAL;VALUE=DURATION:P1D
X-WR-TIMEZONE:Europe/Rome
BEGIN:VEVENT
DTEND:20260217T153000
UID:69e95fa40bfbb
DTSTAMP:20260422T235412
LOCATION:Aula B2 H-Campus
SUMMARY:FINANCING HIGH GROWTH FIRMS [ET7012] - GARDENAL Gloria\, Lezione
URL;VALUE=URI://www.unive.it/data/insegnamento/595129
DTSTART:20260217T140000
END:VEVENT
BEGIN:VEVENT
DTEND:20260218T110000
UID:69e95fa40c04e
DTSTAMP:20260422T235412
LOCATION:Aula B2 H-Campus
SUMMARY:FINANCING HIGH GROWTH FIRMS [ET7012] - GARDENAL Gloria\, Lezione
URL;VALUE=URI://www.unive.it/data/insegnamento/595129
DTSTART:20260218T093000
END:VEVENT
BEGIN:VEVENT
DTEND:20260218T130000
UID:69e95fa40c0a1
DTSTAMP:20260422T235412
LOCATION:Aula B2 H-Campus
SUMMARY:FINANCING HIGH GROWTH FIRMS [ET7012] - GARDENAL Gloria\, Lezione
URL;VALUE=URI://www.unive.it/data/insegnamento/595129
DTSTART:20260218T113000
END:VEVENT
BEGIN:VEVENT
DTEND:20260224T153000
UID:69e95fa40c0f0
DTSTAMP:20260422T235412
LOCATION:Aula B2 H-Campus
SUMMARY:FINANCING HIGH GROWTH FIRMS [ET7012] - GARDENAL Gloria\, Lezione
URL;VALUE=URI://www.unive.it/data/insegnamento/595129
DTSTART:20260224T140000
END:VEVENT
BEGIN:VEVENT
DTEND:20260225T110000
UID:69e95fa40c13d
DTSTAMP:20260422T235412
LOCATION:Aula B2 H-Campus
SUMMARY:FINANCING HIGH GROWTH FIRMS [ET7012] - GARDENAL Gloria\, Lezione
URL;VALUE=URI://www.unive.it/data/insegnamento/595129
DTSTART:20260225T093000
END:VEVENT
BEGIN:VEVENT
DTEND:20260225T130000
UID:69e95fa40c19c
DTSTAMP:20260422T235412
LOCATION:Aula B2 H-Campus
SUMMARY:FINANCING HIGH GROWTH FIRMS [ET7012] - GARDENAL Gloria\, Lezione
URL;VALUE=URI://www.unive.it/data/insegnamento/595129
DTSTART:20260225T113000
END:VEVENT
BEGIN:VEVENT
DTEND:20260303T153000
UID:69e95fa40c1e7
DTSTAMP:20260422T235412
LOCATION:Aula B2 H-Campus
SUMMARY:FINANCING HIGH GROWTH FIRMS [ET7012] - GARDENAL Gloria\, Lezione
URL;VALUE=URI://www.unive.it/data/insegnamento/595129
DTSTART:20260303T140000
END:VEVENT
BEGIN:VEVENT
DTEND:20260304T110000
UID:69e95fa40c232
DTSTAMP:20260422T235412
LOCATION:Aula B2 H-Campus
SUMMARY:FINANCING HIGH GROWTH FIRMS [ET7012] - GARDENAL Gloria\, Lezione
URL;VALUE=URI://www.unive.it/data/insegnamento/595129
DTSTART:20260304T093000
END:VEVENT
BEGIN:VEVENT
DTEND:20260304T130000
UID:69e95fa40c27d
DTSTAMP:20260422T235412
LOCATION:Aula B2 H-Campus
SUMMARY:FINANCING HIGH GROWTH FIRMS [ET7012] - GARDENAL Gloria\, Lezione
URL;VALUE=URI://www.unive.it/data/insegnamento/595129
DTSTART:20260304T113000
END:VEVENT
BEGIN:VEVENT
DTEND:20260310T153000
UID:69e95fa40c2c7
DTSTAMP:20260422T235412
LOCATION:Aula B2 H-Campus
SUMMARY:FINANCING HIGH GROWTH FIRMS [ET7012] - GARDENAL Gloria\, Lezione
URL;VALUE=URI://www.unive.it/data/insegnamento/595129
DTSTART:20260310T140000
END:VEVENT
BEGIN:VEVENT
DTEND:20260311T110000
UID:69e95fa40c311
DTSTAMP:20260422T235412
LOCATION:Aula B2 H-Campus
SUMMARY:FINANCING HIGH GROWTH FIRMS [ET7012] - GARDENAL Gloria\, Lezione
URL;VALUE=URI://www.unive.it/data/insegnamento/595129
DTSTART:20260311T093000
END:VEVENT
BEGIN:VEVENT
DTEND:20260311T130000
UID:69e95fa40c35c
DTSTAMP:20260422T235412
LOCATION:Aula B2 H-Campus
SUMMARY:FINANCING HIGH GROWTH FIRMS [ET7012] - GARDENAL Gloria\, Lezione
URL;VALUE=URI://www.unive.it/data/insegnamento/595129
DTSTART:20260311T113000
END:VEVENT
BEGIN:VEVENT
DTEND:20260317T153000
UID:69e95fa40c3a6
DTSTAMP:20260422T235412
LOCATION:Aula B2 H-Campus
SUMMARY:FINANCING HIGH GROWTH FIRMS [ET7012] - GARDENAL Gloria\, Lezione
URL;VALUE=URI://www.unive.it/data/insegnamento/595129
DTSTART:20260317T140000
END:VEVENT
BEGIN:VEVENT
DTEND:20260318T110000
UID:69e95fa40c3f0
DTSTAMP:20260422T235412
LOCATION:Aula B2 H-Campus
SUMMARY:FINANCING HIGH GROWTH FIRMS [ET7012] - GARDENAL Gloria\, Lezione
URL;VALUE=URI://www.unive.it/data/insegnamento/595129
DTSTART:20260318T093000
END:VEVENT
BEGIN:VEVENT
DTEND:20260318T130000
UID:69e95fa40c43a
DTSTAMP:20260422T235412
LOCATION:Aula B2 H-Campus
SUMMARY:FINANCING HIGH GROWTH FIRMS [ET7012] - GARDENAL Gloria\, Lezione
URL;VALUE=URI://www.unive.it/data/insegnamento/595129
DTSTART:20260318T113000
END:VEVENT
BEGIN:VEVENT
DTEND:20260324T153000
UID:69e95fa40c484
DTSTAMP:20260422T235412
LOCATION:Aula B2 H-Campus
SUMMARY:FINANCING HIGH GROWTH FIRMS [ET7012] - GARDENAL Gloria\, Lezione
URL;VALUE=URI://www.unive.it/data/insegnamento/595129
DTSTART:20260324T140000
END:VEVENT
BEGIN:VEVENT
DTEND:20260325T110000
UID:69e95fa40c4ce
DTSTAMP:20260422T235412
LOCATION:Aula B2 H-Campus
SUMMARY:FINANCING HIGH GROWTH FIRMS [ET7012] - GARDENAL Gloria\, Lezione
URL;VALUE=URI://www.unive.it/data/insegnamento/595129
DTSTART:20260325T093000
END:VEVENT
BEGIN:VEVENT
DTEND:20260325T130000
UID:69e95fa40c517
DTSTAMP:20260422T235412
LOCATION:Aula B2 H-Campus
SUMMARY:FINANCING HIGH GROWTH FIRMS [ET7012] - GARDENAL Gloria\, Lezione
URL;VALUE=URI://www.unive.it/data/insegnamento/595129
DTSTART:20260325T113000
END:VEVENT
END:VCALENDAR