BEGIN:VCALENDAR
VERSION:2.0
PRODID:-//hacksw/handcal//NONSGML v1.0//EN
CALSCALE:GREGORIAN
X-WR-CALNAME:DIGITAL PUBLIC MANAGEMENT AND SOCIAL INNOVATION [ET7019]
DESCRIPTION:DIGITAL PUBLIC MANAGEMENT AND SOCIAL INNOVATION [ET7019]
REFRESH-INTERVAL;VALUE=DURATION:P1D
X-WR-TIMEZONE:Europe/Rome
BEGIN:VEVENT
DTEND:20260219T160000
UID:69e61fe3065ee
DTSTAMP:20260420T124523
LOCATION:Aula B2 H-Campus
SUMMARY:DIGITAL PUBLIC MANAGEMENT AND SOCIAL INNOVATION [ET7019] - IACUZZI Silvia\, Lezione
URL;VALUE=URI://www.unive.it/data/insegnamento/595131
DTSTART:20260219T143000
END:VEVENT
BEGIN:VEVENT
DTEND:20260219T174500
UID:69e61fe306677
DTSTAMP:20260420T124523
LOCATION:Aula B2 H-Campus
SUMMARY:DIGITAL PUBLIC MANAGEMENT AND SOCIAL INNOVATION [ET7019] - IACUZZI Silvia\, Lezione
URL;VALUE=URI://www.unive.it/data/insegnamento/595131
DTSTART:20260219T161500
END:VEVENT
BEGIN:VEVENT
DTEND:20260226T160000
UID:69e61fe3066ca
DTSTAMP:20260420T124523
LOCATION:Aula B2 H-Campus
SUMMARY:DIGITAL PUBLIC MANAGEMENT AND SOCIAL INNOVATION [ET7019] - IACUZZI Silvia\, Lezione
URL;VALUE=URI://www.unive.it/data/insegnamento/595131
DTSTART:20260226T143000
END:VEVENT
BEGIN:VEVENT
DTEND:20260226T174500
UID:69e61fe306719
DTSTAMP:20260420T124523
LOCATION:Aula B2 H-Campus
SUMMARY:DIGITAL PUBLIC MANAGEMENT AND SOCIAL INNOVATION [ET7019] - IACUZZI Silvia\, Lezione
URL;VALUE=URI://www.unive.it/data/insegnamento/595131
DTSTART:20260226T161500
END:VEVENT
BEGIN:VEVENT
DTEND:20260305T160000
UID:69e61fe306767
DTSTAMP:20260420T124523
LOCATION:Aula B2 H-Campus
SUMMARY:DIGITAL PUBLIC MANAGEMENT AND SOCIAL INNOVATION [ET7019] - IACUZZI Silvia\, Lezione
URL;VALUE=URI://www.unive.it/data/insegnamento/595131
DTSTART:20260305T143000
END:VEVENT
BEGIN:VEVENT
DTEND:20260305T174500
UID:69e61fe3067b7
DTSTAMP:20260420T124523
LOCATION:Aula B2 H-Campus
SUMMARY:DIGITAL PUBLIC MANAGEMENT AND SOCIAL INNOVATION [ET7019] - IACUZZI Silvia\, Lezione
URL;VALUE=URI://www.unive.it/data/insegnamento/595131
DTSTART:20260305T161500
END:VEVENT
BEGIN:VEVENT
DTEND:20260312T160000
UID:69e61fe306818
DTSTAMP:20260420T124523
LOCATION:Aula B2 H-Campus
SUMMARY:DIGITAL PUBLIC MANAGEMENT AND SOCIAL INNOVATION [ET7019] - IACUZZI Silvia\, Lezione
URL;VALUE=URI://www.unive.it/data/insegnamento/595131
DTSTART:20260312T143000
END:VEVENT
BEGIN:VEVENT
DTEND:20260312T174500
UID:69e61fe306863
DTSTAMP:20260420T124523
LOCATION:Aula B2 H-Campus
SUMMARY:DIGITAL PUBLIC MANAGEMENT AND SOCIAL INNOVATION [ET7019] - IACUZZI Silvia\, Lezione
URL;VALUE=URI://www.unive.it/data/insegnamento/595131
DTSTART:20260312T161500
END:VEVENT
BEGIN:VEVENT
DTEND:20260319T160000
UID:69e61fe3068b5
DTSTAMP:20260420T124523
LOCATION:Aula B2 H-Campus
SUMMARY:DIGITAL PUBLIC MANAGEMENT AND SOCIAL INNOVATION [ET7019] - IACUZZI Silvia\, Lezione
URL;VALUE=URI://www.unive.it/data/insegnamento/595131
DTSTART:20260319T143000
END:VEVENT
BEGIN:VEVENT
DTEND:20260319T174500
UID:69e61fe306900
DTSTAMP:20260420T124523
LOCATION:Aula B2 H-Campus
SUMMARY:DIGITAL PUBLIC MANAGEMENT AND SOCIAL INNOVATION [ET7019] - IACUZZI Silvia\, Lezione
URL;VALUE=URI://www.unive.it/data/insegnamento/595131
DTSTART:20260319T161500
END:VEVENT
BEGIN:VEVENT
DTEND:20260326T160000
UID:69e61fe30694a
DTSTAMP:20260420T124523
LOCATION:Aula B2 H-Campus
SUMMARY:DIGITAL PUBLIC MANAGEMENT AND SOCIAL INNOVATION [ET7019] - IACUZZI Silvia\, Lezione
URL;VALUE=URI://www.unive.it/data/insegnamento/595131
DTSTART:20260326T143000
END:VEVENT
BEGIN:VEVENT
DTEND:20260326T174500
UID:69e61fe306995
DTSTAMP:20260420T124523
LOCATION:Aula B2 H-Campus
SUMMARY:DIGITAL PUBLIC MANAGEMENT AND SOCIAL INNOVATION [ET7019] - IACUZZI Silvia\, Lezione
URL;VALUE=URI://www.unive.it/data/insegnamento/595131
DTSTART:20260326T161500
END:VEVENT
END:VCALENDAR