BEGIN:VCALENDAR
VERSION:2.0
PRODID:-//hacksw/handcal//NONSGML v1.0//EN
CALSCALE:GREGORIAN
X-WR-CALNAME:BUSINESS AND DIGITAL LAW-1 [ET7013]
DESCRIPTION:BUSINESS AND DIGITAL LAW-1 [ET7013]
REFRESH-INTERVAL;VALUE=DURATION:P1D
X-WR-TIMEZONE:Europe/Rome
BEGIN:VEVENT
DTEND:20260216T153000
UID:69e92d779fccc
DTSTAMP:20260422T202007
LOCATION:Aula B2 H-Campus
SUMMARY:BUSINESS AND DIGITAL LAW-1 [ET7013] - FERRETTI ROBERTO\, Lezione
URL;VALUE=URI://www.unive.it/data/insegnamento/595133
DTSTART:20260216T140000
END:VEVENT
BEGIN:VEVENT
DTEND:20260216T173000
UID:69e92d779fd62
DTSTAMP:20260422T202007
LOCATION:Aula B2 H-Campus
SUMMARY:BUSINESS AND DIGITAL LAW-1 [ET7013] - FERRETTI ROBERTO\, Lezione
URL;VALUE=URI://www.unive.it/data/insegnamento/595133
DTSTART:20260216T160000
END:VEVENT
BEGIN:VEVENT
DTEND:20260217T110000
UID:69e92d779fdb4
DTSTAMP:20260422T202007
LOCATION:Aula B2 H-Campus
SUMMARY:BUSINESS AND DIGITAL LAW-1 [ET7013] - FERRETTI ROBERTO\, Lezione
URL;VALUE=URI://www.unive.it/data/insegnamento/595133
DTSTART:20260217T093000
END:VEVENT
BEGIN:VEVENT
DTEND:20260223T153000
UID:69e92d779fe01
DTSTAMP:20260422T202007
LOCATION:Aula B2 H-Campus
SUMMARY:BUSINESS AND DIGITAL LAW-1 [ET7013] - FERRETTI ROBERTO\, Lezione
URL;VALUE=URI://www.unive.it/data/insegnamento/595133
DTSTART:20260223T140000
END:VEVENT
BEGIN:VEVENT
DTEND:20260223T173000
UID:69e92d779fe4c
DTSTAMP:20260422T202007
LOCATION:Aula B2 H-Campus
SUMMARY:BUSINESS AND DIGITAL LAW-1 [ET7013] - FERRETTI ROBERTO\, Lezione
URL;VALUE=URI://www.unive.it/data/insegnamento/595133
DTSTART:20260223T160000
END:VEVENT
BEGIN:VEVENT
DTEND:20260224T110000
UID:69e92d779fe96
DTSTAMP:20260422T202007
LOCATION:Aula B2 H-Campus
SUMMARY:BUSINESS AND DIGITAL LAW-1 [ET7013] - FERRETTI ROBERTO\, Lezione
URL;VALUE=URI://www.unive.it/data/insegnamento/595133
DTSTART:20260224T093000
END:VEVENT
BEGIN:VEVENT
DTEND:20260302T153000
UID:69e92d779fee0
DTSTAMP:20260422T202007
LOCATION:Aula B2 H-Campus
SUMMARY:BUSINESS AND DIGITAL LAW-1 [ET7013] - FERRETTI ROBERTO\, Lezione
URL;VALUE=URI://www.unive.it/data/insegnamento/595133
DTSTART:20260302T140000
END:VEVENT
BEGIN:VEVENT
DTEND:20260302T173000
UID:69e92d779ff2a
DTSTAMP:20260422T202007
LOCATION:Aula B2 H-Campus
SUMMARY:BUSINESS AND DIGITAL LAW-1 [ET7013] - FERRETTI ROBERTO\, Lezione
URL;VALUE=URI://www.unive.it/data/insegnamento/595133
DTSTART:20260302T160000
END:VEVENT
BEGIN:VEVENT
DTEND:20260303T110000
UID:69e92d779ff74
DTSTAMP:20260422T202007
LOCATION:Aula B2 H-Campus
SUMMARY:BUSINESS AND DIGITAL LAW-1 [ET7013] - FERRETTI ROBERTO\, Lezione
URL;VALUE=URI://www.unive.it/data/insegnamento/595133
DTSTART:20260303T093000
END:VEVENT
BEGIN:VEVENT
DTEND:20260309T153000
UID:69e92d779ffbe
DTSTAMP:20260422T202007
LOCATION:Aula B2 H-Campus
SUMMARY:BUSINESS AND DIGITAL LAW-1 [ET7013] - FERRETTI ROBERTO\, Lezione
URL;VALUE=URI://www.unive.it/data/insegnamento/595133
DTSTART:20260309T140000
END:VEVENT
BEGIN:VEVENT
DTEND:20260309T173000
UID:69e92d77a0008
DTSTAMP:20260422T202007
LOCATION:Aula B2 H-Campus
SUMMARY:BUSINESS AND DIGITAL LAW-1 [ET7013] - FERRETTI ROBERTO\, Lezione
URL;VALUE=URI://www.unive.it/data/insegnamento/595133
DTSTART:20260309T160000
END:VEVENT
BEGIN:VEVENT
DTEND:20260310T110000
UID:69e92d77a0051
DTSTAMP:20260422T202007
LOCATION:Aula B2 H-Campus
SUMMARY:BUSINESS AND DIGITAL LAW-1 [ET7013] - FERRETTI ROBERTO\, Lezione
URL;VALUE=URI://www.unive.it/data/insegnamento/595133
DTSTART:20260310T093000
END:VEVENT
BEGIN:VEVENT
DTEND:20260316T153000
UID:69e92d77a009b
DTSTAMP:20260422T202007
LOCATION:Aula B2 H-Campus
SUMMARY:BUSINESS AND DIGITAL LAW-1 [ET7013] - FERRETTI ROBERTO\, Lezione
URL;VALUE=URI://www.unive.it/data/insegnamento/595133
DTSTART:20260316T140000
END:VEVENT
BEGIN:VEVENT
DTEND:20260316T173000
UID:69e92d77a00bf
DTSTAMP:20260422T202007
LOCATION:Aula B2 H-Campus
SUMMARY:BUSINESS AND DIGITAL LAW-1 [ET7013] - FERRETTI ROBERTO\, Lezione
URL;VALUE=URI://www.unive.it/data/insegnamento/595133
DTSTART:20260316T160000
END:VEVENT
BEGIN:VEVENT
DTEND:20260317T110000
UID:69e92d77a0109
DTSTAMP:20260422T202007
LOCATION:Aula B2 H-Campus
SUMMARY:BUSINESS AND DIGITAL LAW-1 [ET7013] - FERRETTI ROBERTO\, Lezione
URL;VALUE=URI://www.unive.it/data/insegnamento/595133
DTSTART:20260317T093000
END:VEVENT
BEGIN:VEVENT
DTEND:20260323T153000
UID:69e92d77a0153
DTSTAMP:20260422T202007
LOCATION:Aula B2 H-Campus
SUMMARY:BUSINESS AND DIGITAL LAW-1 [ET7013] - FERRETTI ROBERTO\, Lezione
URL;VALUE=URI://www.unive.it/data/insegnamento/595133
DTSTART:20260323T140000
END:VEVENT
BEGIN:VEVENT
DTEND:20260323T173000
UID:69e92d77a019d
DTSTAMP:20260422T202007
LOCATION:Aula B2 H-Campus
SUMMARY:BUSINESS AND DIGITAL LAW-1 [ET7013] - FERRETTI ROBERTO\, Lezione
URL;VALUE=URI://www.unive.it/data/insegnamento/595133
DTSTART:20260323T160000
END:VEVENT
BEGIN:VEVENT
DTEND:20260324T110000
UID:69e92d77a01e6
DTSTAMP:20260422T202007
LOCATION:Aula B2 H-Campus
SUMMARY:BUSINESS AND DIGITAL LAW-1 [ET7013] - FERRETTI ROBERTO\, Lezione
URL;VALUE=URI://www.unive.it/data/insegnamento/595133
DTSTART:20260324T093000
END:VEVENT
END:VCALENDAR