BEGIN:VCALENDAR
VERSION:2.0
PRODID:-//hacksw/handcal//NONSGML v1.0//EN
CALSCALE:GREGORIAN
X-WR-CALNAME:BUSINESS AND DIGITAL LAW-2 [ET7013]
DESCRIPTION:BUSINESS AND DIGITAL LAW-2 [ET7013]
REFRESH-INTERVAL;VALUE=DURATION:P1D
X-WR-TIMEZONE:Europe/Rome
BEGIN:VEVENT
DTEND:20260407T153000
UID:69e95fa4b1724
DTSTAMP:20260422T235412
LOCATION:Aula B2 H-Campus
SUMMARY:BUSINESS AND DIGITAL LAW-2 [ET7013] - FERRETTI ROBERTO\, Lezione
URL;VALUE=URI://www.unive.it/data/insegnamento/595134
DTSTART:20260407T140000
END:VEVENT
BEGIN:VEVENT
DTEND:20260407T173000
UID:69e95fa4b17af
DTSTAMP:20260422T235412
LOCATION:Aula B2 H-Campus
SUMMARY:BUSINESS AND DIGITAL LAW-2 [ET7013] - FERRETTI ROBERTO\, Lezione
URL;VALUE=URI://www.unive.it/data/insegnamento/595134
DTSTART:20260407T160000
END:VEVENT
BEGIN:VEVENT
DTEND:20260408T110000
UID:69e95fa4b1800
DTSTAMP:20260422T235412
LOCATION:Aula B2 H-Campus
SUMMARY:BUSINESS AND DIGITAL LAW-2 [ET7013] - FERRETTI ROBERTO\, Lezione
URL;VALUE=URI://www.unive.it/data/insegnamento/595134
DTSTART:20260408T093000
END:VEVENT
BEGIN:VEVENT
DTEND:20260414T153000
UID:69e95fa4b184d
DTSTAMP:20260422T235412
LOCATION:Aula B2 H-Campus
SUMMARY:BUSINESS AND DIGITAL LAW-2 [ET7013] - FERRETTI ROBERTO\, Lezione
URL;VALUE=URI://www.unive.it/data/insegnamento/595134
DTSTART:20260414T140000
END:VEVENT
BEGIN:VEVENT
DTEND:20260414T173000
UID:69e95fa4b1898
DTSTAMP:20260422T235412
LOCATION:Aula B2 H-Campus
SUMMARY:BUSINESS AND DIGITAL LAW-2 [ET7013] - FERRETTI ROBERTO\, Lezione
URL;VALUE=URI://www.unive.it/data/insegnamento/595134
DTSTART:20260414T160000
END:VEVENT
BEGIN:VEVENT
DTEND:20260415T110000
UID:69e95fa4b18e2
DTSTAMP:20260422T235412
LOCATION:Aula B2 H-Campus
SUMMARY:BUSINESS AND DIGITAL LAW-2 [ET7013] - FERRETTI ROBERTO\, Lezione
URL;VALUE=URI://www.unive.it/data/insegnamento/595134
DTSTART:20260415T093000
END:VEVENT
BEGIN:VEVENT
DTEND:20260420T153000
UID:69e95fa4b192d
DTSTAMP:20260422T235412
LOCATION:Aula B2 H-Campus
SUMMARY:BUSINESS AND DIGITAL LAW-2 [ET7013] - FERRETTI ROBERTO\, Lezione
URL;VALUE=URI://www.unive.it/data/insegnamento/595134
DTSTART:20260420T140000
END:VEVENT
BEGIN:VEVENT
DTEND:20260420T173000
UID:69e95fa4b1977
DTSTAMP:20260422T235412
LOCATION:Aula B2 H-Campus
SUMMARY:BUSINESS AND DIGITAL LAW-2 [ET7013] - FERRETTI ROBERTO\, Lezione
URL;VALUE=URI://www.unive.it/data/insegnamento/595134
DTSTART:20260420T160000
END:VEVENT
BEGIN:VEVENT
DTEND:20260421T110000
UID:69e95fa4b19c2
DTSTAMP:20260422T235412
LOCATION:Aula B2 H-Campus
SUMMARY:BUSINESS AND DIGITAL LAW-2 [ET7013] - FERRETTI ROBERTO\, Lezione
URL;VALUE=URI://www.unive.it/data/insegnamento/595134
DTSTART:20260421T093000
END:VEVENT
BEGIN:VEVENT
DTEND:20260422T110000
UID:69e95fa4b1a01
DTSTAMP:20260422T235412
LOCATION:Aula B2 H-Campus
SUMMARY:BUSINESS AND DIGITAL LAW-2 [ET7013] - FERRETTI ROBERTO\, Lezione
URL;VALUE=URI://www.unive.it/data/insegnamento/595134
DTSTART:20260422T093000
END:VEVENT
BEGIN:VEVENT
DTEND:20260427T153000
UID:69e95fa4b1a4b
DTSTAMP:20260422T235412
LOCATION:Aula B2 H-Campus
SUMMARY:BUSINESS AND DIGITAL LAW-2 [ET7013] - FERRETTI ROBERTO\, Lezione
URL;VALUE=URI://www.unive.it/data/insegnamento/595134
DTSTART:20260427T140000
END:VEVENT
BEGIN:VEVENT
DTEND:20260427T173000
UID:69e95fa4b1a94
DTSTAMP:20260422T235412
LOCATION:Aula B2 H-Campus
SUMMARY:BUSINESS AND DIGITAL LAW-2 [ET7013] - FERRETTI ROBERTO\, Lezione
URL;VALUE=URI://www.unive.it/data/insegnamento/595134
DTSTART:20260427T160000
END:VEVENT
BEGIN:VEVENT
DTEND:20260428T110000
UID:69e95fa4b1ade
DTSTAMP:20260422T235412
LOCATION:Aula B2 H-Campus
SUMMARY:BUSINESS AND DIGITAL LAW-2 [ET7013] - FERRETTI ROBERTO\, Lezione
URL;VALUE=URI://www.unive.it/data/insegnamento/595134
DTSTART:20260428T093000
END:VEVENT
BEGIN:VEVENT
DTEND:20260429T110000
UID:69e95fa4b1b27
DTSTAMP:20260422T235412
LOCATION:Aula B2 H-Campus
SUMMARY:BUSINESS AND DIGITAL LAW-2 [ET7013] - FERRETTI ROBERTO\, Lezione
URL;VALUE=URI://www.unive.it/data/insegnamento/595134
DTSTART:20260429T093000
END:VEVENT
BEGIN:VEVENT
DTEND:20260504T153000
UID:69e95fa4b1b71
DTSTAMP:20260422T235412
LOCATION:Aula B2 H-Campus
SUMMARY:BUSINESS AND DIGITAL LAW-2 [ET7013] - FERRETTI ROBERTO\, Lezione
URL;VALUE=URI://www.unive.it/data/insegnamento/595134
DTSTART:20260504T140000
END:VEVENT
BEGIN:VEVENT
DTEND:20260504T173000
UID:69e95fa4b1bba
DTSTAMP:20260422T235412
LOCATION:Aula B2 H-Campus
SUMMARY:BUSINESS AND DIGITAL LAW-2 [ET7013] - FERRETTI ROBERTO\, Lezione
URL;VALUE=URI://www.unive.it/data/insegnamento/595134
DTSTART:20260504T160000
END:VEVENT
BEGIN:VEVENT
DTEND:20260505T110000
UID:69e95fa4b1c0a
DTSTAMP:20260422T235412
LOCATION:Aula B2 H-Campus
SUMMARY:BUSINESS AND DIGITAL LAW-2 [ET7013] - FERRETTI ROBERTO\, Lezione
URL;VALUE=URI://www.unive.it/data/insegnamento/595134
DTSTART:20260505T093000
END:VEVENT
BEGIN:VEVENT
DTEND:20260506T110000
UID:69e95fa4b1c53
DTSTAMP:20260422T235412
LOCATION:Aula B2 H-Campus
SUMMARY:BUSINESS AND DIGITAL LAW-2 [ET7013] - FERRETTI ROBERTO\, Lezione
URL;VALUE=URI://www.unive.it/data/insegnamento/595134
DTSTART:20260506T093000
END:VEVENT
BEGIN:VEVENT
DTEND:20260511T153000
UID:69e95fa4b1c9d
DTSTAMP:20260422T235412
LOCATION:Aula B2 H-Campus
SUMMARY:BUSINESS AND DIGITAL LAW-2 [ET7013] - FERRETTI ROBERTO\, Lezione
URL;VALUE=URI://www.unive.it/data/insegnamento/595134
DTSTART:20260511T140000
END:VEVENT
BEGIN:VEVENT
DTEND:20260511T173000
UID:69e95fa4b1ce6
DTSTAMP:20260422T235412
LOCATION:Aula B2 H-Campus
SUMMARY:BUSINESS AND DIGITAL LAW-2 [ET7013] - FERRETTI ROBERTO\, Lezione
URL;VALUE=URI://www.unive.it/data/insegnamento/595134
DTSTART:20260511T160000
END:VEVENT
BEGIN:VEVENT
DTEND:20260512T110000
UID:69e95fa4b1d30
DTSTAMP:20260422T235412
LOCATION:Aula B2 H-Campus
SUMMARY:BUSINESS AND DIGITAL LAW-2 [ET7013] - FERRETTI ROBERTO\, Lezione
URL;VALUE=URI://www.unive.it/data/insegnamento/595134
DTSTART:20260512T093000
END:VEVENT
END:VCALENDAR