BEGIN:VCALENDAR
VERSION:2.0
PRODID:-//hacksw/handcal//NONSGML v1.0//EN
CALSCALE:GREGORIAN
X-WR-CALNAME:LAB OF HUMAN CENTERED DESIGN [ET7021]
DESCRIPTION:LAB OF HUMAN CENTERED DESIGN [ET7021]
REFRESH-INTERVAL;VALUE=DURATION:P1D
X-WR-TIMEZONE:Europe/Rome
BEGIN:VEVENT
DTEND:20260409T110000
UID:69e95fa3bf9dd
DTSTAMP:20260422T235411
LOCATION:Aula B2 H-Campus
SUMMARY:LAB OF HUMAN CENTERED DESIGN [ET7021] - MELONIO Alessandra\, Lezione
URL;VALUE=URI://www.unive.it/data/insegnamento/595135
DTSTART:20260409T093000
END:VEVENT
BEGIN:VEVENT
DTEND:20260409T130000
UID:69e95fa3bfa86
DTSTAMP:20260422T235411
LOCATION:Aula B2 H-Campus
SUMMARY:LAB OF HUMAN CENTERED DESIGN [ET7021] - MELONIO Alessandra\, Lezione
URL;VALUE=URI://www.unive.it/data/insegnamento/595135
DTSTART:20260409T113000
END:VEVENT
BEGIN:VEVENT
DTEND:20260416T110000
UID:69e95fa3bfae8
DTSTAMP:20260422T235411
LOCATION:Aula B2 H-Campus
SUMMARY:LAB OF HUMAN CENTERED DESIGN [ET7021] - MELONIO Alessandra\, Lezione
URL;VALUE=URI://www.unive.it/data/insegnamento/595135
DTSTART:20260416T093000
END:VEVENT
BEGIN:VEVENT
DTEND:20260416T130000
UID:69e95fa3bfb44
DTSTAMP:20260422T235411
LOCATION:Aula B2 H-Campus
SUMMARY:LAB OF HUMAN CENTERED DESIGN [ET7021] - MELONIO Alessandra\, Lezione
URL;VALUE=URI://www.unive.it/data/insegnamento/595135
DTSTART:20260416T113000
END:VEVENT
BEGIN:VEVENT
DTEND:20260423T110000
UID:69e95fa3bfb9d
DTSTAMP:20260422T235411
LOCATION:Aula B2 H-Campus
SUMMARY:LAB OF HUMAN CENTERED DESIGN [ET7021] - MELONIO Alessandra\, Lezione
URL;VALUE=URI://www.unive.it/data/insegnamento/595135
DTSTART:20260423T093000
END:VEVENT
BEGIN:VEVENT
DTEND:20260423T130000
UID:69e95fa3bfbf6
DTSTAMP:20260422T235411
LOCATION:Aula B2 H-Campus
SUMMARY:LAB OF HUMAN CENTERED DESIGN [ET7021] - MELONIO Alessandra\, Lezione
URL;VALUE=URI://www.unive.it/data/insegnamento/595135
DTSTART:20260423T113000
END:VEVENT
BEGIN:VEVENT
DTEND:20260430T110000
UID:69e95fa3bfc4f
DTSTAMP:20260422T235411
LOCATION:Aula B2 H-Campus
SUMMARY:LAB OF HUMAN CENTERED DESIGN [ET7021] - MELONIO Alessandra\, Lezione
URL;VALUE=URI://www.unive.it/data/insegnamento/595135
DTSTART:20260430T093000
END:VEVENT
BEGIN:VEVENT
DTEND:20260430T130000
UID:69e95fa3bfc93
DTSTAMP:20260422T235411
LOCATION:Aula B2 H-Campus
SUMMARY:LAB OF HUMAN CENTERED DESIGN [ET7021] - MELONIO Alessandra\, Lezione
URL;VALUE=URI://www.unive.it/data/insegnamento/595135
DTSTART:20260430T113000
END:VEVENT
BEGIN:VEVENT
DTEND:20260507T110000
UID:69e95fa3bfcec
DTSTAMP:20260422T235411
LOCATION:Aula B2 H-Campus
SUMMARY:LAB OF HUMAN CENTERED DESIGN [ET7021] - MELONIO Alessandra\, Lezione
URL;VALUE=URI://www.unive.it/data/insegnamento/595135
DTSTART:20260507T093000
END:VEVENT
BEGIN:VEVENT
DTEND:20260507T130000
UID:69e95fa3bfd45
DTSTAMP:20260422T235411
LOCATION:Aula B2 H-Campus
SUMMARY:LAB OF HUMAN CENTERED DESIGN [ET7021] - MELONIO Alessandra\, Lezione
URL;VALUE=URI://www.unive.it/data/insegnamento/595135
DTSTART:20260507T113000
END:VEVENT
BEGIN:VEVENT
DTEND:20260514T110000
UID:69e95fa3bfd9e
DTSTAMP:20260422T235411
LOCATION:Aula B2 H-Campus
SUMMARY:LAB OF HUMAN CENTERED DESIGN [ET7021] - MELONIO Alessandra\, Lezione
URL;VALUE=URI://www.unive.it/data/insegnamento/595135
DTSTART:20260514T093000
END:VEVENT
BEGIN:VEVENT
DTEND:20260514T130000
UID:69e95fa3bfdf8
DTSTAMP:20260422T235411
LOCATION:Aula B2 H-Campus
SUMMARY:LAB OF HUMAN CENTERED DESIGN [ET7021] - MELONIO Alessandra\, Lezione
URL;VALUE=URI://www.unive.it/data/insegnamento/595135
DTSTART:20260514T113000
END:VEVENT
END:VCALENDAR