BEGIN:VCALENDAR
VERSION:2.0
PRODID:-//hacksw/handcal//NONSGML v1.0//EN
CALSCALE:GREGORIAN
X-WR-CALNAME:FISICA GENERALE 2 [CT0349]
DESCRIPTION:FISICA GENERALE 2 [CT0349]
REFRESH-INTERVAL;VALUE=DURATION:P1D
X-WR-TIMEZONE:Europe/Rome
BEGIN:VEVENT
DTEND:20260303T101500
UID:69e9121480840
DTSTAMP:20260422T182316
LOCATION:Aula Delta 1B Campus scientifico via Torino (edificio Delta)
SUMMARY:FISICA GENERALE 2 [CT0349] - TRAVE Enrico\, Lezione
URL;VALUE=URI://www.unive.it/data/insegnamento/598973
DTSTART:20260303T084500
END:VEVENT
BEGIN:VEVENT
DTEND:20260304T101500
UID:69e91214808e3
DTSTAMP:20260422T182316
LOCATION:Aula Delta 1B Campus scientifico via Torino (edificio Delta)
SUMMARY:FISICA GENERALE 2 [CT0349] - TRAVE Enrico\, Lezione
URL;VALUE=URI://www.unive.it/data/insegnamento/598973
DTSTART:20260304T084500
END:VEVENT
BEGIN:VEVENT
DTEND:20260310T101500
UID:69e9121480938
DTSTAMP:20260422T182316
LOCATION:Aula Delta 1B Campus scientifico via Torino (edificio Delta)
SUMMARY:FISICA GENERALE 2 [CT0349] - TRAVE Enrico\, Lezione
URL;VALUE=URI://www.unive.it/data/insegnamento/598973
DTSTART:20260310T084500
END:VEVENT
BEGIN:VEVENT
DTEND:20260311T101500
UID:69e9121480987
DTSTAMP:20260422T182316
LOCATION:Aula Delta 1B Campus scientifico via Torino (edificio Delta)
SUMMARY:FISICA GENERALE 2 [CT0349] - TRAVE Enrico\, Lezione
URL;VALUE=URI://www.unive.it/data/insegnamento/598973
DTSTART:20260311T084500
END:VEVENT
BEGIN:VEVENT
DTEND:20260313T101500
UID:69e91214809d4
DTSTAMP:20260422T182316
LOCATION:Aula Delta 1B Campus scientifico via Torino (edificio Delta)
SUMMARY:FISICA GENERALE 2 [CT0349] - TRAVE Enrico\, Lezione
URL;VALUE=URI://www.unive.it/data/insegnamento/598973
DTSTART:20260313T084500
END:VEVENT
BEGIN:VEVENT
DTEND:20260317T120000
UID:69e9121480a1f
DTSTAMP:20260422T182316
LOCATION:Aula Delta 1B Campus scientifico via Torino (edificio Delta)
SUMMARY:FISICA GENERALE 2 [CT0349] - TRAVE Enrico\, Lezione
URL;VALUE=URI://www.unive.it/data/insegnamento/598973
DTSTART:20260317T103000
END:VEVENT
BEGIN:VEVENT
DTEND:20260318T101500
UID:69e9121480a69
DTSTAMP:20260422T182316
LOCATION:Aula Delta 1B Campus scientifico via Torino (edificio Delta)
SUMMARY:FISICA GENERALE 2 [CT0349] - TRAVE Enrico\, Lezione
URL;VALUE=URI://www.unive.it/data/insegnamento/598973
DTSTART:20260318T084500
END:VEVENT
BEGIN:VEVENT
DTEND:20260320T101500
UID:69e9121480ab5
DTSTAMP:20260422T182316
LOCATION:Aula Delta 1B Campus scientifico via Torino (edificio Delta)
SUMMARY:FISICA GENERALE 2 [CT0349] - TRAVE Enrico\, Lezione
URL;VALUE=URI://www.unive.it/data/insegnamento/598973
DTSTART:20260320T084500
END:VEVENT
BEGIN:VEVENT
DTEND:20260324T101500
UID:69e9121480b00
DTSTAMP:20260422T182316
LOCATION:Aula Delta 1B Campus scientifico via Torino (edificio Delta)
SUMMARY:FISICA GENERALE 2 [CT0349] - TRAVE Enrico\, Lezione
URL;VALUE=URI://www.unive.it/data/insegnamento/598973
DTSTART:20260324T084500
END:VEVENT
BEGIN:VEVENT
DTEND:20260325T101500
UID:69e9121480b4a
DTSTAMP:20260422T182316
LOCATION:Aula Delta 1B Campus scientifico via Torino (edificio Delta)
SUMMARY:FISICA GENERALE 2 [CT0349] - TRAVE Enrico\, Lezione
URL;VALUE=URI://www.unive.it/data/insegnamento/598973
DTSTART:20260325T084500
END:VEVENT
BEGIN:VEVENT
DTEND:20260327T101500
UID:69e9121480b94
DTSTAMP:20260422T182316
LOCATION:Aula Delta 1B Campus scientifico via Torino (edificio Delta)
SUMMARY:FISICA GENERALE 2 [CT0349] - TRAVE Enrico\, Lezione
URL;VALUE=URI://www.unive.it/data/insegnamento/598973
DTSTART:20260327T084500
END:VEVENT
BEGIN:VEVENT
DTEND:20260331T101500
UID:69e9121480bdf
DTSTAMP:20260422T182316
LOCATION:Aula Delta 1B Campus scientifico via Torino (edificio Delta)
SUMMARY:FISICA GENERALE 2 [CT0349] - TRAVE Enrico\, Lezione
URL;VALUE=URI://www.unive.it/data/insegnamento/598973
DTSTART:20260331T084500
END:VEVENT
BEGIN:VEVENT
DTEND:20260401T101500
UID:69e9121480c29
DTSTAMP:20260422T182316
LOCATION:Aula Delta 1B Campus scientifico via Torino (edificio Delta)
SUMMARY:FISICA GENERALE 2 [CT0349] - TRAVE Enrico\, Lezione
URL;VALUE=URI://www.unive.it/data/insegnamento/598973
DTSTART:20260401T084500
END:VEVENT
BEGIN:VEVENT
DTEND:20260403T101500
UID:69e9121480c74
DTSTAMP:20260422T182316
LOCATION:Aula Delta 1B Campus scientifico via Torino (edificio Delta)
SUMMARY:FISICA GENERALE 2 [CT0349] - TRAVE Enrico\, Lezione
URL;VALUE=URI://www.unive.it/data/insegnamento/598973
DTSTART:20260403T084500
END:VEVENT
BEGIN:VEVENT
DTEND:20260407T101500
UID:69e9121480cbf
DTSTAMP:20260422T182316
LOCATION:Aula Delta 1B Campus scientifico via Torino (edificio Delta)
SUMMARY:FISICA GENERALE 2 [CT0349] - TRAVE Enrico\, Lezione
URL;VALUE=URI://www.unive.it/data/insegnamento/598973
DTSTART:20260407T084500
END:VEVENT
BEGIN:VEVENT
DTEND:20260408T101500
UID:69e9121480d0a
DTSTAMP:20260422T182316
LOCATION:Aula Delta 1B Campus scientifico via Torino (edificio Delta)
SUMMARY:FISICA GENERALE 2 [CT0349] - TRAVE Enrico\, Lezione
URL;VALUE=URI://www.unive.it/data/insegnamento/598973
DTSTART:20260408T084500
END:VEVENT
BEGIN:VEVENT
DTEND:20260410T101500
UID:69e9121480d55
DTSTAMP:20260422T182316
LOCATION:Aula Delta 1B Campus scientifico via Torino (edificio Delta)
SUMMARY:FISICA GENERALE 2 [CT0349] - TRAVE Enrico\, Lezione
URL;VALUE=URI://www.unive.it/data/insegnamento/598973
DTSTART:20260410T084500
END:VEVENT
BEGIN:VEVENT
DTEND:20260414T120000
UID:69e9121480da0
DTSTAMP:20260422T182316
LOCATION:Aula Delta 1B Campus scientifico via Torino (edificio Delta)
SUMMARY:FISICA GENERALE 2 [CT0349] - TRAVE Enrico\, Lezione
URL;VALUE=URI://www.unive.it/data/insegnamento/598973
DTSTART:20260414T103000
END:VEVENT
BEGIN:VEVENT
DTEND:20260415T101500
UID:69e9121480deb
DTSTAMP:20260422T182316
LOCATION:Aula Delta 1B Campus scientifico via Torino (edificio Delta)
SUMMARY:FISICA GENERALE 2 [CT0349] - TRAVE Enrico\, Lezione
URL;VALUE=URI://www.unive.it/data/insegnamento/598973
DTSTART:20260415T084500
END:VEVENT
BEGIN:VEVENT
DTEND:20260417T101500
UID:69e9121480e35
DTSTAMP:20260422T182316
LOCATION:Aula Delta 1B Campus scientifico via Torino (edificio Delta)
SUMMARY:FISICA GENERALE 2 [CT0349] - TRAVE Enrico\, Lezione
URL;VALUE=URI://www.unive.it/data/insegnamento/598973
DTSTART:20260417T084500
END:VEVENT
BEGIN:VEVENT
DTEND:20260421T101500
UID:69e9121480e80
DTSTAMP:20260422T182316
LOCATION:Aula Delta 1B Campus scientifico via Torino (edificio Delta)
SUMMARY:FISICA GENERALE 2 [CT0349] - TRAVE Enrico\, Lezione
URL;VALUE=URI://www.unive.it/data/insegnamento/598973
DTSTART:20260421T084500
END:VEVENT
BEGIN:VEVENT
DTEND:20260422T101500
UID:69e9121480ecc
DTSTAMP:20260422T182316
LOCATION:Aula Delta 1B Campus scientifico via Torino (edificio Delta)
SUMMARY:FISICA GENERALE 2 [CT0349] - TRAVE Enrico\, Lezione
URL;VALUE=URI://www.unive.it/data/insegnamento/598973
DTSTART:20260422T084500
END:VEVENT
BEGIN:VEVENT
DTEND:20260424T101500
UID:69e9121480f16
DTSTAMP:20260422T182316
LOCATION:Aula Delta 1B Campus scientifico via Torino (edificio Delta)
SUMMARY:FISICA GENERALE 2 [CT0349] - TRAVE Enrico\, Lezione
URL;VALUE=URI://www.unive.it/data/insegnamento/598973
DTSTART:20260424T084500
END:VEVENT
BEGIN:VEVENT
DTEND:20260428T101500
UID:69e9121480f61
DTSTAMP:20260422T182316
LOCATION:Aula Delta 1B Campus scientifico via Torino (edificio Delta)
SUMMARY:FISICA GENERALE 2 [CT0349] - TRAVE Enrico\, Lezione
URL;VALUE=URI://www.unive.it/data/insegnamento/598973
DTSTART:20260428T084500
END:VEVENT
BEGIN:VEVENT
DTEND:20260429T101500
UID:69e9121480fab
DTSTAMP:20260422T182316
LOCATION:Aula Delta 1B Campus scientifico via Torino (edificio Delta)
SUMMARY:FISICA GENERALE 2 [CT0349] - TRAVE Enrico\, Lezione
URL;VALUE=URI://www.unive.it/data/insegnamento/598973
DTSTART:20260429T084500
END:VEVENT
BEGIN:VEVENT
DTEND:20260505T101500
UID:69e9121480ff5
DTSTAMP:20260422T182316
LOCATION:Aula Delta 1B Campus scientifico via Torino (edificio Delta)
SUMMARY:FISICA GENERALE 2 [CT0349] - TRAVE Enrico\, Lezione
URL;VALUE=URI://www.unive.it/data/insegnamento/598973
DTSTART:20260505T084500
END:VEVENT
BEGIN:VEVENT
DTEND:20260506T101500
UID:69e9121481040
DTSTAMP:20260422T182316
LOCATION:Aula Delta 1B Campus scientifico via Torino (edificio Delta)
SUMMARY:FISICA GENERALE 2 [CT0349] - TRAVE Enrico\, Lezione
URL;VALUE=URI://www.unive.it/data/insegnamento/598973
DTSTART:20260506T084500
END:VEVENT
BEGIN:VEVENT
DTEND:20260508T101500
UID:69e912148108a
DTSTAMP:20260422T182316
LOCATION:Aula Delta 1B Campus scientifico via Torino (edificio Delta)
SUMMARY:FISICA GENERALE 2 [CT0349] - TRAVE Enrico\, Lezione
URL;VALUE=URI://www.unive.it/data/insegnamento/598973
DTSTART:20260508T084500
END:VEVENT
BEGIN:VEVENT
DTEND:20260512T101500
UID:69e91214810a7
DTSTAMP:20260422T182316
LOCATION:Aula Delta 1B Campus scientifico via Torino (edificio Delta)
SUMMARY:FISICA GENERALE 2 [CT0349] - TRAVE Enrico\, Lezione
URL;VALUE=URI://www.unive.it/data/insegnamento/598973
DTSTART:20260512T084500
END:VEVENT
END:VCALENDAR