BEGIN:VCALENDAR
VERSION:2.0
PRODID:-//hacksw/handcal//NONSGML v1.0//EN
CALSCALE:GREGORIAN
X-WR-CALNAME:SPETTROSCOPIA MOLECOLARE [CM0371]
DESCRIPTION:SPETTROSCOPIA MOLECOLARE [CM0371]
REFRESH-INTERVAL;VALUE=DURATION:P1D
X-WR-TIMEZONE:Europe/Rome
BEGIN:VEVENT
DTEND:20251002T134500
UID:69e91218ee7cb
DTSTAMP:20260422T182320
LOCATION:Aula Delta 0A Campus scientifico via Torino (edificio Delta)
SUMMARY:SPETTROSCOPIA MOLECOLARE [CM0371] - PIETROPOLLI CHARMET Andrea\, Lezione
URL;VALUE=URI://www.unive.it/data/insegnamento/599063
DTSTART:20251002T121500
END:VEVENT
BEGIN:VEVENT
DTEND:20251003T153000
UID:69e91218ee863
DTSTAMP:20260422T182320
LOCATION:Aula B Campus scientifico via Torino (edificio Zeta)
SUMMARY:SPETTROSCOPIA MOLECOLARE [CM0371] - PIETROPOLLI CHARMET Andrea\, Lezione
URL;VALUE=URI://www.unive.it/data/insegnamento/599063
DTSTART:20251003T140000
END:VEVENT
BEGIN:VEVENT
DTEND:20251009T134500
UID:69e91218ee8c3
DTSTAMP:20260422T182320
LOCATION:Aula Delta 0A Campus scientifico via Torino (edificio Delta)
SUMMARY:SPETTROSCOPIA MOLECOLARE [CM0371] - PIETROPOLLI CHARMET Andrea\, Lezione
URL;VALUE=URI://www.unive.it/data/insegnamento/599063
DTSTART:20251009T121500
END:VEVENT
BEGIN:VEVENT
DTEND:20251010T153000
UID:69e91218ee914
DTSTAMP:20260422T182320
LOCATION:Aula B Campus scientifico via Torino (edificio Zeta)
SUMMARY:SPETTROSCOPIA MOLECOLARE [CM0371] - PIETROPOLLI CHARMET Andrea\, Lezione
URL;VALUE=URI://www.unive.it/data/insegnamento/599063
DTSTART:20251010T140000
END:VEVENT
BEGIN:VEVENT
DTEND:20251016T134500
UID:69e91218ee961
DTSTAMP:20260422T182320
LOCATION:Aula Delta 0A Campus scientifico via Torino (edificio Delta)
SUMMARY:SPETTROSCOPIA MOLECOLARE [CM0371] - PIETROPOLLI CHARMET Andrea\, Lezione
URL;VALUE=URI://www.unive.it/data/insegnamento/599063
DTSTART:20251016T121500
END:VEVENT
BEGIN:VEVENT
DTEND:20251017T153000
UID:69e91218ee9ad
DTSTAMP:20260422T182320
LOCATION:Aula B Campus scientifico via Torino (edificio Zeta)
SUMMARY:SPETTROSCOPIA MOLECOLARE [CM0371] - PIETROPOLLI CHARMET Andrea\, Lezione
URL;VALUE=URI://www.unive.it/data/insegnamento/599063
DTSTART:20251017T140000
END:VEVENT
BEGIN:VEVENT
DTEND:20251023T134500
UID:69e91218ee9f8
DTSTAMP:20260422T182320
LOCATION:Aula Delta 0A Campus scientifico via Torino (edificio Delta)
SUMMARY:SPETTROSCOPIA MOLECOLARE [CM0371] - PIETROPOLLI CHARMET Andrea\, Lezione
URL;VALUE=URI://www.unive.it/data/insegnamento/599063
DTSTART:20251023T121500
END:VEVENT
BEGIN:VEVENT
DTEND:20251024T153000
UID:69e91218eea44
DTSTAMP:20260422T182320
LOCATION:Aula B Campus scientifico via Torino (edificio Zeta)
SUMMARY:SPETTROSCOPIA MOLECOLARE [CM0371] - PIETROPOLLI CHARMET Andrea\, Lezione
URL;VALUE=URI://www.unive.it/data/insegnamento/599063
DTSTART:20251024T140000
END:VEVENT
BEGIN:VEVENT
DTEND:20251030T134500
UID:69e91218eea91
DTSTAMP:20260422T182320
LOCATION:Aula Delta 0A Campus scientifico via Torino (edificio Delta)
SUMMARY:SPETTROSCOPIA MOLECOLARE [CM0371] - PIETROPOLLI CHARMET Andrea\, Lezione
URL;VALUE=URI://www.unive.it/data/insegnamento/599063
DTSTART:20251030T121500
END:VEVENT
BEGIN:VEVENT
DTEND:20251031T153000
UID:69e91218eeadd
DTSTAMP:20260422T182320
LOCATION:Aula B Campus scientifico via Torino (edificio Zeta)
SUMMARY:SPETTROSCOPIA MOLECOLARE [CM0371] - PIETROPOLLI CHARMET Andrea\, Lezione
URL;VALUE=URI://www.unive.it/data/insegnamento/599063
DTSTART:20251031T140000
END:VEVENT
BEGIN:VEVENT
DTEND:20251106T134500
UID:69e91218eeb29
DTSTAMP:20260422T182320
LOCATION:Aula Delta 0A Campus scientifico via Torino (edificio Delta)
SUMMARY:SPETTROSCOPIA MOLECOLARE [CM0371] - PIETROPOLLI CHARMET Andrea\, Lezione
URL;VALUE=URI://www.unive.it/data/insegnamento/599063
DTSTART:20251106T121500
END:VEVENT
BEGIN:VEVENT
DTEND:20251107T153000
UID:69e91218eeb74
DTSTAMP:20260422T182320
LOCATION:Aula B Campus scientifico via Torino (edificio Zeta)
SUMMARY:SPETTROSCOPIA MOLECOLARE [CM0371] - PIETROPOLLI CHARMET Andrea\, Lezione
URL;VALUE=URI://www.unive.it/data/insegnamento/599063
DTSTART:20251107T140000
END:VEVENT
BEGIN:VEVENT
DTEND:20251113T134500
UID:69e91218eebc0
DTSTAMP:20260422T182320
LOCATION:Aula Delta 0A Campus scientifico via Torino (edificio Delta)
SUMMARY:SPETTROSCOPIA MOLECOLARE [CM0371] - PIETROPOLLI CHARMET Andrea\, Lezione
URL;VALUE=URI://www.unive.it/data/insegnamento/599063
DTSTART:20251113T121500
END:VEVENT
BEGIN:VEVENT
DTEND:20251114T134500
UID:69e91218eec0b
DTSTAMP:20260422T182320
LOCATION:Aula 2 Campus scientifico via Torino (edificio Zeta)
SUMMARY:SPETTROSCOPIA MOLECOLARE [CM0371] - PIETROPOLLI CHARMET Andrea\, Lezione
URL;VALUE=URI://www.unive.it/data/insegnamento/599063
DTSTART:20251114T121500
END:VEVENT
BEGIN:VEVENT
DTEND:20251120T134500
UID:69e91218eec56
DTSTAMP:20260422T182320
LOCATION:Aula Delta 0A Campus scientifico via Torino (edificio Delta)
SUMMARY:SPETTROSCOPIA MOLECOLARE [CM0371] - PIETROPOLLI CHARMET Andrea\, Lezione
URL;VALUE=URI://www.unive.it/data/insegnamento/599063
DTSTART:20251120T121500
END:VEVENT
BEGIN:VEVENT
DTEND:20251120T153000
UID:69e91218eeca9
DTSTAMP:20260422T182320
LOCATION:Aula Epsilon 2 Campus scientifico via Torino (edificio Epsilon)
SUMMARY:SPETTROSCOPIA MOLECOLARE [CM0371] - PIETROPOLLI CHARMET Andrea\, Lezione
URL;VALUE=URI://www.unive.it/data/insegnamento/599063
DTSTART:20251120T140000
END:VEVENT
BEGIN:VEVENT
DTEND:20251128T153000
UID:69e91218eecf5
DTSTAMP:20260422T182320
LOCATION:Aula B Campus scientifico via Torino (edificio Zeta)
SUMMARY:SPETTROSCOPIA MOLECOLARE [CM0371] - PIETROPOLLI CHARMET Andrea\, Lezione
URL;VALUE=URI://www.unive.it/data/insegnamento/599063
DTSTART:20251128T140000
END:VEVENT
BEGIN:VEVENT
DTEND:20251202T153000
UID:69e91218eed40
DTSTAMP:20260422T182320
LOCATION:Aula Delta 2B Campus scientifico via Torino (edificio Delta)
SUMMARY:SPETTROSCOPIA MOLECOLARE [CM0371] - PIETROPOLLI CHARMET Andrea\, Lezione
URL;VALUE=URI://www.unive.it/data/insegnamento/599063
DTSTART:20251202T140000
END:VEVENT
BEGIN:VEVENT
DTEND:20251204T134500
UID:69e91218eed8d
DTSTAMP:20260422T182320
LOCATION:Aula Delta 0A Campus scientifico via Torino (edificio Delta)
SUMMARY:SPETTROSCOPIA MOLECOLARE [CM0371] - PIETROPOLLI CHARMET Andrea\, Lezione
URL;VALUE=URI://www.unive.it/data/insegnamento/599063
DTSTART:20251204T121500
END:VEVENT
BEGIN:VEVENT
DTEND:20251205T153000
UID:69e91218eedd8
DTSTAMP:20260422T182320
LOCATION:Aula B Campus scientifico via Torino (edificio Zeta)
SUMMARY:SPETTROSCOPIA MOLECOLARE [CM0371] - PIETROPOLLI CHARMET Andrea\, Lezione
URL;VALUE=URI://www.unive.it/data/insegnamento/599063
DTSTART:20251205T140000
END:VEVENT
BEGIN:VEVENT
DTEND:20251211T134500
UID:69e91218eee23
DTSTAMP:20260422T182320
LOCATION:Aula Delta 0A Campus scientifico via Torino (edificio Delta)
SUMMARY:SPETTROSCOPIA MOLECOLARE [CM0371] - PIETROPOLLI CHARMET Andrea\, Lezione
URL;VALUE=URI://www.unive.it/data/insegnamento/599063
DTSTART:20251211T121500
END:VEVENT
BEGIN:VEVENT
DTEND:20251212T153000
UID:69e91218eee75
DTSTAMP:20260422T182320
LOCATION:Aula B Campus scientifico via Torino (edificio Zeta)
SUMMARY:SPETTROSCOPIA MOLECOLARE [CM0371] - PIETROPOLLI CHARMET Andrea\, Lezione
URL;VALUE=URI://www.unive.it/data/insegnamento/599063
DTSTART:20251212T140000
END:VEVENT
BEGIN:VEVENT
DTEND:20251218T134500
UID:69e91218eeec1
DTSTAMP:20260422T182320
LOCATION:Aula Delta 0A Campus scientifico via Torino (edificio Delta)
SUMMARY:SPETTROSCOPIA MOLECOLARE [CM0371] - PIETROPOLLI CHARMET Andrea\, Lezione
URL;VALUE=URI://www.unive.it/data/insegnamento/599063
DTSTART:20251218T121500
END:VEVENT
BEGIN:VEVENT
DTEND:20251219T153000
UID:69e91218eef0d
DTSTAMP:20260422T182320
LOCATION:Aula B Campus scientifico via Torino (edificio Zeta)
SUMMARY:SPETTROSCOPIA MOLECOLARE [CM0371] - PIETROPOLLI CHARMET Andrea\, Lezione
URL;VALUE=URI://www.unive.it/data/insegnamento/599063
DTSTART:20251219T140000
END:VEVENT
END:VCALENDAR