BEGIN:VCALENDAR
VERSION:2.0
PRODID:-//hacksw/handcal//NONSGML v1.0//EN
CALSCALE:GREGORIAN
X-WR-CALNAME:STORIA ROMANA II [FT0272]
DESCRIPTION:STORIA ROMANA II [FT0272]
REFRESH-INTERVAL;VALUE=DURATION:P1D
X-WR-TIMEZONE:Europe/Rome
BEGIN:VEVENT
DTEND:20251110T190000
UID:69e775c976441
DTSTAMP:20260421T130409
LOCATION:Aula 3 Rio Novo
SUMMARY:STORIA ROMANA II [FT0272] - MANGIAMELI Rita\, Lezione
URL;VALUE=URI://www.unive.it/data/insegnamento/599152
DTSTART:20251110T173000
END:VEVENT
BEGIN:VEVENT
DTEND:20251111T190000
UID:69e775c976792
DTSTAMP:20260421T130409
LOCATION:Auditorium S. Margherita - Emanuele Severino Auditorium Santa Margherita - Emanuele Severino
SUMMARY:STORIA ROMANA II [FT0272] - MANGIAMELI Rita\, Lezione
URL;VALUE=URI://www.unive.it/data/insegnamento/599152
DTSTART:20251111T173000
END:VEVENT
BEGIN:VEVENT
DTEND:20251112T190000
UID:69e775c977a7f
DTSTAMP:20260421T130409
LOCATION:Auditorium S. Margherita - Emanuele Severino Auditorium Santa Margherita - Emanuele Severino
SUMMARY:STORIA ROMANA II [FT0272] - MANGIAMELI Rita\, Lezione
URL;VALUE=URI://www.unive.it/data/insegnamento/599152
DTSTART:20251112T173000
END:VEVENT
BEGIN:VEVENT
DTEND:20251117T190000
UID:69e775c977ae0
DTSTAMP:20260421T130409
LOCATION:Aula 3 Rio Novo
SUMMARY:STORIA ROMANA II [FT0272] - MANGIAMELI Rita\, Lezione
URL;VALUE=URI://www.unive.it/data/insegnamento/599152
DTSTART:20251117T173000
END:VEVENT
BEGIN:VEVENT
DTEND:20251118T190000
UID:69e775c977b34
DTSTAMP:20260421T130409
LOCATION:Auditorium S. Margherita - Emanuele Severino Auditorium Santa Margherita - Emanuele Severino
SUMMARY:STORIA ROMANA II [FT0272] - MANGIAMELI Rita\, Lezione
URL;VALUE=URI://www.unive.it/data/insegnamento/599152
DTSTART:20251118T173000
END:VEVENT
BEGIN:VEVENT
DTEND:20251119T190000
UID:69e775c977bb0
DTSTAMP:20260421T130409
LOCATION:Auditorium S. Margherita - Emanuele Severino Auditorium Santa Margherita - Emanuele Severino
SUMMARY:STORIA ROMANA II [FT0272] - MANGIAMELI Rita\, Lezione
URL;VALUE=URI://www.unive.it/data/insegnamento/599152
DTSTART:20251119T173000
END:VEVENT
BEGIN:VEVENT
DTEND:20251124T190000
UID:69e775c978369
DTSTAMP:20260421T130409
LOCATION:Aula 3 Rio Novo
SUMMARY:STORIA ROMANA II [FT0272] - MANGIAMELI Rita\, Lezione
URL;VALUE=URI://www.unive.it/data/insegnamento/599152
DTSTART:20251124T173000
END:VEVENT
BEGIN:VEVENT
DTEND:20251125T190000
UID:69e775c9784b2
DTSTAMP:20260421T130409
LOCATION:Aula 2C Polo didattico San Basilio (Magazzino 5)
SUMMARY:STORIA ROMANA II [FT0272] - MANGIAMELI Rita\, Lezione
URL;VALUE=URI://www.unive.it/data/insegnamento/599152
DTSTART:20251125T173000
END:VEVENT
BEGIN:VEVENT
DTEND:20251126T190000
UID:69e775c978529
DTSTAMP:20260421T130409
LOCATION:Auditorium S. Margherita - Emanuele Severino Auditorium Santa Margherita - Emanuele Severino
SUMMARY:STORIA ROMANA II [FT0272] - MANGIAMELI Rita\, Lezione
URL;VALUE=URI://www.unive.it/data/insegnamento/599152
DTSTART:20251126T173000
END:VEVENT
BEGIN:VEVENT
DTEND:20251201T190000
UID:69e775c97858c
DTSTAMP:20260421T130409
LOCATION:Aula 3 Rio Novo
SUMMARY:STORIA ROMANA II [FT0272] - MANGIAMELI Rita\, Lezione
URL;VALUE=URI://www.unive.it/data/insegnamento/599152
DTSTART:20251201T173000
END:VEVENT
BEGIN:VEVENT
DTEND:20251209T190000
UID:69e775c9785db
DTSTAMP:20260421T130409
LOCATION:Auditorium S. Margherita - Emanuele Severino Auditorium Santa Margherita - Emanuele Severino
SUMMARY:STORIA ROMANA II [FT0272] - MANGIAMELI Rita\, Lezione
URL;VALUE=URI://www.unive.it/data/insegnamento/599152
DTSTART:20251209T173000
END:VEVENT
BEGIN:VEVENT
DTEND:20251210T190000
UID:69e775c978630
DTSTAMP:20260421T130409
LOCATION:Auditorium S. Margherita - Emanuele Severino Auditorium Santa Margherita - Emanuele Severino
SUMMARY:STORIA ROMANA II [FT0272] - MANGIAMELI Rita\, Lezione
URL;VALUE=URI://www.unive.it/data/insegnamento/599152
DTSTART:20251210T173000
END:VEVENT
BEGIN:VEVENT
DTEND:20251215T190000
UID:69e775c97867e
DTSTAMP:20260421T130409
LOCATION:Aula 3 Rio Novo
SUMMARY:STORIA ROMANA II [FT0272] - MANGIAMELI Rita\, Lezione
URL;VALUE=URI://www.unive.it/data/insegnamento/599152
DTSTART:20251215T173000
END:VEVENT
BEGIN:VEVENT
DTEND:20251216T190000
UID:69e775c9786c7
DTSTAMP:20260421T130409
LOCATION:Auditorium S. Margherita - Emanuele Severino Auditorium Santa Margherita - Emanuele Severino
SUMMARY:STORIA ROMANA II [FT0272] - MANGIAMELI Rita\, Lezione
URL;VALUE=URI://www.unive.it/data/insegnamento/599152
DTSTART:20251216T173000
END:VEVENT
BEGIN:VEVENT
DTEND:20251217T190000
UID:69e775c978717
DTSTAMP:20260421T130409
LOCATION:Auditorium S. Margherita - Emanuele Severino Auditorium Santa Margherita - Emanuele Severino
SUMMARY:STORIA ROMANA II [FT0272] - MANGIAMELI Rita\, Lezione
URL;VALUE=URI://www.unive.it/data/insegnamento/599152
DTSTART:20251217T173000
END:VEVENT
END:VCALENDAR