BEGIN:VCALENDAR
VERSION:2.0
PRODID:-//hacksw/handcal//NONSGML v1.0//EN
CALSCALE:GREGORIAN
X-WR-CALNAME:EUROPEAN AND ITALIAN HISTORY FROM 1914 TO PRESENT [FOY38]
DESCRIPTION:EUROPEAN AND ITALIAN HISTORY FROM 1914 TO PRESENT [FOY38]
REFRESH-INTERVAL;VALUE=DURATION:P1D
X-WR-TIMEZONE:Europe/Rome
BEGIN:VEVENT
DTEND:20260408T190000
UID:69e7962e21097
DTSTAMP:20260421T152222
LOCATION:Aula 0L Polo didattico San Basilio (Magazzino 4)
SUMMARY:EUROPEAN AND ITALIAN HISTORY FROM 1914 TO PRESENT [FOY38] - MOCELLIN FRANCESCO\, Lezione
URL;VALUE=URI://www.unive.it/data/insegnamento/600979
DTSTART:20260408T173000
END:VEVENT
BEGIN:VEVENT
DTEND:20260413T190000
UID:69e7962e21115
DTSTAMP:20260421T152222
LOCATION:Aula 0L Polo didattico San Basilio (Magazzino 4)
SUMMARY:EUROPEAN AND ITALIAN HISTORY FROM 1914 TO PRESENT [FOY38] - MOCELLIN FRANCESCO\, Lezione
URL;VALUE=URI://www.unive.it/data/insegnamento/600979
DTSTART:20260413T173000
END:VEVENT
BEGIN:VEVENT
DTEND:20260415T190000
UID:69e7962e21168
DTSTAMP:20260421T152222
LOCATION:Aula 0L Polo didattico San Basilio (Magazzino 4)
SUMMARY:EUROPEAN AND ITALIAN HISTORY FROM 1914 TO PRESENT [FOY38] - MOCELLIN FRANCESCO\, Lezione
URL;VALUE=URI://www.unive.it/data/insegnamento/600979
DTSTART:20260415T173000
END:VEVENT
BEGIN:VEVENT
DTEND:20260420T190000
UID:69e7962e211ca
DTSTAMP:20260421T152222
LOCATION:Aula 0L Polo didattico San Basilio (Magazzino 4)
SUMMARY:EUROPEAN AND ITALIAN HISTORY FROM 1914 TO PRESENT [FOY38] - MOCELLIN FRANCESCO\, Lezione
URL;VALUE=URI://www.unive.it/data/insegnamento/600979
DTSTART:20260420T173000
END:VEVENT
BEGIN:VEVENT
DTEND:20260422T190000
UID:69e7962e21217
DTSTAMP:20260421T152222
LOCATION:Aula 0L Polo didattico San Basilio (Magazzino 4)
SUMMARY:EUROPEAN AND ITALIAN HISTORY FROM 1914 TO PRESENT [FOY38] - MOCELLIN FRANCESCO\, Lezione
URL;VALUE=URI://www.unive.it/data/insegnamento/600979
DTSTART:20260422T173000
END:VEVENT
BEGIN:VEVENT
DTEND:20260427T190000
UID:69e7962e21263
DTSTAMP:20260421T152222
LOCATION:Aula 0L Polo didattico San Basilio (Magazzino 4)
SUMMARY:EUROPEAN AND ITALIAN HISTORY FROM 1914 TO PRESENT [FOY38] - MOCELLIN FRANCESCO\, Lezione
URL;VALUE=URI://www.unive.it/data/insegnamento/600979
DTSTART:20260427T173000
END:VEVENT
BEGIN:VEVENT
DTEND:20260429T190000
UID:69e7962e212af
DTSTAMP:20260421T152222
LOCATION:Aula 0L Polo didattico San Basilio (Magazzino 4)
SUMMARY:EUROPEAN AND ITALIAN HISTORY FROM 1914 TO PRESENT [FOY38] - MOCELLIN FRANCESCO\, Lezione
URL;VALUE=URI://www.unive.it/data/insegnamento/600979
DTSTART:20260429T173000
END:VEVENT
BEGIN:VEVENT
DTEND:20260504T190000
UID:69e7962e212fc
DTSTAMP:20260421T152222
LOCATION:Aula 0L Polo didattico San Basilio (Magazzino 4)
SUMMARY:EUROPEAN AND ITALIAN HISTORY FROM 1914 TO PRESENT [FOY38] - MOCELLIN FRANCESCO\, Lezione
URL;VALUE=URI://www.unive.it/data/insegnamento/600979
DTSTART:20260504T173000
END:VEVENT
BEGIN:VEVENT
DTEND:20260506T190000
UID:69e7962e21348
DTSTAMP:20260421T152222
LOCATION:Aula 0L Polo didattico San Basilio (Magazzino 4)
SUMMARY:EUROPEAN AND ITALIAN HISTORY FROM 1914 TO PRESENT [FOY38] - MOCELLIN FRANCESCO\, Lezione
URL;VALUE=URI://www.unive.it/data/insegnamento/600979
DTSTART:20260506T173000
END:VEVENT
BEGIN:VEVENT
DTEND:20260511T190000
UID:69e7962e21393
DTSTAMP:20260421T152222
LOCATION:Aula 0L Polo didattico San Basilio (Magazzino 4)
SUMMARY:EUROPEAN AND ITALIAN HISTORY FROM 1914 TO PRESENT [FOY38] - MOCELLIN FRANCESCO\, Lezione
URL;VALUE=URI://www.unive.it/data/insegnamento/600979
DTSTART:20260511T173000
END:VEVENT
BEGIN:VEVENT
DTEND:20260513T190000
UID:69e7962e213df
DTSTAMP:20260421T152222
LOCATION:Aula 0L Polo didattico San Basilio (Magazzino 4)
SUMMARY:EUROPEAN AND ITALIAN HISTORY FROM 1914 TO PRESENT [FOY38] - MOCELLIN FRANCESCO\, Lezione
URL;VALUE=URI://www.unive.it/data/insegnamento/600979
DTSTART:20260513T173000
END:VEVENT
BEGIN:VEVENT
DTEND:20260518T190000
UID:69e7962e2142a
DTSTAMP:20260421T152222
LOCATION:Aula 0L Polo didattico San Basilio (Magazzino 4)
SUMMARY:EUROPEAN AND ITALIAN HISTORY FROM 1914 TO PRESENT [FOY38] - MOCELLIN FRANCESCO\, Lezione
URL;VALUE=URI://www.unive.it/data/insegnamento/600979
DTSTART:20260518T173000
END:VEVENT
BEGIN:VEVENT
DTEND:20260520T190000
UID:69e7962e21477
DTSTAMP:20260421T152222
LOCATION:Aula 0L Polo didattico San Basilio (Magazzino 4)
SUMMARY:EUROPEAN AND ITALIAN HISTORY FROM 1914 TO PRESENT [FOY38] - MOCELLIN FRANCESCO\, Lezione
URL;VALUE=URI://www.unive.it/data/insegnamento/600979
DTSTART:20260520T173000
END:VEVENT
BEGIN:VEVENT
DTEND:20260525T190000
UID:69e7962e214c4
DTSTAMP:20260421T152222
LOCATION:Aula 0L Polo didattico San Basilio (Magazzino 4)
SUMMARY:EUROPEAN AND ITALIAN HISTORY FROM 1914 TO PRESENT [FOY38] - MOCELLIN FRANCESCO\, Lezione
URL;VALUE=URI://www.unive.it/data/insegnamento/600979
DTSTART:20260525T173000
END:VEVENT
BEGIN:VEVENT
DTEND:20260527T190000
UID:69e7962e21513
DTSTAMP:20260421T152222
LOCATION:Aula 0L Polo didattico San Basilio (Magazzino 4)
SUMMARY:EUROPEAN AND ITALIAN HISTORY FROM 1914 TO PRESENT [FOY38] - MOCELLIN FRANCESCO\, Lezione
URL;VALUE=URI://www.unive.it/data/insegnamento/600979
DTSTART:20260527T173000
END:VEVENT
BEGIN:VEVENT
DTEND:20260601T190000
UID:69e7962e2155e
DTSTAMP:20260421T152222
LOCATION:Aula 0L Polo didattico San Basilio (Magazzino 4)
SUMMARY:EUROPEAN AND ITALIAN HISTORY FROM 1914 TO PRESENT [FOY38] - MOCELLIN FRANCESCO\, Lezione
URL;VALUE=URI://www.unive.it/data/insegnamento/600979
DTSTART:20260601T173000
END:VEVENT
BEGIN:VEVENT
DTEND:20260603T190000
UID:69e7962e215b5
DTSTAMP:20260421T152222
LOCATION:Aula 0L Polo didattico San Basilio (Magazzino 4)
SUMMARY:EUROPEAN AND ITALIAN HISTORY FROM 1914 TO PRESENT [FOY38] - MOCELLIN FRANCESCO\, Lezione
URL;VALUE=URI://www.unive.it/data/insegnamento/600979
DTSTART:20260603T173000
END:VEVENT
BEGIN:VEVENT
DTEND:20260608T190000
UID:69e7962e21601
DTSTAMP:20260421T152222
LOCATION:Aula 0L Polo didattico San Basilio (Magazzino 4)
SUMMARY:EUROPEAN AND ITALIAN HISTORY FROM 1914 TO PRESENT [FOY38] - MOCELLIN FRANCESCO\, Lezione
URL;VALUE=URI://www.unive.it/data/insegnamento/600979
DTSTART:20260608T173000
END:VEVENT
BEGIN:VEVENT
DTEND:20260610T190000
UID:69e7962e2164c
DTSTAMP:20260421T152222
LOCATION:Aula 0L Polo didattico San Basilio (Magazzino 4)
SUMMARY:EUROPEAN AND ITALIAN HISTORY FROM 1914 TO PRESENT [FOY38] - MOCELLIN FRANCESCO\, Lezione
URL;VALUE=URI://www.unive.it/data/insegnamento/600979
DTSTART:20260610T173000
END:VEVENT
BEGIN:VEVENT
DTEND:20260615T190000
UID:69e7962e21699
DTSTAMP:20260421T152222
LOCATION:Aula 0L Polo didattico San Basilio (Magazzino 4)
SUMMARY:EUROPEAN AND ITALIAN HISTORY FROM 1914 TO PRESENT [FOY38] - MOCELLIN FRANCESCO\, Lezione
URL;VALUE=URI://www.unive.it/data/insegnamento/600979
DTSTART:20260615T173000
END:VEVENT
BEGIN:VEVENT
DTEND:20260617T190000
UID:69e7962e216e6
DTSTAMP:20260421T152222
LOCATION:Aula 0L Polo didattico San Basilio (Magazzino 4)
SUMMARY:EUROPEAN AND ITALIAN HISTORY FROM 1914 TO PRESENT [FOY38] - MOCELLIN FRANCESCO\, Lezione
URL;VALUE=URI://www.unive.it/data/insegnamento/600979
DTSTART:20260617T173000
END:VEVENT
END:VCALENDAR