BEGIN:VCALENDAR
VERSION:2.0
PRODID:-//hacksw/handcal//NONSGML v1.0//EN
CALSCALE:GREGORIAN
X-WR-CALNAME:LETTERATURA ITALIANA [FOY39]
DESCRIPTION:LETTERATURA ITALIANA [FOY39]
REFRESH-INTERVAL;VALUE=DURATION:P1D
X-WR-TIMEZONE:Europe/Rome
BEGIN:VEVENT
DTEND:20260408T190000
UID:69e4cefd9817a
DTSTAMP:20260419T124757
LOCATION:Aula seminari Palazzina Briati
SUMMARY:LETTERATURA ITALIANA [FOY39] - ZAVA GIULIA\, Lezione
URL;VALUE=URI://www.unive.it/data/insegnamento/600980
DTSTART:20260408T173000
END:VEVENT
BEGIN:VEVENT
DTEND:20260409T190000
UID:69e4cefd981fe
DTSTAMP:20260419T124757
LOCATION:Aula seminari Palazzina Briati
SUMMARY:LETTERATURA ITALIANA [FOY39] - ZAVA GIULIA\, Lezione
URL;VALUE=URI://www.unive.it/data/insegnamento/600980
DTSTART:20260409T173000
END:VEVENT
BEGIN:VEVENT
DTEND:20260410T190000
UID:69e4cefd98250
DTSTAMP:20260419T124757
LOCATION:Aula seminari Palazzina Briati
SUMMARY:LETTERATURA ITALIANA [FOY39] - ZAVA GIULIA\, Lezione
URL;VALUE=URI://www.unive.it/data/insegnamento/600980
DTSTART:20260410T154500
END:VEVENT
BEGIN:VEVENT
DTEND:20260415T190000
UID:69e4cefd9829d
DTSTAMP:20260419T124757
LOCATION:Aula seminari Palazzina Briati
SUMMARY:LETTERATURA ITALIANA [FOY39] - ZAVA GIULIA\, Lezione
URL;VALUE=URI://www.unive.it/data/insegnamento/600980
DTSTART:20260415T173000
END:VEVENT
BEGIN:VEVENT
DTEND:20260416T190000
UID:69e4cefd982e8
DTSTAMP:20260419T124757
LOCATION:Aula seminari Palazzina Briati
SUMMARY:LETTERATURA ITALIANA [FOY39] - ZAVA GIULIA\, Lezione
URL;VALUE=URI://www.unive.it/data/insegnamento/600980
DTSTART:20260416T173000
END:VEVENT
BEGIN:VEVENT
DTEND:20260417T190000
UID:69e4cefd98331
DTSTAMP:20260419T124757
LOCATION:Aula seminari Palazzina Briati
SUMMARY:LETTERATURA ITALIANA [FOY39] - ZAVA GIULIA\, Lezione
URL;VALUE=URI://www.unive.it/data/insegnamento/600980
DTSTART:20260417T154500
END:VEVENT
BEGIN:VEVENT
DTEND:20260422T190000
UID:69e4cefd9837b
DTSTAMP:20260419T124757
LOCATION:Aula seminari Palazzina Briati
SUMMARY:LETTERATURA ITALIANA [FOY39] - ZAVA GIULIA\, Lezione
URL;VALUE=URI://www.unive.it/data/insegnamento/600980
DTSTART:20260422T173000
END:VEVENT
BEGIN:VEVENT
DTEND:20260423T190000
UID:69e4cefd983c0
DTSTAMP:20260419T124757
LOCATION:Aula seminari Palazzina Briati
SUMMARY:LETTERATURA ITALIANA [FOY39] - ZAVA GIULIA\, Lezione
URL;VALUE=URI://www.unive.it/data/insegnamento/600980
DTSTART:20260423T154500
END:VEVENT
BEGIN:VEVENT
DTEND:20260424T190000
UID:69e4cefd9840a
DTSTAMP:20260419T124757
LOCATION:Aula seminari Palazzina Briati
SUMMARY:LETTERATURA ITALIANA [FOY39] - ZAVA GIULIA\, Lezione
URL;VALUE=URI://www.unive.it/data/insegnamento/600980
DTSTART:20260424T154500
END:VEVENT
BEGIN:VEVENT
DTEND:20260429T190000
UID:69e4cefd98455
DTSTAMP:20260419T124757
LOCATION:Aula seminari Palazzina Briati
SUMMARY:LETTERATURA ITALIANA [FOY39] - ZAVA GIULIA\, Lezione
URL;VALUE=URI://www.unive.it/data/insegnamento/600980
DTSTART:20260429T173000
END:VEVENT
BEGIN:VEVENT
DTEND:20260430T190000
UID:69e4cefd984ae
DTSTAMP:20260419T124757
LOCATION:Aula seminari Palazzina Briati
SUMMARY:LETTERATURA ITALIANA [FOY39] - ZAVA GIULIA\, Lezione
URL;VALUE=URI://www.unive.it/data/insegnamento/600980
DTSTART:20260430T173000
END:VEVENT
BEGIN:VEVENT
DTEND:20260501T190000
UID:69e4cefd984f9
DTSTAMP:20260419T124757
LOCATION:Aula seminari Palazzina Briati
SUMMARY:LETTERATURA ITALIANA [FOY39] - ZAVA GIULIA\, Lezione
URL;VALUE=URI://www.unive.it/data/insegnamento/600980
DTSTART:20260501T154500
END:VEVENT
BEGIN:VEVENT
DTEND:20260506T190000
UID:69e4cefd98542
DTSTAMP:20260419T124757
LOCATION:Aula seminari Palazzina Briati
SUMMARY:LETTERATURA ITALIANA [FOY39] - ZAVA GIULIA\, Lezione
URL;VALUE=URI://www.unive.it/data/insegnamento/600980
DTSTART:20260506T173000
END:VEVENT
BEGIN:VEVENT
DTEND:20260507T190000
UID:69e4cefd9858f
DTSTAMP:20260419T124757
LOCATION:Aula seminari Palazzina Briati
SUMMARY:LETTERATURA ITALIANA [FOY39] - ZAVA GIULIA\, Lezione
URL;VALUE=URI://www.unive.it/data/insegnamento/600980
DTSTART:20260507T173000
END:VEVENT
BEGIN:VEVENT
DTEND:20260508T190000
UID:69e4cefd985da
DTSTAMP:20260419T124757
LOCATION:Aula seminari Palazzina Briati
SUMMARY:LETTERATURA ITALIANA [FOY39] - ZAVA GIULIA\, Lezione
URL;VALUE=URI://www.unive.it/data/insegnamento/600980
DTSTART:20260508T154500
END:VEVENT
BEGIN:VEVENT
DTEND:20260513T190000
UID:69e4cefd98623
DTSTAMP:20260419T124757
LOCATION:Aula seminari Palazzina Briati
SUMMARY:LETTERATURA ITALIANA [FOY39] - ZAVA GIULIA\, Lezione
URL;VALUE=URI://www.unive.it/data/insegnamento/600980
DTSTART:20260513T173000
END:VEVENT
BEGIN:VEVENT
DTEND:20260514T190000
UID:69e4cefd9866d
DTSTAMP:20260419T124757
LOCATION:Aula seminari Palazzina Briati
SUMMARY:LETTERATURA ITALIANA [FOY39] - ZAVA GIULIA\, Lezione
URL;VALUE=URI://www.unive.it/data/insegnamento/600980
DTSTART:20260514T173000
END:VEVENT
BEGIN:VEVENT
DTEND:20260515T190000
UID:69e4cefd986b6
DTSTAMP:20260419T124757
LOCATION:Aula seminari Palazzina Briati
SUMMARY:LETTERATURA ITALIANA [FOY39] - ZAVA GIULIA\, Lezione
URL;VALUE=URI://www.unive.it/data/insegnamento/600980
DTSTART:20260515T154500
END:VEVENT
BEGIN:VEVENT
DTEND:20260520T190000
UID:69e4cefd98700
DTSTAMP:20260419T124757
LOCATION:Aula seminari Palazzina Briati
SUMMARY:LETTERATURA ITALIANA [FOY39] - ZAVA GIULIA\, Lezione
URL;VALUE=URI://www.unive.it/data/insegnamento/600980
DTSTART:20260520T173000
END:VEVENT
BEGIN:VEVENT
DTEND:20260521T190000
UID:69e4cefd98749
DTSTAMP:20260419T124757
LOCATION:Aula seminari Palazzina Briati
SUMMARY:LETTERATURA ITALIANA [FOY39] - ZAVA GIULIA\, Lezione
URL;VALUE=URI://www.unive.it/data/insegnamento/600980
DTSTART:20260521T173000
END:VEVENT
BEGIN:VEVENT
DTEND:20260522T190000
UID:69e4cefd98793
DTSTAMP:20260419T124757
LOCATION:Aula seminari Palazzina Briati
SUMMARY:LETTERATURA ITALIANA [FOY39] - ZAVA GIULIA\, Lezione
URL;VALUE=URI://www.unive.it/data/insegnamento/600980
DTSTART:20260522T154500
END:VEVENT
BEGIN:VEVENT
DTEND:20260527T190000
UID:69e4cefd987f7
DTSTAMP:20260419T124757
LOCATION:Aula seminari Palazzina Briati
SUMMARY:LETTERATURA ITALIANA [FOY39] - ZAVA GIULIA\, Lezione
URL;VALUE=URI://www.unive.it/data/insegnamento/600980
DTSTART:20260527T173000
END:VEVENT
BEGIN:VEVENT
DTEND:20260528T190000
UID:69e4cefd98842
DTSTAMP:20260419T124757
LOCATION:Aula seminari Palazzina Briati
SUMMARY:LETTERATURA ITALIANA [FOY39] - ZAVA GIULIA\, Lezione
URL;VALUE=URI://www.unive.it/data/insegnamento/600980
DTSTART:20260528T173000
END:VEVENT
BEGIN:VEVENT
DTEND:20260529T190000
UID:69e4cefd9888c
DTSTAMP:20260419T124757
LOCATION:Aula seminari Palazzina Briati
SUMMARY:LETTERATURA ITALIANA [FOY39] - ZAVA GIULIA\, Lezione
URL;VALUE=URI://www.unive.it/data/insegnamento/600980
DTSTART:20260529T154500
END:VEVENT
BEGIN:VEVENT
DTEND:20260603T190000
UID:69e4cefd988d5
DTSTAMP:20260419T124757
LOCATION:Aula seminari Palazzina Briati
SUMMARY:LETTERATURA ITALIANA [FOY39] - ZAVA GIULIA\, Lezione
URL;VALUE=URI://www.unive.it/data/insegnamento/600980
DTSTART:20260603T173000
END:VEVENT
BEGIN:VEVENT
DTEND:20260604T190000
UID:69e4cefd9891f
DTSTAMP:20260419T124757
LOCATION:Aula seminari Palazzina Briati
SUMMARY:LETTERATURA ITALIANA [FOY39] - ZAVA GIULIA\, Lezione
URL;VALUE=URI://www.unive.it/data/insegnamento/600980
DTSTART:20260604T173000
END:VEVENT
BEGIN:VEVENT
DTEND:20260605T190000
UID:69e4cefd98969
DTSTAMP:20260419T124757
LOCATION:Aula seminari Palazzina Briati
SUMMARY:LETTERATURA ITALIANA [FOY39] - ZAVA GIULIA\, Lezione
URL;VALUE=URI://www.unive.it/data/insegnamento/600980
DTSTART:20260605T154500
END:VEVENT
BEGIN:VEVENT
DTEND:20260610T190000
UID:69e4cefd989b2
DTSTAMP:20260419T124757
LOCATION:Aula seminari Palazzina Briati
SUMMARY:LETTERATURA ITALIANA [FOY39] - ZAVA GIULIA\, Lezione
URL;VALUE=URI://www.unive.it/data/insegnamento/600980
DTSTART:20260610T173000
END:VEVENT
BEGIN:VEVENT
DTEND:20260611T190000
UID:69e4cefd989fb
DTSTAMP:20260419T124757
LOCATION:Aula seminari Palazzina Briati
SUMMARY:LETTERATURA ITALIANA [FOY39] - ZAVA GIULIA\, Lezione
URL;VALUE=URI://www.unive.it/data/insegnamento/600980
DTSTART:20260611T173000
END:VEVENT
BEGIN:VEVENT
DTEND:20260612T190000
UID:69e4cefd98a44
DTSTAMP:20260419T124757
LOCATION:Aula seminari Palazzina Briati
SUMMARY:LETTERATURA ITALIANA [FOY39] - ZAVA GIULIA\, Lezione
URL;VALUE=URI://www.unive.it/data/insegnamento/600980
DTSTART:20260612T154500
END:VEVENT
BEGIN:VEVENT
DTEND:20260617T190000
UID:69e4cefd98a8d
DTSTAMP:20260419T124757
LOCATION:Aula seminari Palazzina Briati
SUMMARY:LETTERATURA ITALIANA [FOY39] - ZAVA GIULIA\, Lezione
URL;VALUE=URI://www.unive.it/data/insegnamento/600980
DTSTART:20260617T173000
END:VEVENT
BEGIN:VEVENT
DTEND:20260618T190000
UID:69e4cefd98ad6
DTSTAMP:20260419T124757
LOCATION:Aula seminari Palazzina Briati
SUMMARY:LETTERATURA ITALIANA [FOY39] - ZAVA GIULIA\, Lezione
URL;VALUE=URI://www.unive.it/data/insegnamento/600980
DTSTART:20260618T173000
END:VEVENT
BEGIN:VEVENT
DTEND:20260619T190000
UID:69e4cefd98b20
DTSTAMP:20260419T124757
LOCATION:Aula seminari Palazzina Briati
SUMMARY:LETTERATURA ITALIANA [FOY39] - ZAVA GIULIA\, Lezione
URL;VALUE=URI://www.unive.it/data/insegnamento/600980
DTSTART:20260619T154500
END:VEVENT
END:VCALENDAR