BEGIN:VCALENDAR
VERSION:2.0
PRODID:-//hacksw/handcal//NONSGML v1.0//EN
CALSCALE:GREGORIAN
X-WR-CALNAME:LABORATORIO DI FISICA SPERIMENTALE [CT0566]
DESCRIPTION:LABORATORIO DI FISICA SPERIMENTALE [CT0566]
REFRESH-INTERVAL;VALUE=DURATION:P1D
X-WR-TIMEZONE:Europe/Rome
BEGIN:VEVENT
DTEND:20251105T171500
UID:69e7962f52958
DTSTAMP:20260421T152223
LOCATION:Laboratorio Chimica Fisica Campus scientifico via Torino (edificio Beta)
SUMMARY:LABORATORIO DI FISICA SPERIMENTALE [CT0566] - CATTARUZZA Elti\, Laboratorio
URL;VALUE=URI://www.unive.it/data/insegnamento/602737
DTSTART:20251105T140000
END:VEVENT
BEGIN:VEVENT
DTEND:20251110T171500
UID:69e7962f529dc
DTSTAMP:20260421T152223
LOCATION:Laboratorio Chimica Fisica Campus scientifico via Torino (edificio Beta)
SUMMARY:LABORATORIO DI FISICA SPERIMENTALE [CT0566] - CATTARUZZA Elti\, Laboratorio
URL;VALUE=URI://www.unive.it/data/insegnamento/602737
DTSTART:20251110T140000
END:VEVENT
BEGIN:VEVENT
DTEND:20251112T171500
UID:69e7962f52a30
DTSTAMP:20260421T152223
LOCATION:Laboratorio Chimica Fisica Campus scientifico via Torino (edificio Beta)
SUMMARY:LABORATORIO DI FISICA SPERIMENTALE [CT0566] - CATTARUZZA Elti\, Laboratorio
URL;VALUE=URI://www.unive.it/data/insegnamento/602737
DTSTART:20251112T140000
END:VEVENT
BEGIN:VEVENT
DTEND:20251117T171500
UID:69e7962f52a78
DTSTAMP:20260421T152223
LOCATION:Laboratorio Chimica Fisica Campus scientifico via Torino (edificio Beta)
SUMMARY:LABORATORIO DI FISICA SPERIMENTALE [CT0566] - CATTARUZZA Elti\, Laboratorio
URL;VALUE=URI://www.unive.it/data/insegnamento/602737
DTSTART:20251117T140000
END:VEVENT
BEGIN:VEVENT
DTEND:20251119T171500
UID:69e7962f52ac6
DTSTAMP:20260421T152223
LOCATION:Laboratorio Chimica Fisica Campus scientifico via Torino (edificio Beta)
SUMMARY:LABORATORIO DI FISICA SPERIMENTALE [CT0566] - CATTARUZZA Elti\, Laboratorio
URL;VALUE=URI://www.unive.it/data/insegnamento/602737
DTSTART:20251119T140000
END:VEVENT
BEGIN:VEVENT
DTEND:20251124T171500
UID:69e7962f52b11
DTSTAMP:20260421T152223
LOCATION:Laboratorio Chimica Fisica Campus scientifico via Torino (edificio Beta)
SUMMARY:LABORATORIO DI FISICA SPERIMENTALE [CT0566] - CATTARUZZA Elti\, Laboratorio
URL;VALUE=URI://www.unive.it/data/insegnamento/602737
DTSTART:20251124T140000
END:VEVENT
BEGIN:VEVENT
DTEND:20251126T171500
UID:69e7962f52b5e
DTSTAMP:20260421T152223
LOCATION:Laboratorio Chimica Fisica Campus scientifico via Torino (edificio Beta)
SUMMARY:LABORATORIO DI FISICA SPERIMENTALE [CT0566] - CATTARUZZA Elti\, Laboratorio
URL;VALUE=URI://www.unive.it/data/insegnamento/602737
DTSTART:20251126T140000
END:VEVENT
END:VCALENDAR