BEGIN:VCALENDAR
VERSION:2.0
PRODID:-//hacksw/handcal//NONSGML v1.0//EN
CALSCALE:GREGORIAN
X-WR-CALNAME:THE LAW OF THE NEW SPACE ECONOMY [SIE080]
DESCRIPTION:THE LAW OF THE NEW SPACE ECONOMY [SIE080]
REFRESH-INTERVAL;VALUE=DURATION:P1D
X-WR-TIMEZONE:Europe/Rome
BEGIN:VEVENT
DTEND:20260305T171500
UID:69e92d764898e
DTSTAMP:20260422T202006
LOCATION:Aula B2 Palazzina Briati
SUMMARY:THE LAW OF THE NEW SPACE ECONOMY [SIE080] - VETTOREL Arianna\, Lezione
URL;VALUE=URI://www.unive.it/data/insegnamento/603754
DTSTART:20260305T154500
END:VEVENT
BEGIN:VEVENT
DTEND:20260306T171500
UID:69e92d7648a11
DTSTAMP:20260422T202006
LOCATION:Aula 0L Polo didattico San Basilio (Magazzino 4)
SUMMARY:THE LAW OF THE NEW SPACE ECONOMY [SIE080] - VETTOREL Arianna\, Lezione
URL;VALUE=URI://www.unive.it/data/insegnamento/603754
DTSTART:20260306T154500
END:VEVENT
BEGIN:VEVENT
DTEND:20260312T171500
UID:69e92d7648a53
DTSTAMP:20260422T202006
LOCATION:Aula B2 Palazzina Briati
SUMMARY:THE LAW OF THE NEW SPACE ECONOMY [SIE080] - VETTOREL Arianna\, Lezione
URL;VALUE=URI://www.unive.it/data/insegnamento/603754
DTSTART:20260312T154500
END:VEVENT
BEGIN:VEVENT
DTEND:20260313T171500
UID:69e92d7648aa4
DTSTAMP:20260422T202006
LOCATION:Aula 0L Polo didattico San Basilio (Magazzino 4)
SUMMARY:THE LAW OF THE NEW SPACE ECONOMY [SIE080] - VETTOREL Arianna\, Lezione
URL;VALUE=URI://www.unive.it/data/insegnamento/603754
DTSTART:20260313T154500
END:VEVENT
BEGIN:VEVENT
DTEND:20260319T171500
UID:69e92d7648af1
DTSTAMP:20260422T202006
LOCATION:Aula B2 Palazzina Briati
SUMMARY:THE LAW OF THE NEW SPACE ECONOMY [SIE080] - VETTOREL Arianna\, Lezione
URL;VALUE=URI://www.unive.it/data/insegnamento/603754
DTSTART:20260319T154500
END:VEVENT
BEGIN:VEVENT
DTEND:20260320T171500
UID:69e92d7648b3e
DTSTAMP:20260422T202006
LOCATION:Aula 0L Polo didattico San Basilio (Magazzino 4)
SUMMARY:THE LAW OF THE NEW SPACE ECONOMY [SIE080] - VETTOREL Arianna\, Lezione
URL;VALUE=URI://www.unive.it/data/insegnamento/603754
DTSTART:20260320T154500
END:VEVENT
BEGIN:VEVENT
DTEND:20260326T171500
UID:69e92d7648b91
DTSTAMP:20260422T202006
LOCATION:Aula B2 Palazzina Briati
SUMMARY:THE LAW OF THE NEW SPACE ECONOMY [SIE080] - VETTOREL Arianna\, Lezione
URL;VALUE=URI://www.unive.it/data/insegnamento/603754
DTSTART:20260326T154500
END:VEVENT
BEGIN:VEVENT
DTEND:20260327T171500
UID:69e92d7648be2
DTSTAMP:20260422T202006
LOCATION:Aula 0L Polo didattico San Basilio (Magazzino 4)
SUMMARY:THE LAW OF THE NEW SPACE ECONOMY [SIE080] - VETTOREL Arianna\, Lezione
URL;VALUE=URI://www.unive.it/data/insegnamento/603754
DTSTART:20260327T154500
END:VEVENT
BEGIN:VEVENT
DTEND:20260402T171500
UID:69e92d7648c2e
DTSTAMP:20260422T202006
LOCATION:Aula B2 Palazzina Briati
SUMMARY:THE LAW OF THE NEW SPACE ECONOMY [SIE080] - VETTOREL Arianna\, Lezione
URL;VALUE=URI://www.unive.it/data/insegnamento/603754
DTSTART:20260402T154500
END:VEVENT
BEGIN:VEVENT
DTEND:20260403T171500
UID:69e92d7648c79
DTSTAMP:20260422T202006
LOCATION:Aula 0L Polo didattico San Basilio (Magazzino 4)
SUMMARY:THE LAW OF THE NEW SPACE ECONOMY [SIE080] - VETTOREL Arianna\, Lezione
URL;VALUE=URI://www.unive.it/data/insegnamento/603754
DTSTART:20260403T154500
END:VEVENT
BEGIN:VEVENT
DTEND:20260409T171500
UID:69e92d7648cc3
DTSTAMP:20260422T202006
LOCATION:Aula B2 Palazzina Briati
SUMMARY:THE LAW OF THE NEW SPACE ECONOMY [SIE080] - VETTOREL Arianna\, Lezione
URL;VALUE=URI://www.unive.it/data/insegnamento/603754
DTSTART:20260409T154500
END:VEVENT
BEGIN:VEVENT
DTEND:20260410T171500
UID:69e92d7648d0e
DTSTAMP:20260422T202006
LOCATION:Aula 0L Polo didattico San Basilio (Magazzino 4)
SUMMARY:THE LAW OF THE NEW SPACE ECONOMY [SIE080] - VETTOREL Arianna\, Lezione
URL;VALUE=URI://www.unive.it/data/insegnamento/603754
DTSTART:20260410T154500
END:VEVENT
BEGIN:VEVENT
DTEND:20260416T171500
UID:69e92d7648d58
DTSTAMP:20260422T202006
LOCATION:Aula B2 Palazzina Briati
SUMMARY:THE LAW OF THE NEW SPACE ECONOMY [SIE080] - VETTOREL Arianna\, Lezione
URL;VALUE=URI://www.unive.it/data/insegnamento/603754
DTSTART:20260416T154500
END:VEVENT
BEGIN:VEVENT
DTEND:20260417T171500
UID:69e92d7648da3
DTSTAMP:20260422T202006
LOCATION:Aula 0L Polo didattico San Basilio (Magazzino 4)
SUMMARY:THE LAW OF THE NEW SPACE ECONOMY [SIE080] - VETTOREL Arianna\, Lezione
URL;VALUE=URI://www.unive.it/data/insegnamento/603754
DTSTART:20260417T154500
END:VEVENT
BEGIN:VEVENT
DTEND:20260423T171500
UID:69e92d7648dee
DTSTAMP:20260422T202006
LOCATION:Aula B2 Palazzina Briati
SUMMARY:THE LAW OF THE NEW SPACE ECONOMY [SIE080] - VETTOREL Arianna\, Lezione
URL;VALUE=URI://www.unive.it/data/insegnamento/603754
DTSTART:20260423T154500
END:VEVENT
BEGIN:VEVENT
DTEND:20260424T171500
UID:69e92d7648e3d
DTSTAMP:20260422T202006
LOCATION:Aula 0L Polo didattico San Basilio (Magazzino 4)
SUMMARY:THE LAW OF THE NEW SPACE ECONOMY [SIE080] - VETTOREL Arianna\, Lezione
URL;VALUE=URI://www.unive.it/data/insegnamento/603754
DTSTART:20260424T154500
END:VEVENT
BEGIN:VEVENT
DTEND:20260430T171500
UID:69e92d7648e88
DTSTAMP:20260422T202006
LOCATION:Aula B2 Palazzina Briati
SUMMARY:THE LAW OF THE NEW SPACE ECONOMY [SIE080] - VETTOREL Arianna\, Lezione
URL;VALUE=URI://www.unive.it/data/insegnamento/603754
DTSTART:20260430T154500
END:VEVENT
BEGIN:VEVENT
DTEND:20260507T171500
UID:69e92d7648ed3
DTSTAMP:20260422T202006
LOCATION:Aula B2 Palazzina Briati
SUMMARY:THE LAW OF THE NEW SPACE ECONOMY [SIE080] - VETTOREL Arianna\, Lezione
URL;VALUE=URI://www.unive.it/data/insegnamento/603754
DTSTART:20260507T154500
END:VEVENT
BEGIN:VEVENT
DTEND:20260508T171500
UID:69e92d7648f1d
DTSTAMP:20260422T202006
LOCATION:Aula 0L Polo didattico San Basilio (Magazzino 4)
SUMMARY:THE LAW OF THE NEW SPACE ECONOMY [SIE080] - VETTOREL Arianna\, Lezione
URL;VALUE=URI://www.unive.it/data/insegnamento/603754
DTSTART:20260508T154500
END:VEVENT
BEGIN:VEVENT
DTEND:20260514T171500
UID:69e92d7648f68
DTSTAMP:20260422T202006
LOCATION:Aula B2 Palazzina Briati
SUMMARY:THE LAW OF THE NEW SPACE ECONOMY [SIE080] - VETTOREL Arianna\, Lezione
URL;VALUE=URI://www.unive.it/data/insegnamento/603754
DTSTART:20260514T154500
END:VEVENT
BEGIN:VEVENT
DTEND:20260515T171500
UID:69e92d7648fb2
DTSTAMP:20260422T202006
LOCATION:Aula 0L Polo didattico San Basilio (Magazzino 4)
SUMMARY:THE LAW OF THE NEW SPACE ECONOMY [SIE080] - VETTOREL Arianna\, Lezione
URL;VALUE=URI://www.unive.it/data/insegnamento/603754
DTSTART:20260515T154500
END:VEVENT
BEGIN:VEVENT
DTEND:20260521T171500
UID:69e92d7648ffd
DTSTAMP:20260422T202006
LOCATION:Aula B2 Palazzina Briati
SUMMARY:THE LAW OF THE NEW SPACE ECONOMY [SIE080] - VETTOREL Arianna\, Lezione
URL;VALUE=URI://www.unive.it/data/insegnamento/603754
DTSTART:20260521T154500
END:VEVENT
BEGIN:VEVENT
DTEND:20260522T171500
UID:69e92d7649047
DTSTAMP:20260422T202006
LOCATION:Aula 0L Polo didattico San Basilio (Magazzino 4)
SUMMARY:THE LAW OF THE NEW SPACE ECONOMY [SIE080] - VETTOREL Arianna\, Lezione
URL;VALUE=URI://www.unive.it/data/insegnamento/603754
DTSTART:20260522T154500
END:VEVENT
BEGIN:VEVENT
DTEND:20260528T171500
UID:69e92d7649092
DTSTAMP:20260422T202006
LOCATION:Aula B2 Palazzina Briati
SUMMARY:THE LAW OF THE NEW SPACE ECONOMY [SIE080] - VETTOREL Arianna\, Lezione
URL;VALUE=URI://www.unive.it/data/insegnamento/603754
DTSTART:20260528T154500
END:VEVENT
BEGIN:VEVENT
DTEND:20260529T171500
UID:69e92d76490dc
DTSTAMP:20260422T202006
LOCATION:Aula 0L Polo didattico San Basilio (Magazzino 4)
SUMMARY:THE LAW OF THE NEW SPACE ECONOMY [SIE080] - VETTOREL Arianna\, Lezione
URL;VALUE=URI://www.unive.it/data/insegnamento/603754
DTSTART:20260529T154500
END:VEVENT
END:VCALENDAR